BEGIN:VCALENDAR
VERSION:2.0
PRODID:-//Περιπατητική Ομάδα Υμηττού - ECPv6.15.20//NONSGML v1.0//EN
CALSCALE:GREGORIAN
METHOD:PUBLISH
X-WR-CALNAME:Περιπατητική Ομάδα Υμηττού
X-ORIGINAL-URL:https://poymittou.gr
X-WR-CALDESC:Events for Περιπατητική Ομάδα Υμηττού
REFRESH-INTERVAL;VALUE=DURATION:PT1H
X-Robots-Tag:noindex
X-PUBLISHED-TTL:PT1H
BEGIN:VTIMEZONE
TZID:Europe/Athens
BEGIN:DAYLIGHT
TZOFFSETFROM:+0200
TZOFFSETTO:+0300
TZNAME:EEST
DTSTART:20240331T010000
END:DAYLIGHT
BEGIN:STANDARD
TZOFFSETFROM:+0300
TZOFFSETTO:+0200
TZNAME:EET
DTSTART:20241027T010000
END:STANDARD
BEGIN:DAYLIGHT
TZOFFSETFROM:+0200
TZOFFSETTO:+0300
TZNAME:EEST
DTSTART:20250330T010000
END:DAYLIGHT
BEGIN:STANDARD
TZOFFSETFROM:+0300
TZOFFSETTO:+0200
TZNAME:EET
DTSTART:20251026T010000
END:STANDARD
BEGIN:DAYLIGHT
TZOFFSETFROM:+0200
TZOFFSETTO:+0300
TZNAME:EEST
DTSTART:20260329T010000
END:DAYLIGHT
BEGIN:STANDARD
TZOFFSETFROM:+0300
TZOFFSETTO:+0200
TZNAME:EET
DTSTART:20261025T010000
END:STANDARD
END:VTIMEZONE
BEGIN:VEVENT
DTSTART;TZID=Europe/Athens:20250511T081500
DTEND;TZID=Europe/Athens:20250511T131500
DTSTAMP:20260418T062506
CREATED:20250505T170752Z
LAST-MODIFIED:20250505T172126Z
UID:2409-1746951300-1746969300@poymittou.gr
SUMMARY:Κορακοβούνι Υμηττού
DESCRIPTION:Αυτή την Κυριακή θα πεζοπορήσουμε από τη Μονή Καισαριανής ως το μεγάλο “κούκο”\, χαρακτηριστικό του Κορακοβουνίου\, όπου θ’ απολαύσουμε τη θέα προς Εύβοια\, Πειραιά\, Αίγινα\, Πεντέλη\, Πάρνηθα όπως και την κορυφή Εύζωνα του Υμηττού με τις κεραίες.\nΘα ξεκινήσουμε από την Μονή Καισαριανής και ακολουθώντας το κλασικό μονοπάτι του Αισθητικού δάσους και στη συνέχεια το πανέμορφο Μονοπάτι 5\, θα ανέβουμε ψηλά στο διάσελο του ΟΤΕ. Στη συνέχεια θα ακολουθήσουμε το μονοπάτι 10 της κορυφής για να επισκεφτούμε την πρώτη κορυφή του Κορακοβουνίου (728μ ) και αναλόγως τη δυναμική της ομάδας την δεύτερη κορυφή του. \nΗ πεζοπορία της Κυριακής απευθύνεται σε άτομα με καλή φυσική κατάσταση . \nΣτοιχεία Διαδρομής:\nΑπόσταση: ~ 12χλμ.\nΔιάρκεια: ~5 ώρες (με τις στάσεις).\nΥψομετρική: + 540μ.\nB. Δ. : 1+/5 \nΣΗΜΕΙΟ ΣΥΝΑΝΤΗΣΗΣ : Μονή Καισαριανής ( πηγή Κριού)\nΩΡΑ : 8.15 π.μ. \nΠΡΟΣΟΧΗ: η στάθμευση των οχημάτων επιτρέπεται στο παρκινγκ μετά τη Μονή και σε όλη τη κάθοδο! \nΚόστος : 3€ για τα μη μέλη\, δωρεάν για τα ενεργά μέλη της ΠΟΥ ( έχουν πληρώσει την συνδρομή του 2025 ) \n🛑 Απαραίτητα μποτάκια πεζοπορίας 🥾 \nΕξοπλισμός πεζοπορίας:\n– Νερό (1.5lt)🍶\n– Μπατόν 🦯\n– Σνάκ (φρούτο\, μπάρα δημητριακών κ.α.)🍌\n– Ατομικό Φαρμακείο⛑\n– Αντιανεμικό💨🧥\n-Αδιάβροχο 💦 \nΔηλώσεις μέσω της ηλεκτρονικής φόρμας\,\nhttps://forms.gle/P8kUjaTpRB3mwNF6A \nή\nστα γραφεία της ομάδας (Οδεμησίου 12- Καισαριανή)\, τηλ. 2107245353\,\nΤετάρτη\, ώρες 18.00-21.00 \nΟ αρχηγός της εκδρομής έχει το δικαίωμα\, να τροποποιήσει ή να ματαιώσει ένα πρόγραμμα που είναι σε εξέλιξη ή πριν την έναρξη αυτού\, για λόγους ασφάλειας ή ανωτέρας βίας (φυσικές καταστροφές\, ακατάλληλες καιρικές συνθήκες\, κλπ) ή και να αποκλείσει συμμετέχοντα λόγω έλλειψης ορειβατικού εξοπλισμού. Όποιος συμμετέχει\, γνωρίζει τις απαιτήσεις και την επικινδυνότητα της δραστηριότητας στην οποία συμμετέχει και αναλαμβάνει ατομικά την ευθύνη της συμμετοχής του στην δραστηριότητα\, όπως άλλωστε προβλέπεται από την διακήρυξη του Τυρόλου 8η Σεπτεμβρίου 2003 παράρτημα 1\, άρθρο 1 – Περί Ατομικής Ευθύνης\, αποδεχόμενος τους κινδύνους που ενέχει καθώς και την ευθύνη για την ασφάλειά του. Επίσης πρέπει να έχει άριστη σωματική & ψυχική υγεία και να ενημερώνει τον αρχηγό για τυχόν προβλήματα υγείας. \nΕπικοινωνία για οποιαδήποτε πληροφορία: Μήνυμα μέσω inbox ή e- mail: info@poymittou.gr \nτηλ. για τεχνικές πληροφορίες διαδρομής: 6946500513 (Χριστίνα ) \n🐾Όποιος επιθυμεί να συνεισφέρει στη δράση για τη σίτιση των αδέσποτων ζώων που βρίσκονται στο βουνό\, μπορεί φέρνοντας τροφή ( κονσέρβα/ξηρά τροφή ) και να τη παραδώσει πριν την έναρξη της διαδρομής\, η οποία θα δοθεί σε άτομα που την έχουν αναλάβει.🐕🐈🐾 \n*Όποιος/α επιθυμεί την εγγραφή ή την ανανέωση της συνδρομής στην ομάδα η προσέλευση θα πρέπει να είναι μισή ώρα νωρίτερα στο σημείο συνάντησης\, ώστε να μην υπάρξει καθυστέρηση
URL:https://poymittou.gr/event/%ce%ba%ce%bf%cf%81%ce%b1%ce%ba%ce%bf%ce%b2%ce%bf%cf%8d%ce%bd%ce%b9-%cf%85%ce%bc%ce%b7%cf%84%cf%84%ce%bf%cf%8d/
LOCATION:Μονή Καισαριανής\, Υμμητός\, Μονή Καισαριανής\, Υμμητός
CATEGORIES:Εκδηλώσεις ΠΟΥ
ATTACH;FMTTYPE=image/png:https://poymittou.gr/wp-content/uploads/2025/05/Κορακοβούνι.png
ORGANIZER;CN="%CE%A0%CE%B5%CF%81%CE%B9%CF%80%CE%B1%CF%84%CE%B7%CF%84%CE%B9%CE%BA%CE%AE %CE%9F%CE%BC%CE%AC%CE%B4%CE%B1 %CE%A5%CE%BC%CE%B7%CF%84%CF%84%CE%BF%CF%8D %CE%A0 %CE%9F %CE%A5 - %CE%A3%CE%B5%CE%BB%CE%AF%CE%B4%CE%B1":MAILTO:noreply@facebookmail_com
END:VEVENT
END:VCALENDAR