BEGIN:VCALENDAR
VERSION:2.0
PRODID:-//Περιπατητική Ομάδα Υμηττού - ECPv6.15.20//NONSGML v1.0//EN
CALSCALE:GREGORIAN
METHOD:PUBLISH
X-ORIGINAL-URL:https://poymittou.gr
X-WR-CALDESC:Events for Περιπατητική Ομάδα Υμηττού
REFRESH-INTERVAL;VALUE=DURATION:PT1H
X-Robots-Tag:noindex
X-PUBLISHED-TTL:PT1H
BEGIN:VTIMEZONE
TZID:Europe/Athens
BEGIN:DAYLIGHT
TZOFFSETFROM:+0200
TZOFFSETTO:+0300
TZNAME:EEST
DTSTART:20240331T010000
END:DAYLIGHT
BEGIN:STANDARD
TZOFFSETFROM:+0300
TZOFFSETTO:+0200
TZNAME:EET
DTSTART:20241027T010000
END:STANDARD
BEGIN:DAYLIGHT
TZOFFSETFROM:+0200
TZOFFSETTO:+0300
TZNAME:EEST
DTSTART:20250330T010000
END:DAYLIGHT
BEGIN:STANDARD
TZOFFSETFROM:+0300
TZOFFSETTO:+0200
TZNAME:EET
DTSTART:20251026T010000
END:STANDARD
BEGIN:DAYLIGHT
TZOFFSETFROM:+0200
TZOFFSETTO:+0300
TZNAME:EEST
DTSTART:20260329T010000
END:DAYLIGHT
BEGIN:STANDARD
TZOFFSETFROM:+0300
TZOFFSETTO:+0200
TZNAME:EET
DTSTART:20261025T010000
END:STANDARD
END:VTIMEZONE
BEGIN:VEVENT
DTSTART;TZID=Europe/Athens:20250622T070000
DTEND;TZID=Europe/Athens:20250622T070000
DTSTAMP:20260420T123933
CREATED:20250609T185553Z
LAST-MODIFIED:20250609T185900Z
UID:2458-1750575600-1750575600@poymittou.gr
SUMMARY:Μονή Πολεμάρχας - Αρχαία Επίδαυρος
DESCRIPTION:Την Κυριακή 22 Ιουνίου 2025\, θα περπατήσουμε και θα ρίξουμε τις βουτιές μας στην θάλασσα του Αργοσαρωνικού με τις πευκόφυτες παραλίες του. \nΗ Αρχαία Επίδαυρος βρίσκεται στο ΒΑ τμήμα του νομού Αργολίδος στις ακτές του κόλπου της Επιδαύρου. Είναι ένας δημοφιλής ιερός χώρος\, αρχαιολογικής σημασίας\, φυσικής ομορφιάς και τουριστικού ενδιαφέροντος. Χτισμένη αμφιθεατρικά επάνω στα ερείπια της αρχαίας πόλης της Επιδαύρου αποτελεί τον αρμονικό συνδετικό κρίκο μεταξύ βουνού και θάλασσας. \nΗ Μονή Πολεμάρχας βρίσκεται σε μια ερημική παραλία με πεύκα και ελαιόδεντρα. Ιδρυτής της μονής υπήρξε ένας μοναχός που ονομαζόταν Αντώνιος. Ο Αντώνιος\, που ήταν μοναχός στη μονή Αγνούντας\, επιθυμώντας να απομονωθεί από τους συνασκητές του\, εγκαταστάθηκε στην ερημική παραλία της Πολεμάρχας. Εκεί τον ακολούθησαν δυο νεότεροι μοναχοί\, ο Νήφων (μετέπειτα Πατριάρχης Κωνσταντινουπόλεως) και ο Ιωσήφ. Σύμφωνα με την παράδοση\, μόνοι τους έφτιαξαν τον πρώτο πυρήνα της μονής γύρω στο 1400. Η μονή έφτασε σε ακμή τις επόμενες δεκαετίες με τη βοήθεια του Πατριάρχη Νήφωνα\, οι αλλεπάλληλες όμως πειρατικές επιδρομές ανάγκασαν τους μοναχούς να εγκαταλείψουν την Πολεμάρχα και να αποσυρθούν στη μονή Καλαμίου\, στην ενδοχώρα της Επιδαυρίας. Έκτοτε η μονή δεν ξαναλειτούργησε. \nΗ διαδρομή μας ξεκινά από την ΕΟ Ισθμού – Αρχαίας Επιδαύρου στο σημείο που ξεκινάει ο χωματόδρομος για την Μονή\, η κατηφορική διαδρομή μέσα στα πεύκα θα μας οδηγήσει προς την παραλία και τη Μονή Πολεμάρχας. Στην συνέχεια θα ακολουθήσουμε μια διαδρομή δίπλα στη θάλασσα σε καλά σηματοδοτημένο μονοπάτι\, μέσα σε ένα όμορφο πευκοδάσος. Περνώντας από μερικές απομονωμένες παραλίες θα προσεγγίσουμε το μικρό φάρο στο ακρωτήρι Γιαννούζαινα\, τις παραλίες Καλαμάκι και Βαγιωνιά πριν φτάσουμε στην Αρχαία Επίδαυρο για μπάνιο και φαγητό όσοι το επιθυμούν.\nΠροαιρετική επίσκεψη στην Ακρόπολη και το μικρό θέατρο της Αρχαίας Επιδαύρου. \nΣτοιχεία Διαδρομής:\nΑπόσταση: ~ 7χλμ.\nΔιάρκεια: ~ 4 ώρες\nΥψομετρική: +200μ.\nB. Δ. : 1/5 \nΣΗΜΕΙΟ ΣΥΝΑΝΤΗΣΗΣ :\n1ος σταθμός συγκέντρωσης 06:45 μετρό Φιξ\n2ος σταθμός συγκέντρωσης 07:00 από το πάρκινγκ του γηπέδου Κρητικόπουλος\n(https://maps.app.goo.gl/KLa3ytiH5pepQvuY6) \nΚόστος : 23\,00€ (για τα ενεργά μέλη της ΠΟΥ) \, 25\,00€ για τα μη μέλη \nΠεριλαμβάνονται η μεταφορά με πούλμαν (Φ.Π.Α.\, διόδια)\, έξοδα οδηγού. \n🛑 Υποχρεωτικά 🥾Μποτάκια Πεζοπορίας\nΕξοπλισμός πεζοπορίας:\nΝερό (1.5lt)🍶\nΜπατόν 🦯\nΚαπέλο 👒\nΣνάκ (φρούτο\, μπάρα δημητριακών κ.α.)🍌\nΑτομικό Φαρμακείο⛑\nΜαγιό\, αντιηλιακό\, πετσέτα ⛱️🧴😎 \nΔηλώσεις Συμμετοχής\nhttps://forms.gle/tCRdRvRNtuFsLYQZ9 \nΟ αρχηγός της εκδρομής έχει το δικαίωμα\, να τροποποιήσει ή να ματαιώσει ένα πρόγραμμα που είναι σε εξέλιξη ή πριν την έναρξη αυτού\, για λόγους ασφάλειας ή ανωτέρας βίας (φυσικές καταστροφές\, ακατάλληλες καιρικές συνθήκες\, κλπ) ή και να αποκλείσει συμμετέχοντα λόγω έλλειψης\nορειβατικού εξοπλισμού. Όποιος συμμετέχει\, γνωρίζει τις απαιτήσεις και την επικινδυνότητα της δραστηριότητας στην οποία συμμετέχει και αναλαμβάνει ατομικά την ευθύνη της συμμετοχής του στην δραστηριότητα\, όπως άλλωστε προβλέπεται από την διακήρυξη του Τυρόλου 8η Σεπτεμβρίου 2003 παράρτημα 1\, άρθρο 1 – Περί Ατομικής Ευθύνης\, αποδεχόμενος τους κινδύνους που ενέχει καθώς και την ευθύνη για την ασφάλειά του. Επίσης πρέπει να έχει άριστη σωματική & ψυχική υγεία και να ενημερώνει τον αρχηγό για τυχόν προβλήματα υγείας. \nΕπικοινωνία για οποιαδήποτε πληροφορία: Μήνυμα μέσω μηνύματος ή e-mail: info@poymittou.gr \nτηλ. για τεχνικές πληροφορίες διαδρομής:\nΔημήτρης Μανιός (6983506385)\, Γιώργος Παπαμήτσος (6973026445 ) \nή\nστα γραφεία της ομάδας (Οδεμησίου 12- Καισαριανή)\,\nτηλ. 2107245353\, Τετάρτη\, ώρες 18.30-20.30
URL:https://poymittou.gr/event/%ce%b1%cf%81%cf%87%ce%b1%ce%af%ce%b1-%ce%b5%cf%80%ce%af%ce%b4%ce%b1%cf%85%cf%81%ce%bf%cf%82/
LOCATION:Αρχαία Επίδαυρος
CATEGORIES:Εκδηλώσεις ΠΟΥ
ATTACH;FMTTYPE=image/jpeg:https://poymittou.gr/wp-content/uploads/2025/06/2458_image_505424247_1279153584210315_8582857721166931823_n.jpg
END:VEVENT
END:VCALENDAR