BEGIN:VCALENDAR
VERSION:2.0
PRODID:-//Περιπατητική Ομάδα Υμηττού - ECPv6.15.20//NONSGML v1.0//EN
CALSCALE:GREGORIAN
METHOD:PUBLISH
X-WR-CALNAME:Περιπατητική Ομάδα Υμηττού
X-ORIGINAL-URL:https://poymittou.gr
X-WR-CALDESC:Events for Περιπατητική Ομάδα Υμηττού
REFRESH-INTERVAL;VALUE=DURATION:PT1H
X-Robots-Tag:noindex
X-PUBLISHED-TTL:PT1H
BEGIN:VTIMEZONE
TZID:Europe/Athens
BEGIN:DAYLIGHT
TZOFFSETFROM:+0200
TZOFFSETTO:+0300
TZNAME:EEST
DTSTART:20240331T010000
END:DAYLIGHT
BEGIN:STANDARD
TZOFFSETFROM:+0300
TZOFFSETTO:+0200
TZNAME:EET
DTSTART:20241027T010000
END:STANDARD
BEGIN:DAYLIGHT
TZOFFSETFROM:+0200
TZOFFSETTO:+0300
TZNAME:EEST
DTSTART:20250330T010000
END:DAYLIGHT
BEGIN:STANDARD
TZOFFSETFROM:+0300
TZOFFSETTO:+0200
TZNAME:EET
DTSTART:20251026T010000
END:STANDARD
BEGIN:DAYLIGHT
TZOFFSETFROM:+0200
TZOFFSETTO:+0300
TZNAME:EEST
DTSTART:20260329T010000
END:DAYLIGHT
BEGIN:STANDARD
TZOFFSETFROM:+0300
TZOFFSETTO:+0200
TZNAME:EET
DTSTART:20261025T010000
END:STANDARD
END:VTIMEZONE
BEGIN:VEVENT
DTSTART;TZID=Europe/Athens:20251011T070000
DTEND;TZID=Europe/Athens:20251012T220000
DTSTAMP:20260420T002332
CREATED:20250718T134143Z
LAST-MODIFIED:20250719T064003Z
UID:2471-1760166000-1760306400@poymittou.gr
SUMMARY:Εξόρμηση στα Λουτρά Σμοκόβου - Ανατολικά Άγραφα (2ήμερη)
DESCRIPTION:Σε αυτή τη διήμερη εξόρμηση\, συνδυάζουμε την ενέργεια της ορεινής πεζοπορίας με τη χαλάρωση που προσφέρουν οι φημισμένες ιαματικές πηγές του Σμοκόβου!\nΤα ιαματικά νερά\, που αναβλύζουν από πέντε φυσικές πηγές με θερμοκρασία από 37°C έως 40\,2°C\, διοχετεύονται στο υδροθεραπευτήριο και ξεχωρίζουν για τη θειούχα αλκαλική τους σύσταση\, τη χαρακτηριστική οσμή υδρόθειου και τις εξαιρετικές θεραπευτικές τους ιδιότητες. Μετά τον πρόσφατο εκσυγχρονισμό τους\, οι εγκαταστάσεις βρίσκονται σε άριστη κατάσταση. \nΑναλυτικό Πρόγραμμα \nΣάββατο 11 Οκτωβρίου \n\nΑναχώρηση στις 07:00 από στάση μετρό ΦΙΞ και 07:15 από το πάρκινγκ του γηπέδου Κρητικόπουλου (Καισαριανή) με προορισμό τα Λουτρά Σμοκόβου.\nΆφιξη στο χωριό Λουτροπηγή και έναρξη της πεζοπορίας προς τα Λουτρά Σμοκόβου.\nΗ διαδρομή μας διασχίζει δάσος με βελανιδιές και φτάνει στο ιστορικό κάστρο Μενελαΐδας (Προφήτης Ηλίας)\, σε υψόμετρο 977 μ.\, όπου σώζονται ερείπια από τα αρχαία τείχη των Δολόπων (χρονολογούνται περίπου 3200 χρόνια πίσω). Η θέα προς τη λίμνη Σμοκόβου\, τον θεσσαλικό κάμπο και τα γύρω βουνά είναι εντυπωσιακή.\nΗ πεζοπορία είναι ήπιας δυσκολίας\, συνολικής διάρκειας περίπου 3\,5 ωρών\, με μήκος διαδρομής 6\,5 χλμ. και υψομετρική διαφορά +260μ / -570μ.\nΜετά την πεζοπορία\, τακτοποίηση στα δωμάτια\, χρόνος για ξεκούραση\, χαλάρωση στα ιαματικά λουτρά και δοκιμή τοπικών γεύσεων.\n\nΚυριακή 12 Οκτωβρίου \n\nΗ σημερινή διαδρομή περιλαμβάνει ανάβαση μέσα από πανέμορφο ελατόδασος\, στα όρια των νομών Ευρυτανίας και Καρδίτσας\, προς την κορυφή της Βουλγάρας (1685μ.)\, στα ανατολικά Άγραφα με την εκπληκτική θέα.\nΗ πεζοπορία ξεκινά από το ειδυλλιακό διάσελο Ζαχαράκη (γνωστό και ως “θέση Ταρζάν”)\, στο δρόμο που συνδέει τη Φουρνά Ευρυτανίας με τη Ρεντίνα.\nΣυνολική διάρκεια: περίπου 5 – 6 ώρες\, απόσταση: 12 – 15 χλμ. (μετ’ επιστροφής και αναλόγως την δυναμική της ομάδας)\, υψομετρική διαφορά: +500μ – +650μ.\nΕπιστροφή στα Λουτρά για φαγητό και ακολούθως αναχώρηση για Αθήνα.\n\n* Για όσους επιθυμούν χαλαρότερη δραστηριότητα\, υπάρχει η δυνατότητα παραμονής στον ξενώνα ή ήπιας περιπατητικής διαδρομής στο κοντινό δάσος μέχρι την επιστροφή της πεζοπορικής ομάδας. \nΚόστος Συμμετοχής \n\n90 ευρώ / άτομο σε δίκλινο\n85 ευρώ / άτομο σε τρίκλινο\n80 ευρώ / άτομο σε τετράκλινο\, πεντάκλινο\n\nΠεριλαμβάνονται \n\nΜεταφορά με λεωφορείο από/προς Αθήνα\nΈμπειροι συνοδοί\nΔιαμονή στον ξενώνα Ζαχαράκη (σε δίκλινα\, τρίκλινα ή\nτετράκλινα δωμάτια)\n\nΑπαραίτητος Εξοπλισμός \n\nΟρειβατικά ή πεζοπορικά παπούτσια\nΜπατόν (προαιρετικά αλλά χρήσιμα)\nΡούχα κατάλληλα για την εποχή\nΜαγιό\nΠετσέτα\, Σαγιονάρες\, Αφρόλουτρο ( για τα λουτρά)\n\nΕκδήλωση ενδιαφέροντος μέσω της ηλεκτρονικής φόρμας: \nΛόγω περιορισμένων θέσεων οι διαθέσιμες θέσεις έχουν συμπληρωθεί. Όσοι ενδιαφέρονται να συμμετάσχουν\, παρακαλούνται να δηλώσουν συμμετοχή στη λίστα αναμονής\, ώστε να ενημερωθούν σε περίπτωση που υπάρξουν ακυρώσεις. Σε περίπτωση που υπάρξουν διαθέσιμες θέσεις\, θα τηρηθεί σειρά προτεραιότητας με βάση την ημερομηνία δήλωσης στη λίστα αναμονής. \nhttps://forms.gle/GdGJxWTiQ4fvwXTU7  \nΗ συμμετοχή σας διασφαλίζεται ΜΟΝΟ με την προκαταβολή του ποσού των 50 € \nΕUROBANK IBAN: GR2202606400000820200214333 (Δικαιούχος: ΠΕΡΙΠΑΤΗΤΙΚΉ ΟΜΑΔΑ ΥΜΗΤΤΟΥ) \n⚠️Τυχόν τραπεζικά έξοδα\, βαρύνουν εξ’ ολοκλήρου τον συμμετέχοντα-καταθέτη. \nΑκυρώσεις 14 μέρες πριν την πεζοπορία (ημέρα Σάββατο) επιστρέφονται τα χρήματα\, διαφορετικά δεν επιστρέφεται τίποτα αν δεν καλυφθεί η θέση. \nΠληροφορίες\nemail: info@poymittou.gr\nστα γραφεία της ομάδας (Οδεμησίου 12- Καισαριανή)\,\nτηλ. 2107245353\, Τετάρτη\, ώρες 18.00-21.00\nΣπυριδούλα Παλαιοκώστα: 6944857273\nΓιώργος Παπαμήτσος: 6973026445
URL:https://poymittou.gr/event/%ce%bb%ce%bf%cf%85%cf%84%cf%81%ce%ac-%cf%83%ce%bc%ce%bf%ce%ba%cf%8c%ce%b2%ce%bf%cf%85-%ce%b1%ce%bd%ce%b1%cf%84%ce%bf%ce%bb%ce%b9%ce%ba%ce%ac-%ce%ac%ce%b3%cf%81%ce%b1%cf%86%ce%b1/
LOCATION:Λουτρά Σμοκόβου
CATEGORIES:Εκδηλώσεις ΠΟΥ
ATTACH;FMTTYPE=image/jpeg:https://poymittou.gr/wp-content/uploads/2025/07/2471_image_518350604_1312867004172306_8420827048966936672_n.jpg
END:VEVENT
END:VCALENDAR