BEGIN:VCALENDAR
VERSION:2.0
PRODID:-//Περιπατητική Ομάδα Υμηττού - ECPv6.15.20//NONSGML v1.0//EN
CALSCALE:GREGORIAN
METHOD:PUBLISH
X-WR-CALNAME:Περιπατητική Ομάδα Υμηττού
X-ORIGINAL-URL:https://poymittou.gr
X-WR-CALDESC:Events for Περιπατητική Ομάδα Υμηττού
REFRESH-INTERVAL;VALUE=DURATION:PT1H
X-Robots-Tag:noindex
X-PUBLISHED-TTL:PT1H
BEGIN:VTIMEZONE
TZID:Europe/Athens
BEGIN:DAYLIGHT
TZOFFSETFROM:+0200
TZOFFSETTO:+0300
TZNAME:EEST
DTSTART:20240331T010000
END:DAYLIGHT
BEGIN:STANDARD
TZOFFSETFROM:+0300
TZOFFSETTO:+0200
TZNAME:EET
DTSTART:20241027T010000
END:STANDARD
BEGIN:DAYLIGHT
TZOFFSETFROM:+0200
TZOFFSETTO:+0300
TZNAME:EEST
DTSTART:20250330T010000
END:DAYLIGHT
BEGIN:STANDARD
TZOFFSETFROM:+0300
TZOFFSETTO:+0200
TZNAME:EET
DTSTART:20251026T010000
END:STANDARD
BEGIN:DAYLIGHT
TZOFFSETFROM:+0200
TZOFFSETTO:+0300
TZNAME:EEST
DTSTART:20260329T010000
END:DAYLIGHT
BEGIN:STANDARD
TZOFFSETFROM:+0300
TZOFFSETTO:+0200
TZNAME:EET
DTSTART:20261025T010000
END:STANDARD
END:VTIMEZONE
BEGIN:VEVENT
DTSTART;TZID=Europe/Athens:20251116T080000
DTEND;TZID=Europe/Athens:20251116T080000
DTSTAMP:20260419T225504
CREATED:20251110T194721Z
LAST-MODIFIED:20251110T195555Z
UID:2577-1763280000-1763280000@poymittou.gr
SUMMARY:🏔️ Κούμαρα trail 🍓
DESCRIPTION:🌳 Κυριακάτικη εξόρμηση στον Υμηττό! 🌳 \nΑυτή την Κυριακή ανηφορίζουμε στο αγαπημένο μας βουνό για να περπατήσουμε στο μαγευτικό Κούμαρα Trail!\nΘα περιηγηθούμε μέσα στο δασωμένο κομμάτι του κεντρικού Υμηττού και θα φτάσουμε ως το Κορακοβούνι\, όπου θα κάνουμε μια στάση για τις απαραίτητες φωτογραφίες και θα απολαύσουμε την πανοραμική θέα προς όλο το λεκανοπέδιο αλλά και την κορυφή του Υμηττού\, τον Εύζωνα. \nΣτη συνέχεια θα κατηφορίσουμε προς τη χώρα των κούμαρων 🍓. Αν είμαστε τυχεροί και η φθινοπωρινή βροχούλα έφτασε για να γεμίσουν και να ωριμάσουν οι καρποί τους\, τότε θα απολαύσουμε τα φρούτα αυτού του υπέροχου θάμνου! Τα κούμαρα\, με το σκούρο κόκκινο χρώμα τους\, είναι γεμάτα γεύση και θρεπτικά συστατικά — βιταμίνη C\, βήτα-καροτένιο\, βιταμίνη Β3(νιασίνη) και τοκοφερόλες. Φυσικά\, τα απολαμβάνουμε πάντα με μέτρο και… κατευθείαν από το δέντρο! 😉 \n📍 Σημείο συνάντησης: Πυροφυλάκιο Καισαριανής\, “Δημήτρης Καραμολέγκος” ( https://maps.app.goo.gl/c353FJejcxUQxfyt9 ) \n🕗 Ώρα: 8:00 π.μ. \n🚶‍♀️ Διαδρομή: \nΑπόσταση: ~11 χλμ\nΔιάρκεια: ~6 ώρες (με στάσεις)\nΥψομετρική: +534 μ.\nΔυσκολία: 1+/5 \nΦορέστε το χαμόγελό σας\, πάρτε την καλή σας διάθεση και ελάτε να απολαύσουμε μια υπέροχη πεζοπορική Κυριακή στον Υμηττό! 🌿✨ \n🎒 Εξοπλισμός \n🛑 Υποχρεωτικά: Μποτάκια πεζοπορίας 🥾 \n✅ Προτείνεται να έχετε μαζί σας: \n\nΡούχα κατάλληλα για το βουνό (layers)\nΑδιάβροχο / αντιανεμικό μπουφάν\nΝερό & σνακ 🍌\nΜπατόν πεζοπορίας 🦯\nΠροσωπικό φαρμακείο 🧴\n\nΚόστος : 3€ για τα μη μέλη\, δωρεάν για τα ενεργά μέλη της ΠΟΥ \nΔηλώσεις μέσω της ηλεκτρονικής φόρμας\,\nhttps://forms.gle/mCBHhdqB2rXvbTr26 \nή στα γραφεία της ομάδας (Οδεμησίου 12- Καισαριανή)\, τηλ. 2107245353\,\nΤετάρτη\, ώρες 18.30-20.30 ή στις δράση της ομάδας που προηγείται στον Υμηττό. \nΟ αρχηγός της εκδρομής έχει το δικαίωμα\, να τροποποιήσει ή να ματαιώσει ένα πρόγραμμα που είναι σε εξέλιξη ή πριν την έναρξη αυτού\, για λόγους ασφάλειας ή ανωτέρας βίας (φυσικές καταστροφές\, ακατάλληλες καιρικές συνθήκες\, κλπ) ή και να αποκλείσει συμμετέχοντα λόγω έλλειψης ορειβατικού εξοπλισμού. Όποιος συμμετέχει\, γνωρίζει τις απαιτήσεις και την επικινδυνότητα της δραστηριότητας στην οποία συμμετέχει και αναλαμβάνει ατομικά την ευθύνη της συμμετοχής του στην δραστηριότητα\, όπως άλλωστε προβλέπεται από την διακήρυξη του Τυρόλου 8η Σεπτεμβρίου 2003 παράρτημα 1\, άρθρο 1 – Περί Ατομικής Ευθύνης\, αποδεχόμενος τους κινδύνους που ενέχει καθώς και την ευθύνη για την ασφάλειά του. Επίσης πρέπει να έχει άριστη σωματική & ψυχική υγεία και να ενημερώνει τον αρχηγό για τυχόν προβλήματα υγείας. \nΕπικοινωνία για οποιαδήποτε πληροφορία: Μήνυμα μέσω inbox ή e- mail: info@poymittou.gr \nτηλ. για τεχνικές πληροφορίες διαδρομής: Χριστίνα Αναγνωστοπούλου (6946500513) \n🐾Όποιος επιθυμεί να συνεισφέρει στη δράση για τη σίτιση των αδέσποτων ζώων που βρίσκονται στο βουνό\, μπορεί φέρνοντας τροφή ( κονσέρβα/ξηρά τροφή ) και να τη παραδώσει πριν την έναρξη της διαδρομής\,\nη οποία θα δοθεί σε άτομα που την έχουν αναλάβει.🐕🐈🐾\n* Όποιος/α επιθυμεί την εγγραφή ή την ανανέωση της συνδρομής στην ομάδα η προσέλευση θα πρέπει να είναι μισή ώρα νωρίτερα στο σημείο συνάντησης\, ώστε να μην υπάρξει καθυστέρηση*
URL:https://poymittou.gr/event/%ce%ba%ce%bf%cf%8d%ce%bc%ce%b1%cf%81%ce%b1-trail%f0%9f%8d%93/
LOCATION:Κορακοβούνι Υμηττού\, Κορακοβούνι Υμηττού
CATEGORIES:Εκδηλώσεις ΠΟΥ
ATTACH;FMTTYPE=image/jpeg:https://poymittou.gr/wp-content/uploads/2025/11/2577_image_581163599_1418966393562366_7384790647990086029_n.jpg
END:VEVENT
END:VCALENDAR