BEGIN:VCALENDAR
VERSION:2.0
PRODID:-//Περιπατητική Ομάδα Υμηττού - ECPv6.15.20//NONSGML v1.0//EN
CALSCALE:GREGORIAN
METHOD:PUBLISH
X-ORIGINAL-URL:https://poymittou.gr
X-WR-CALDESC:Events for Περιπατητική Ομάδα Υμηττού
REFRESH-INTERVAL;VALUE=DURATION:PT1H
X-Robots-Tag:noindex
X-PUBLISHED-TTL:PT1H
BEGIN:VTIMEZONE
TZID:Europe/Athens
BEGIN:DAYLIGHT
TZOFFSETFROM:+0200
TZOFFSETTO:+0300
TZNAME:EEST
DTSTART:20240331T010000
END:DAYLIGHT
BEGIN:STANDARD
TZOFFSETFROM:+0300
TZOFFSETTO:+0200
TZNAME:EET
DTSTART:20241027T010000
END:STANDARD
BEGIN:DAYLIGHT
TZOFFSETFROM:+0200
TZOFFSETTO:+0300
TZNAME:EEST
DTSTART:20250330T010000
END:DAYLIGHT
BEGIN:STANDARD
TZOFFSETFROM:+0300
TZOFFSETTO:+0200
TZNAME:EET
DTSTART:20251026T010000
END:STANDARD
BEGIN:DAYLIGHT
TZOFFSETFROM:+0200
TZOFFSETTO:+0300
TZNAME:EEST
DTSTART:20260329T010000
END:DAYLIGHT
BEGIN:STANDARD
TZOFFSETFROM:+0300
TZOFFSETTO:+0200
TZNAME:EET
DTSTART:20261025T010000
END:STANDARD
END:VTIMEZONE
BEGIN:VEVENT
DTSTART;TZID=Europe/Athens:20251123T073000
DTEND;TZID=Europe/Athens:20251123T073000
DTSTAMP:20260420T032748
CREATED:20251109T183200Z
LAST-MODIFIED:20251109T204234Z
UID:2570-1763883000-1763883000@poymittou.gr
SUMMARY:Διάσχιση Υμηττού
DESCRIPTION:Διάσχιση Υμηττού — Κυριακή 23/11/2025\nΑπό Αγία Παρασκευή έως Άνω Γλυφάδα \nΉρθε η στιγμή να δοκιμάσουμε τα όριά μας στο αγαπημένο μας βουνό! 💪\nΗ ομάδα ετοιμάζεται για μια απαιτητική αλλά συναρπαστική διάσχιση στον Μέγα Υμηττό\, όπως τον αποκαλούσαν οι αρχαίοι Αθηναίοι. Μια διαδρομή-πρόκληση με αρκετά χιλιόμετρα\, με εναλλαγές υψομέτρου και συνεχή πορεία στην κορυφογραμμή του Βόρειου Υμηττού\, εκεί όπου χτυπά η “καρδιά” του βουνού. \nΟ Υμηττός είναι δεμένος με την ιστορία της αρχαίας Αθήνας· στα χώματά του υπήρχαν ιερά αφιερωμένα στους θεούς και στις νύμφες\, ενώ στη δυτική πλευρά λειτουργούσαν λατομεία που παρείχαν μάρμαρο για σπουδαία μνημεία των ελληνιστικών και ρωμαϊκών χρόνων.\nΣήμερα\, προσφέρει σε κάθε πεζοπόρο μαγευτική θέα: την Αθήνα και την “κοιλάδα του Πνεύματος” από τη μία\, και τα Μεσόγεια —την “κοιλάδα του οινοπνεύματος”— από την άλλη! 🍷 \n🥾 Η Διαδρομή \nΗ πορεία ξεκινά από το Μοναστήρι του Αγίου Ιωάννη του Κυνηγού στον Σταυρό Αγίας Παρασκευής.\nΑκολουθώντας το μονοπάτι 11\, περνάμε από τα Ορυχεία Φυρέ και τα παλιά εγκαταλελειμμένα κτίριά τους.\nΈπειτα\, μέσω του μονοπατιού 10\, θα κινηθούμε πάνω στη βόρεια κορυφογραμμή\, συναντώντας το Σπήλαιο της Νυχτερίδας και τις δίδυμες κορυφές του Κορακοβουνίου (728 μ.). \nΣτη συνέχεια\, ανηφορίζουμε προς το “πάρκο των κεραιών” και περνάμε κάτω από τον Εύζωνα (1026 μ.)\, την ψηλότερη κορυφή του Υμηττού. Η διαδρομή είναι βραχώδης και εντυπωσιακή\, με απεριόριστη θέα προς τον Νότιο (Ελάττονα ή Άνυδρο) Υμηττό — κορυφές όπως το Μαυροβούνι και η Κόντρα — και φυσικά προς τα παράλια της Αθήνας και τον Αργοσαρωνικό. 🌊 \nΑπό εκεί\, κατευθυνόμαστε προς τον Πύργο\, όπου θα συναντήσουμε τα δυο του βάραθρα και ερείπια οχύρωσης αρχαίου στρατοπέδου — ένα μοναδικό σημείο με αύρα ιστορίας. Θα επισκεφτούμε και το σημείο όπου έχει στηθεί μνημείο για τον μεγάλο Έλληνα ορειβάτη και αναρριχητή Γιώργο Μιχαηλίδη.\nΈπειτα\, ακολουθεί κατάβαση προς το οροπέδιο Σέσι\, μια σχεδόν επίπεδη καλλιεργήσιμη περιοχή σε υψόμετρο 550 μ.\, γνωστή για το πανάρχαιο πηγάδι της. \nΗ διαδρομή συνεχίζει μέσα από χωματόδρομο και μονοπάτι ως το διάσελο του Σταυρού\, που ενώνει τον Προφήτη Ηλία με το Μαυροβούνι και τον λόφο του Νταβέλη. Από εκεί θα πάρουμε το μονοπάτι προς την Τρύπια Σπηλιά — ένα εντυπωσιακό φυσικό μνημείο\, με είσοδο που έχει μετατραπεί σε πέτρινη γέφυρα πλάτους 6–10 μ. και ύψους περίπου 15 μ.\nΠριν καταπέσει ο θόλος\, το σπήλαιο είχε διαστάσεις 42 × 20 μ. και ύψος περίπου 30 μ. — μια εικόνα που δύσκολα φαντάζεται κανείς σήμερα! \nΗ κατάληξη της διαδρομής γίνεται στην Τερψιθέα — Άνω Γλυφάδα\, με την Αθήνα να απλώνεται μπροστά μας.\nΣτην συνέχεια θα επιβιβαστούμε στο λεωφορείο που θα μας επιστρέψει στην αφετηρία μας. \nℹ️ Πληροφορίες \nΕπίπεδο δυσκολίας: 3/5 \nΑπόσταση: 20 km \nΔιάρκεια: ~7 ώρες \nΑνάβαση: 940 m \nΚατάβαση: 1.030 m \nΝερό: δεν υπάρχει στη διαδρομή — φροντίζουμε να έχουμε επάρκεια 💧 \n🕢 Ραντεβού ( Θα μετακινηθούμε με λεωφορείο) \nΏρα συνάντησης: 7:30 π.μ. \nΣημείο εκκίνησης: Πάρκινγκ Δημοτικού Σταδίου Καισαριανής\n👉 Χάρτης : https://maps.app.goo.gl/Nz7kkoZRLk8QnG716 \nΕναλλακτική στάση: Μετρό Κατεχάκη (Κατεχάκη & Μεσογείων )\n👉 Χάρτης: https://maps.app.goo.gl/DB5XvSr6yXYhe2gT9 \nΜια διαδρομή για όσους αγαπούν τις προκλήσεις\, τη φύση και την ιστορία του Υμηττού.\nΠροετοιμάσου για μια μέρα γεμάτη θέα\, ενέργεια και ανακαλύψεις! 🌿 \n🎒 Εξοπλισμός \n🛑 Υποχρεωτικά: Μποτάκια πεζοπορίας 🥾 \n✅ Προτείνεται να έχετε μαζί σας: \n\nΡούχα κατάλληλα για το βουνό (layers)\nΑδιάβροχο / αντιανεμικό μπουφάν\nΝερό & σνακ 🍌\nΜπατόν πεζοπορίας 🦯\nΠροσωπικό φαρμακείο 🧴\n\nΚόστος : 13\,00€ (για τα ενεργά μέλη της ΠΟΥ) \, 15\,00€ για τα μη μέλη. \nΔηλώσεις μέσω της ηλεκτρονικής φόρμας\, \nhttps://forms.gle/4XtsTgp9ou3oRrsf7  \nή στα γραφεία της ομάδας (Οδεμησίου 12- Καισαριανή)\, τηλ. 2107245353\, Τετάρτη\, ώρες 18.30-20.30 ή στις δράση της ομάδας που προηγείται στον Υμηττό. \nΗ συμμετοχή σας διασφαλίζεται ΜΟΝΟ με την καταβολή του ποσού \nΕUROBANK IBAN: GR2202606400000820200214333 (Δικαιούχος: ΠΕΡΙΠΑΤΗΤΙΚΉ ΟΜΑΔΑ ΥΜΗΤΤΟΥ) \n⚠️Τυχόν τραπεζικά έξοδα\, βαρύνουν εξ’ ολοκλήρου τον συμμετέχοντα-καταθέτη. \nΑκυρώσεις 3 μέρες πριν την πεζοπορία (Ημέρα Πέμπτη) δεν επιστρέφονται τα χρήματα\, αν δεν καλυφθεί η θέση. \nΟ αρχηγός της εκδρομής έχει το δικαίωμα\, να τροποποιήσει ή να ματαιώσει ένα πρόγραμμα που είναι σε εξέλιξη ή πριν την έναρξη αυτού\, για λόγους ασφάλειας ή ανωτέρας βίας (φυσικές καταστροφές\, ακατάλληλες καιρικές συνθήκες\, κλπ) ή και να αποκλείσει συμμετέχοντα λόγω έλλειψης\nορειβατικού εξοπλισμού. Όποιος συμμετέχει\, γνωρίζει τις απαιτήσεις και την επικινδυνότητα της δραστηριότητας στην οποία συμμετέχει και αναλαμβάνει ατομικά την ευθύνη της συμμετοχής του στην δραστηριότητα\, όπως άλλωστε προβλέπεται από την διακήρυξη του Τυρόλου 8η Σεπτεμβρίου 2003 παράρτημα 1\, άρθρο 1 – Περί Ατομικής Ευθύνης\, αποδεχόμενος τους κινδύνους που ενέχει καθώς και την ευθύνη για την ασφάλειά του. Επίσης πρέπει να έχει άριστη σωματική & ψυχική υγεία και να ενημερώνει τον αρχηγό για τυχόν προβλήματα υγείας. \nΕπικοινωνία για οποιαδήποτε πληροφορία: Μήνυμα μέσω inbox ή e- mail: info@poymittou.gr \nτηλ. για τεχνικές πληροφορίες διαδρομής:\nΧριστίνα Αναγνωστοπούλου (6946500513)\, Γιώργος Παπαμήτσος (6973026445 )
URL:https://poymittou.gr/event/%ce%b4%ce%b9%ce%ac%cf%83%cf%87%ce%b9%cf%83%ce%b7-%cf%85%ce%bc%ce%b7%cf%84%cf%84%ce%bf%cf%8d-23-11-2025/
LOCATION:Οδεμησίου 12\, 16122 Kaisarianí\, Greece\, Οδεμησίου 12\, 16122 Kaisarianí\, Greece
CATEGORIES:Εκδηλώσεις ΠΟΥ
ATTACH;FMTTYPE=image/jpeg:https://poymittou.gr/wp-content/uploads/2025/11/2570_image_581236356_1417953890330283_144775893065000966_n.jpg
END:VEVENT
END:VCALENDAR