BEGIN:VCALENDAR
VERSION:2.0
PRODID:-//Περιπατητική Ομάδα Υμηττού - ECPv6.15.20//NONSGML v1.0//EN
CALSCALE:GREGORIAN
METHOD:PUBLISH
X-WR-CALNAME:Περιπατητική Ομάδα Υμηττού
X-ORIGINAL-URL:https://poymittou.gr
X-WR-CALDESC:Events for Περιπατητική Ομάδα Υμηττού
REFRESH-INTERVAL;VALUE=DURATION:PT1H
X-Robots-Tag:noindex
X-PUBLISHED-TTL:PT1H
BEGIN:VTIMEZONE
TZID:Europe/Athens
BEGIN:DAYLIGHT
TZOFFSETFROM:+0200
TZOFFSETTO:+0300
TZNAME:EEST
DTSTART:20240331T010000
END:DAYLIGHT
BEGIN:STANDARD
TZOFFSETFROM:+0300
TZOFFSETTO:+0200
TZNAME:EET
DTSTART:20241027T010000
END:STANDARD
BEGIN:DAYLIGHT
TZOFFSETFROM:+0200
TZOFFSETTO:+0300
TZNAME:EEST
DTSTART:20250330T010000
END:DAYLIGHT
BEGIN:STANDARD
TZOFFSETFROM:+0300
TZOFFSETTO:+0200
TZNAME:EET
DTSTART:20251026T010000
END:STANDARD
BEGIN:DAYLIGHT
TZOFFSETFROM:+0200
TZOFFSETTO:+0300
TZNAME:EEST
DTSTART:20260329T010000
END:DAYLIGHT
BEGIN:STANDARD
TZOFFSETFROM:+0300
TZOFFSETTO:+0200
TZNAME:EET
DTSTART:20261025T010000
END:STANDARD
END:VTIMEZONE
BEGIN:VEVENT
DTSTART;TZID=Europe/Athens:20250406T083000
DTEND;TZID=Europe/Athens:20250406T133000
DTSTAMP:20260417T105750
CREATED:20250325T122321Z
LAST-MODIFIED:20250330T215337Z
UID:2351-1743928200-1743946200@poymittou.gr
SUMMARY:Μονή Δαφνίου - Όρος Αιγάλεω
DESCRIPTION:Με αφετηρία την Μονή Δαφνίου θα κάνουμε μια περιήγηση στο όρου Αιγάλεω και θα απολαύσουμε τη θέα προς τη θάλασσα από τη δυτική δασωμένη πλευρά του. \nΑρχικά\, θα ξεναγηθούμε στην Μονή Δαφνίου (είναι ανοικτή και τις Κυριακές από τις 8:30) με την εντυπωσιακή αρχιτεκτονική της και την ιδιαίτερη ψηφιδωτή διακόσμηση. Η Μονή ιδρύθηκε τον 6ο αιώνα πάνω στα ερείπια του ναού του Δαφναίου Απόλλωνα που καταστράφηκε από τους Γότθους το 395. Κάποιοι κίονες ιωνικού ρυθμού του αρχαίου ναού χρησιμοποιήθηκαν πάλι στη Μονή. Η μονή είναι χτισμένη πάνω σε πλούσιο υδροφόρο ορίζοντα και δίπλα της κυλά ρυάκι πιθανώς με το νερό των 5 πηγαδιών της που επικοινωνούν μεταξύ τους. \nΚατόπιν θα επισκεφτούμε την τοποθεσία του σπηλαίου της Αφαίας. Στη συνέχεια η διαδρομή που θα ακολουθήσουμε κινείται ανηφορικά από την δυτική πλευρά του όρους Αιγάλεω και έχει καταπληκτική θέα προς τον Σκαραμαγκά\, την Ελευσίνα και την Σαλαμίνα\, μέχρι τη σπηλιά των Τριών Οπών. Κατόπιν θα ακολουθήσουμε δασωμένη διαδρομή με ήπια κλίση στη αρχή και πιο έντονη στη συνέχεια  για την επιστροφή μας στην Μονή Δαφνίου. \nΣτην πορεία μας θα συναντήσουν αρκετές ακόμα σπηλιές όπως του Πανός\, Τρωγλοδύτη\,  Προκρούστη και Εξώστη. \nΓενικά\, πρόκειται για ενδιαφέρουσα πεζοπορική διαδρομή με ιστορικό\, αρχαιολογικό και γεωλογικό ενδιαφέρον. \nΣτοιχεία Διαδρομής: \n\nΑπόσταση: 10\,3 χλμ\nΥψομετρική διαφορά 440μ\nΏρες Πορείας: 5 περίπου με τις στάσεις\nΒαθμός Δυσκολίας: 1+  \n(1 Εύκολο – 2 Μέτριο – 3 Απαιτητικό – 4 Δύσκολο – 5 Τεχνικό\, υψηλών απαιτήσεων )\n\nΣημείο και ώρα Συνάντησης \nΜονή Δαφνίου https://maps.app.goo.gl/2SXLXaoCSu5vY91Q8 \nΏρα : 08:30  \nΚόστος : Κόστος :  5€ για τα μη μέλη\, δωρεάν για τα ενεργά μέλη της ΠΟΥ ( έχουν πληρώσει την συνδρομή του 2025 ) \nΔηλώσεις μέσω αυτής της ηλεκτρονικής φόρμας\, \n https://forms.gle/35booZsVNrMCYRik7\n\nστα γραφεία της ομάδας (Οδεμησίου 12- Καισαριανή)\,  τηλ. 2107245353\,  Τετάρτη\, ώρες 18.00-21.00
URL:https://poymittou.gr/event/%ce%bc%ce%bf%ce%bd%ce%ae-%ce%b4%ce%b1%cf%86%ce%bd%ce%af%ce%bf%cf%85-%cf%8c%cf%81%ce%bf%cf%82-%ce%b1%ce%b9%ce%b3%ce%ac%ce%bb%ce%b5%cf%89/
LOCATION:Μονή Δαφνίου\, Greece
CATEGORIES:Εκδηλώσεις ΠΟΥ
ATTACH;FMTTYPE=image/jpeg:https://poymittou.gr/wp-content/uploads/2025/03/Dafni.jpg
END:VEVENT
BEGIN:VEVENT
DTSTART;TZID=Europe/Athens:20250408T210000
DTEND;TZID=Europe/Athens:20250409T230000
DTSTAMP:20260417T105750
CREATED:20250325T200433Z
LAST-MODIFIED:20250325T201111Z
UID:2359-1744146000-1744239600@poymittou.gr
SUMMARY:«ΣΙΩΠΗΛΕΣ ΚΡΑΥΓΕΣ» - ΘΕΑΤΡΟ ΠΡΟΒΑ
DESCRIPTION:Την Τρίτη 8 Απριλίου 2025 η ομάδα μας πάει θέατρο στην παράσταση «ΣΙΩΠΗΛΕΣ ΚΡΑΥΓΕΣ» με μειωμένο εισιτήριο στην τιμή των 9€\, αντί της κανονικής τιμής των 18€ το άτομο. \nΗ παράσταση μιλάει για έναν ήρωα που πέρασε όλη του τη ζωή ως ηθοποιός του θεάτρου και τώρα που μεγάλωσε δεν μπορεί να πιστέψει ότι τελείωσε η καριέρα του και μία μάνα που μπροστά στα μάτια της δολοφονήθηκε ο γιος της από τους φασίστες στο Πραξικόπημα στην Κύπρο το 1974.\nΣύμβολο κάθε αδικαίωτης μάνας\, έρχεται να θέσει ξανά ερωτήματα που παραμένουν αναπάντητα.\nΟι ήρωες αυτοί είναι πρόσωπα συναισθηματικά εύθραυστα που χαρακτηρίζονται από απέραντη εσωτερική μοναξιά που προέρχεται κυρίως από την αδιαφορία του κοινωνικού περίγυρου.\nΆτομα που βιώνουν μια βασανιστική καθημερινή ρουτίνα που τους οδηγεί αναπόφευκτα σε απόγνωση\, απομόνωση και σε αδιέξοδο.\nΆτομα με καταργημένες ελπίδες και κατακερματισμένα όνειρα\, καταρρακωμένες προσωπικότητες. \nΣΥΝΤΕΛΕΣΤΕΣ :\nΣυγγραφείς : ΚΩΣΤΟΥΛΑ ΜΗΤΡΟΠΟΥΛΟΥ\, ΓΙΩΡΓΟΣ ΝΕΟΦΥΤΟΥ\nΠροσαρμογή Κειμένου: ΣΩΤΗΡΗΣ ΤΣΟΓΚΑΣ\nΣκηνοθεσία- Φωτισμοί: ΣΩΤΗΡΗΣ ΤΣΟΓΚΑΣ\nΣκηνικά- Κοστούμια: ΜΙΧΑΛΗΣ ΣΔΟΥΓΚΟΣ\nΜουσική: ΝΙΚΟΣ ΧΑΡΙΖΑΝΟΣ\nΣτα νανουρίσματα ακούγεται η φωνή των: ΛΕΩΝΙΔΑΣ ΣΑΚΕΛΛΑΡΙΔΗΣ – LUCIE LOUVRIER\nΑκορντεόν (BAYAN): VALENTYNA AKHMEDZYANOVA\nΣχεδιασμός φωτισμών ΓΙΩΡΓΟΣ ΣΗΦΑΚΗΣ\nΑ΄ Βοηθός Σκηνοθέτη: ΦΛΩΡΕΝΤΙΑ ΝΤΑΗ\nΒ΄ Βοηθός Σκηνοθέτη: ΚΩΣΤΑΣ ΚΑΤΣΕΝΟΣ\nΒοηθός Σκηνογράφου: ΔΗΜΗΤΡΗΣ ΚΑΛΑΜΑΤΑΣ \nΘΕΑΤΡΟ ΠΡΟΒΑ (ΚΕΝΤΡΙΚΗ ΣΚΗΝΗ)\nΔιεύθυνση: Ηπείρου 39\, Αθήνα 104 39\nΤηλέφωνο: 21 0881 8326\nΠληροφορίες: https://prova.gr/\nFacebook: https://www.facebook.com/prova.theater\nΏρα παράστασης: Τρίτη στις 21:00 (ώρα προσέλευσης 20:30)\nΔιάρκεια : 80 λεπτά \nΕπικοινωνία για οποιαδήποτε πληροφορία: μέσω messenger ή\nμε e-mail: info@poymittou.gr ή στο τηλ. 6984232200 (Βασίλης) \nΔηλώστε συμμετοχή:\nhttps://forms.gle/ajjqnpp1BeEwb7Ua6 \n\nΠληροφορίες για την παράσταση\nhttps://www.athinorama.gr/theatre/3038075/apokleistiko-siopiles-krauges-me-ti-mairi-razi-kai-ton-sotiri-tsogka/ \nΚριτικές κοινού\nhttps://www.athinorama.gr/theatre/performance/siopiles_krauges-10084267/
URL:https://poymittou.gr/event/prova-theater/
LOCATION:Ηπείρου 39\, 104 39 Αθήνα\, Ελλάδα\, Ηπείρου 39\, 104 39 Αθήνα\, Ελλάδα
CATEGORIES:Εκδηλώσεις ΠΟΥ
ATTACH;FMTTYPE=image/webp:https://poymittou.gr/wp-content/uploads/2025/03/theatro_prova_siwphles_krayges_new_d901.webp
ORGANIZER;CN="%CE%A0%CE%B5%CF%81%CE%B9%CF%80%CE%B1%CF%84%CE%B7%CF%84%CE%B9%CE%BA%CE%AE %CE%9F%CE%BC%CE%AC%CE%B4%CE%B1 %CE%A5%CE%BC%CE%B7%CF%84%CF%84%CE%BF%CF%8D %CE%A0 %CE%9F %CE%A5 - %CE%A3%CE%B5%CE%BB%CE%AF%CE%B4%CE%B1":MAILTO:noreply@facebookmail_com
END:VEVENT
BEGIN:VEVENT
DTSTART;TZID=Europe/Athens:20250413T083000
DTEND;TZID=Europe/Athens:20250413T113000
DTSTAMP:20260417T105750
CREATED:20250406T211525Z
LAST-MODIFIED:20250407T101833Z
UID:2369-1744533000-1744543800@poymittou.gr
SUMMARY:Το μονοπάτι του Ηριδανού
DESCRIPTION:“Μια πεζοπορία στο βάθος του χρόνου…”\nΈνα μονοπάτι που ακολουθεί τη ροή της ζωής…\nΠάμε μαζί να περπατήσουμε δίπλα στον Ηριδανό ποταμό του Υμηττού\, εκεί όπου η φύση αγκαλιάζει την ιστορία και ο χρόνος κυλάει σαν νερό…\nΑνακαλύπτουμε:\n⛪ Την “Τρύπια Εκκλησία” ή Ανάληψη\, ένα μυστικό λαξευμένο στο βράχο…\n⛲ Τις πηγές της Καλοπούλας\, πνοή δροσιάς και ομορφιάς…\n🕊️ Τη Μονή Καισαριανής\, φρουρό του δάσους και της μνήμης… \nΜια διαδρομή μέσα στη φύση\, στην ιστορία και στην ψυχή του βουνού. Εκεί που ο Ηριδανός κάποτε πότιζε πολιτισμούς\, και ακόμα ψιθυρίζει μυστικά στο φύλλωμα…\nΈλα να περπατήσουμε μαζί\nνα συνδεθούμε με τον τόπο\,\nνα αφουγκραστούμε τη ροή του ποταμού\,\nνα νιώσουμε τη γαλήνη του Υμηττού… \nΣημεία ενδιαφέροντος που θα συναντήσουμε: Πάρκο Ξύλινων Καισαριανής\, Πυροφυλάκιο Καισαριανής\, Καλοπούλα\, Ανάληψη\, Μόνη Καισαριανής\, Ταξιάρχες. \nΣημείο συνάντησης: Ξύλινα Καισαριανής – Είσοδος \nΑντιγραφή και επικόλληση στους Χάρτες: \nXQ8F+96C\, Καισαριανή   ή     37°57’57.4″N 23°46’22.8″E \nΏρα έναρξης: 8.30 ⏰\nΜήκος διαδρομής ~8 χλμ\nΔιάρκεια δράσης : ~3\,5 ώρες\nΥψομετρική Διαφορά: 270μ\nΒαθμός δυσκολίας : 1 (για όλους που δεν έχουν πρόβλημα υγείας ) . \nΒαθμοί δυσκολίας : 1 Εύκολο – 2 Μέτριο – 3 Απαιτητικό – 4 Δύσκολο – 5 Τεχνικό\, Υψηλών Απαιτήσεων \nΧάρτη του μονοπατιού μπορείτε να κατεβάσετε απο την εφαρμογή anavasi map\, στην επιλογή “ΔΩΡΕΑΝ” χάρτες με την ονομασία “Μονοπάτι Καισαριανής”\nστην παρακάτω διεύθυνση :\nhttps://anavasi.gr/anavasi-mapp-cartographic-application-gr \nΚόστος Δράσης:\n• 3\,00€ για τα μη μέλη\n• Δωρεάν για τα ενεργά μέλη(έχουν πληρώσει τη συνδρομή του τρέχοντος έτους ) \n📢 : απευθύνεται σε άτομα με καλή διάθεση για μια όμορφη πεζοπορία φυσική κατάσταση χωρίς\nιδιαίτερα προβλήματα.\nΑπαραίτητα παπούτσια πεζοπορίας 🥾\nθα είναι μια όμορφη πεζοπορία \, και για να την απολαύσουμε θα πρέπει όλοι μας\, να είμαστε εφοδιασμένοι με τα παρακάτω:\n2. Μπατόν🥢\n3. Σακίδιο πλάτης μέχρι 35 lt\n🎒(για τον Υμηττό)\, νερό🍶(1 ή 1.5 lt) και κάποιο σνακ 🍌(φρούτα/ ξηρούς καρπούς/μπάρα δημητριακών)\n4. Ατομικό φαρμακείο🎒\n6.Αδιάβροχο 🌧(πάντα προληπτικά)\n7.Μπουφάν /αντιανεμικό🧥 \n* Η συμμετοχή σας γίνεται με δική σας ευθύνη\, εφόσον έχετε ενημερωθεί για την διαδικασία από την ομάδα μας πριν την έναρξη της πεζοπορίας\, και η ομάδα δεν αναλαμβάνει καμία ευθύνη για οποιοδήποτε ατυχές περιστατικό! \n* Σε κάθε πεζοπορία η ομάδα έχει πλήρη φαρμακείο και άτομο με γνώσεις πρώτων βοηθειών που συνοδεύει την ομάδα. \nΔηλώσεις μέσω αυτής της ηλεκτρονικής φόρμας\,\nhttps://forms.gle/WM96dBmy2aLGRj2j9 \nΟδηγός Διαδρομής: Κιτσέλλης Μάνος \, 6938283898 τηλ. για τεχνικές πληροφορίες και τηλ. ανάγκης κατά την διάρκεια της δράσης. \n\n🐈*Όποιος επιθυμεί να συνεισφέρει στη δράση για τη σίτιση των αδέσποτων ζώων που βρίσκονται στο βουνό\, μπορεί φέρνοντας τροφή ( κονσέρβα/ξηρά τροφή ) και να τη παραδώσει πριν την έναρξη της διαδρομής\, η οποία θα δοθεί σε άτομα που βοηθούν στη σίτιση.🐕\n\n\nΠροσοχή στις Ανοιξιάτικες αλλεργίες !!!\n\nΠληροφορίες:\ne mail : info@poymittou.gr ή στο messenger της ομάδας.
URL:https://poymittou.gr/event/%cf%84%ce%bf-%ce%bc%ce%bf%ce%bd%ce%bf%cf%80%ce%ac%cf%84%ce%b9-%cf%84%ce%bf%cf%85-%ce%b7%cf%81%ce%b9%ce%b4%ce%b1%ce%bd%ce%bf%cf%8d/
LOCATION:Online Event\, Online Event
CATEGORIES:Εκδηλώσεις ΠΟΥ
ATTACH;FMTTYPE=image/png:https://poymittou.gr/wp-content/uploads/2025/04/Το-μονοπάτι-του-Ηριδανού.png
ORGANIZER;CN="%CE%A0%CE%B5%CF%81%CE%B9%CF%80%CE%B1%CF%84%CE%B7%CF%84%CE%B9%CE%BA%CE%AE %CE%9F%CE%BC%CE%AC%CE%B4%CE%B1 %CE%A5%CE%BC%CE%B7%CF%84%CF%84%CE%BF%CF%8D %CE%A0 %CE%9F %CE%A5 - %CE%A3%CE%B5%CE%BB%CE%AF%CE%B4%CE%B1":MAILTO:noreply@facebookmail_com
END:VEVENT
BEGIN:VEVENT
DTSTART;TZID=Europe/Athens:20250427T083000
DTEND;TZID=Europe/Athens:20250427T140000
DTSTAMP:20260417T105750
CREATED:20250415T144037Z
LAST-MODIFIED:20250415T151908Z
UID:2385-1745742600-1745762400@poymittou.gr
SUMMARY:Νότιος Υμηττός: Σφηττία οδός
DESCRIPTION:Την Κυριακή 27/4/2025 θα περπατήσουμε σε ένα αρχαίο μονοπάτι\, την Σφηττία οδό\, που διέτεμνε τον Υμηττό από το πιο χαμηλό διάσελο του\, το πέρασμα του Σταυρού. Ένα μονοπάτι με εναλλαγές τοπίου\, όπου θα συναντήσουμε ασβεστοκάμινα\, βάραθρα\, σπήλαια\, αρχαίους ναούς\, μαγευτική θέα και πλούσιους γεωλογικούς θησαυρούς.\nΜε αφετηρία το “Μαντρί” (ταβέρνα στην Άνω Γλυφάδα )\, μέσω του ρέματος Πιρνάρι θα περπατήσουμε προς το διάσελο του Σταυρού και θα φτάσουμε μέχρι το λόφο του Προφήτη Ηλία (θα κάνουμε στάση\, υπάρχει πηγάδι με πόσιμο νερό και μπορείτε να απολαύσετε το κολατσιό σας). Στο σημείο αυτό θα μάθουμε την ιστορία του ενεργειακού αυτού χώρου\, όπου σύμφωνα με την αρχαιολογία βρίσκεται το Ιερό του Ομβρίου Διός και του Προοψίου Απόλλωνος.\nΗ επιστροφή μας θα γίνει από το ίδιο μονοπάτι Φακούς/Μπατόν /Χαμόγελα και ξεκινάμε να μάθουμε και να φωτίσουμε τις αθέατες όψεις του αγαπημένου μας βουνού.\nΗ πεζοπορία της Κυριακής απευθύνεται σε άτομα με καλή φυσική κατάσταση. Λόγω του δύσκολου πεδίου που θα διεξαχθεί η πεζοπορία παρακαλούνται\nοι συμμετέχοντες να φοράνε μποτάκια και να διαθέτουν μπατόν. \nΣτοιχεία Διαδρομής:\nΑπόσταση: ~10 χλμ\nΥψομετρική διαφορά: 350μ\nΔιάρκεια: ~5 ώρες (με τις στάσεις)\nΒαθμός Δυσκολίας: 1+ (1 Εύκολο – 2 Μέτριο – 3 Απαιτητικό – 4 Δύσκολο – 5 Τεχνικό\, υψηλών απαιτήσεων ) \nΣημείο και ώρα Συνάντησης \nhttps://maps.app.goo.gl/vSR5FA48WYavk68K7?g_st=av \nή \nαντιγραφή και επικόλληση στους χάρτες google \n37°54’29.2″N 23°46’29.8″E \nή \nWQ5G+C3 Γλυφάδα \nΏρα : 08:30 \nΚόστος : 3€ για τα μη μέλη\, δωρεάν για τα ενεργά μέλη της ΠΟΥ ( έχουν πληρώσει την συνδρομή του 2025 ) \nΔηλώσεις μέσω της ηλεκτρονικής φόρμας\,\nhttps://forms.gle/EdJjwcjh9cpeepJi7\nή\nστα γραφεία της ομάδας (Οδεμησίου 12- Καισαριανή)\,\nτηλ. 2107245353\, Τετάρτη\, ώρες 18.00-21.00 \nΟ αρχηγός της εκδρομής έχει το δικαίωμα\, να τροποποιήσει ή να ματαιώσει ένα πρόγραμμα που είναι σε εξέλιξη ή πριν την έναρξη αυτού\, για λόγους ασφάλειας ή ανωτέρας βίας (φυσικές καταστροφές\, ακατάλληλες καιρικές συνθήκες\, κλπ) ή και να αποκλείσει συμμετέχοντα λόγω έλλειψης ορειβατικού εξοπλισμού. Όποιος συμμετέχει\, γνωρίζει τις απαιτήσεις και την επικινδυνότητα της δραστηριότητας στην οποία συμμετέχει και αναλαμβάνει ατομικά την ευθύνη της συμμετοχής του στην δραστηριότητα\, όπως άλλωστε προβλέπεται από την διακήρυξη του Τυρόλου 8η Σεπτεμβρίου 2003 παράρτημα 1\, άρθρο 1 – Περί Ατομικής Ευθύνης\, αποδεχόμενος τους κινδύνους που ενέχει καθώς και την ευθύνη για την ασφάλειά του. Επίσης πρέπει να έχει άριστη σωματική & ψυχική υγεία και να ενημερώνει τον αρχηγό για τυχόν προβλήματα υγείας. \nΕξοπλισμός πεζοπορίας: \n🛑 Υποχρεωτικά 🥾Μποτάκια Πεζοπορίας\n🛑 Μπατόν 🦯\n– Νερό (1.5lt)🍶\n– Σνάκ (φρούτο\, μπάρα δημητριακών κ.α.)🍌\n– Ατομικό Φαρμακείο⛑\n– Αντιανεμικό💨🧥\n-Αδιάβροχο 💦 \nΕπικοινωνία για οποιαδήποτε πληροφορία:\nΜήνυμα μέσω inbox ή e- mail: info@poymittou.gr\nτηλ. για τεχνικές πληροφορίες διαδρομής: 6983506385 (Δημήτρης Μανιός)
URL:https://poymittou.gr/event/%cf%83%cf%86%ce%b7%cf%84%cf%84%ce%af%ce%b1-%ce%bf%ce%b4%cf%8c%cf%82-2025/
LOCATION:Οδεμησίου 12\, 16122 Kaisarianí\, Greece\, Οδεμησίου 12\, 16122 Kaisarianí\, Greece
CATEGORIES:Εκδηλώσεις ΠΟΥ
ATTACH;FMTTYPE=image/png:https://poymittou.gr/wp-content/uploads/2025/04/Σφηττία-οδός-1.png
ORGANIZER;CN="%CE%A0%CE%B5%CF%81%CE%B9%CF%80%CE%B1%CF%84%CE%B7%CF%84%CE%B9%CE%BA%CE%AE %CE%9F%CE%BC%CE%AC%CE%B4%CE%B1 %CE%A5%CE%BC%CE%B7%CF%84%CF%84%CE%BF%CF%8D %CE%A0 %CE%9F %CE%A5 - %CE%A3%CE%B5%CE%BB%CE%AF%CE%B4%CE%B1":MAILTO:noreply@facebookmail_com
END:VEVENT
END:VCALENDAR