BEGIN:VCALENDAR
VERSION:2.0
PRODID:-//Περιπατητική Ομάδα Υμηττού - ECPv6.15.20//NONSGML v1.0//EN
CALSCALE:GREGORIAN
METHOD:PUBLISH
X-WR-CALNAME:Περιπατητική Ομάδα Υμηττού
X-ORIGINAL-URL:https://poymittou.gr
X-WR-CALDESC:Events for Περιπατητική Ομάδα Υμηττού
REFRESH-INTERVAL;VALUE=DURATION:PT1H
X-Robots-Tag:noindex
X-PUBLISHED-TTL:PT1H
BEGIN:VTIMEZONE
TZID:Europe/Athens
BEGIN:DAYLIGHT
TZOFFSETFROM:+0200
TZOFFSETTO:+0300
TZNAME:EEST
DTSTART:20240331T010000
END:DAYLIGHT
BEGIN:STANDARD
TZOFFSETFROM:+0300
TZOFFSETTO:+0200
TZNAME:EET
DTSTART:20241027T010000
END:STANDARD
BEGIN:DAYLIGHT
TZOFFSETFROM:+0200
TZOFFSETTO:+0300
TZNAME:EEST
DTSTART:20250330T010000
END:DAYLIGHT
BEGIN:STANDARD
TZOFFSETFROM:+0300
TZOFFSETTO:+0200
TZNAME:EET
DTSTART:20251026T010000
END:STANDARD
BEGIN:DAYLIGHT
TZOFFSETFROM:+0200
TZOFFSETTO:+0300
TZNAME:EEST
DTSTART:20260329T010000
END:DAYLIGHT
BEGIN:STANDARD
TZOFFSETFROM:+0300
TZOFFSETTO:+0200
TZNAME:EET
DTSTART:20261025T010000
END:STANDARD
END:VTIMEZONE
BEGIN:VEVENT
DTSTART;TZID=Europe/Athens:20251005T080000
DTEND;TZID=Europe/Athens:20251005T080000
DTSTAMP:20260419T225504
CREATED:20250930T141558Z
LAST-MODIFIED:20250930T141854Z
UID:2532-1759651200-1759651200@poymittou.gr
SUMMARY:Υμηττός και ξεχασμένα μονοπάτια 🥾🌲
DESCRIPTION:🥾🌲Πεζοπορία στον Υμηττό 🌄✨ \nΤην Κυριακή 5/10/2025 πάμε για μια ενδιαφέρουσα κυκλική διαδρομή ~8km στον κεντρικό Υμηττό!\n📌Εξερευνούμε τον Πύργος Ανθούσης\, απολαμβάνουμε τη θέα από το διάσελο του ΟΤΕ και επιστρέφουμε κάνοντας μια στάση στην Καλοπούλα! \n🥾 Διαδρομή που θα ακολουθήσουμε 🌲✨ \nΘα ξεκινήσουμε από το Πυροφυλάκιο Καισαριανής\, “Δημήτρης Καραμολέγκος” και θα ακολουθήσουμε το μονοπάτι 5 κάνοντας μια στάση στον Πύργο Ανθούσης και θα κατευθυνθούμε προς το βάραθρο Αστερίου. Στην συνέχεια θα ανηφορίσουμε απολαμβάνοντας τη θέα προς το λεκανοπέδιο της Αττικής “ψάχνοντας” το μονοπάτι 8 που θα μας οδηγήσει στο διάσελο του ΟΤΕ απ’ όπου θα αντικρίσουμε τα Μεσόγεια Αττικής που εκτείνονται ανατολικά του Υμηττού\, ο οποίος και τα διαχωρίζει από το λεκανοπέδιο. Από εκεί θα πάρουμε το δρόμο της επιστροφής. Όσοι θέλουν\, μπορούν να κάνουν στάση στο αναψυκτήριο της Καλοπούλας για ξεκούραση. \n📍Συνάντηση: Πυροφυλάκιο Καραμολέγκος\n⏰Ώρα: 08:00 π.μ.\n⛰️Υψομετρική ανάβαση/κατάβαση: 400 m\n⏳Χρόνος: ~4 ώρες με στάσεις\n⚡Βαθμός δυσκολίας: 1+ \nΒαθμοί δυσκολίας : 1 Εύκολο – 2 Μέτριο – 3 Απαιτητικό – 4 Δύσκολο – 5 Τεχνικό\, Υψηλών Απαιτήσεων) \n💚Φόρα τα πεζοπορικά παπούτσια σου\, πάρε καλή διάθεση και έλα να γνωρίσουμε μαζί τις κρυφές ομορφιές του Υμηττού! \n📩Για συμμετοχή & πληροφορίες μέσω της ηλεκτρονικής φόρμας\nhttps://forms.gle/At2T2LwwxQ5PEXQh7 \nή\nστα γραφεία της ομάδας (Οδεμησίου 12- Καισαριανή)\,\nτηλ. 2107245353\, Τετάρτη\, ώρες 18.30-20.30 \nΚόστος : 3€ για τα μη μέλη\, δωρεάν για τα ενεργά μέλη της ΠΟΥ ( έχουν πληρώσει την συνδρομή του 2025 ) \n🛑 Υποχρεωτικά 🥾Μποτάκια Πεζοπορίας \nΕξοπλισμός πεζοπορίας: \n\nΝερό (1.5lt)🍶\nΜπατόν 🦯 ( προαιρετικά )\nΣνάκ (φρούτο\, μπάρα δημητριακών κ.α.)🍌\nΑτομικό Φαρμακείο⛑\nΑντιανεμικό💨🧥\nΑδιάβροχο 💦\n\nΟ αρχηγός της εκδρομής έχει το δικαίωμα\, να τροποποιήσει ή να ματαιώσει ένα πρόγραμμα που είναι σε εξέλιξη ή πριν την έναρξη αυτού\, για λόγους ασφάλειας ή ανωτέρας βίας (φυσικές καταστροφές\, ακατάλληλες καιρικές συνθήκες\, κλπ) ή και να αποκλείσει συμμετέχοντα λόγω έλλειψης\nορειβατικού εξοπλισμού. Όποιος συμμετέχει\, γνωρίζει τις απαιτήσεις και την επικινδυνότητα της δραστηριότητας στην οποία συμμετέχει και αναλαμβάνει ατομικά την ευθύνη της συμμετοχής του στην δραστηριότητα\, όπως άλλωστε προβλέπεται από την διακήρυξη του Τυρόλου 8η Σεπτεμβρίου 2003 παράρτημα 1\, άρθρο 1 – Περί Ατομικής Ευθύνης\, αποδεχόμενος τους κινδύνους που ενέχει καθώς και την ευθύνη για την ασφάλειά του. Επίσης πρέπει να έχει άριστη σωματική & ψυχική υγεία και να ενημερώνει τον αρχηγό για τυχόν προβλήματα υγείας. \nΕπικοινωνία για οποιαδήποτε πληροφορία: Μήνυμα μέσω inbox ή e- mail: info@poymittou.gr \nτηλ. για τεχνικές πληροφορίες διαδρομής: 6938283898 (Μάνος Κιτσέλλης) \n🐾Όποιος επιθυμεί να συνεισφέρει στη δράση για τη σίτιση των αδέσποτων ζώων που βρίσκονται στο βουνό\, μπορεί φέρνοντας τροφή ( κονσέρβα/ξηρά τροφή ) και να τη παραδώσει πριν την έναρξη της διαδρομής\,\nη οποία θα δοθεί σε άτομα που την\nέχουν αναλάβει.🐕🐈🐾\n* Όποιος/α επιθυμεί την εγγραφή ή την ανανέωση της συνδρομής στην ομάδα η προσέλευση\nθα πρέπει να είναι μισή ώρα νωρίτερα στο σημείο συνάντησης \, ώστε να μην υπάρξει καθυστέρηση\n*
URL:https://poymittou.gr/event/%cf%85%ce%bc%ce%b7%cf%84%cf%84%cf%8c%cf%82-%ce%ba%ce%b1%ce%b9-%ce%be%ce%b5%cf%87%ce%b1%cf%83%ce%bc%ce%ad%ce%bd%ce%b1-%ce%bc%ce%bf%ce%bd%ce%bf%cf%80%ce%ac%cf%84%ce%b9%ce%b1-%f0%9f%a5%be%f0%9f%8c%b2/
LOCATION:Οδεμησίου 12\, 16122 Kaisarianí\, Greece\, Οδεμησίου 12\, 16122 Kaisarianí\, Greece
CATEGORIES:Εκδηλώσεις ΠΟΥ
ATTACH;FMTTYPE=image/jpeg:https://poymittou.gr/wp-content/uploads/2025/09/2532_image_557496432_1379646394161033_1470437810139795588_n.jpg
END:VEVENT
BEGIN:VEVENT
DTSTART;TZID=Europe/Athens:20251011T070000
DTEND;TZID=Europe/Athens:20251012T220000
DTSTAMP:20260419T225504
CREATED:20250718T134143Z
LAST-MODIFIED:20250719T064003Z
UID:2471-1760166000-1760306400@poymittou.gr
SUMMARY:Εξόρμηση στα Λουτρά Σμοκόβου - Ανατολικά Άγραφα (2ήμερη)
DESCRIPTION:Σε αυτή τη διήμερη εξόρμηση\, συνδυάζουμε την ενέργεια της ορεινής πεζοπορίας με τη χαλάρωση που προσφέρουν οι φημισμένες ιαματικές πηγές του Σμοκόβου!\nΤα ιαματικά νερά\, που αναβλύζουν από πέντε φυσικές πηγές με θερμοκρασία από 37°C έως 40\,2°C\, διοχετεύονται στο υδροθεραπευτήριο και ξεχωρίζουν για τη θειούχα αλκαλική τους σύσταση\, τη χαρακτηριστική οσμή υδρόθειου και τις εξαιρετικές θεραπευτικές τους ιδιότητες. Μετά τον πρόσφατο εκσυγχρονισμό τους\, οι εγκαταστάσεις βρίσκονται σε άριστη κατάσταση. \nΑναλυτικό Πρόγραμμα \nΣάββατο 11 Οκτωβρίου \n\nΑναχώρηση στις 07:00 από στάση μετρό ΦΙΞ και 07:15 από το πάρκινγκ του γηπέδου Κρητικόπουλου (Καισαριανή) με προορισμό τα Λουτρά Σμοκόβου.\nΆφιξη στο χωριό Λουτροπηγή και έναρξη της πεζοπορίας προς τα Λουτρά Σμοκόβου.\nΗ διαδρομή μας διασχίζει δάσος με βελανιδιές και φτάνει στο ιστορικό κάστρο Μενελαΐδας (Προφήτης Ηλίας)\, σε υψόμετρο 977 μ.\, όπου σώζονται ερείπια από τα αρχαία τείχη των Δολόπων (χρονολογούνται περίπου 3200 χρόνια πίσω). Η θέα προς τη λίμνη Σμοκόβου\, τον θεσσαλικό κάμπο και τα γύρω βουνά είναι εντυπωσιακή.\nΗ πεζοπορία είναι ήπιας δυσκολίας\, συνολικής διάρκειας περίπου 3\,5 ωρών\, με μήκος διαδρομής 6\,5 χλμ. και υψομετρική διαφορά +260μ / -570μ.\nΜετά την πεζοπορία\, τακτοποίηση στα δωμάτια\, χρόνος για ξεκούραση\, χαλάρωση στα ιαματικά λουτρά και δοκιμή τοπικών γεύσεων.\n\nΚυριακή 12 Οκτωβρίου \n\nΗ σημερινή διαδρομή περιλαμβάνει ανάβαση μέσα από πανέμορφο ελατόδασος\, στα όρια των νομών Ευρυτανίας και Καρδίτσας\, προς την κορυφή της Βουλγάρας (1685μ.)\, στα ανατολικά Άγραφα με την εκπληκτική θέα.\nΗ πεζοπορία ξεκινά από το ειδυλλιακό διάσελο Ζαχαράκη (γνωστό και ως “θέση Ταρζάν”)\, στο δρόμο που συνδέει τη Φουρνά Ευρυτανίας με τη Ρεντίνα.\nΣυνολική διάρκεια: περίπου 5 – 6 ώρες\, απόσταση: 12 – 15 χλμ. (μετ’ επιστροφής και αναλόγως την δυναμική της ομάδας)\, υψομετρική διαφορά: +500μ – +650μ.\nΕπιστροφή στα Λουτρά για φαγητό και ακολούθως αναχώρηση για Αθήνα.\n\n* Για όσους επιθυμούν χαλαρότερη δραστηριότητα\, υπάρχει η δυνατότητα παραμονής στον ξενώνα ή ήπιας περιπατητικής διαδρομής στο κοντινό δάσος μέχρι την επιστροφή της πεζοπορικής ομάδας. \nΚόστος Συμμετοχής \n\n90 ευρώ / άτομο σε δίκλινο\n85 ευρώ / άτομο σε τρίκλινο\n80 ευρώ / άτομο σε τετράκλινο\, πεντάκλινο\n\nΠεριλαμβάνονται \n\nΜεταφορά με λεωφορείο από/προς Αθήνα\nΈμπειροι συνοδοί\nΔιαμονή στον ξενώνα Ζαχαράκη (σε δίκλινα\, τρίκλινα ή\nτετράκλινα δωμάτια)\n\nΑπαραίτητος Εξοπλισμός \n\nΟρειβατικά ή πεζοπορικά παπούτσια\nΜπατόν (προαιρετικά αλλά χρήσιμα)\nΡούχα κατάλληλα για την εποχή\nΜαγιό\nΠετσέτα\, Σαγιονάρες\, Αφρόλουτρο ( για τα λουτρά)\n\nΕκδήλωση ενδιαφέροντος μέσω της ηλεκτρονικής φόρμας: \nΛόγω περιορισμένων θέσεων οι διαθέσιμες θέσεις έχουν συμπληρωθεί. Όσοι ενδιαφέρονται να συμμετάσχουν\, παρακαλούνται να δηλώσουν συμμετοχή στη λίστα αναμονής\, ώστε να ενημερωθούν σε περίπτωση που υπάρξουν ακυρώσεις. Σε περίπτωση που υπάρξουν διαθέσιμες θέσεις\, θα τηρηθεί σειρά προτεραιότητας με βάση την ημερομηνία δήλωσης στη λίστα αναμονής. \nhttps://forms.gle/GdGJxWTiQ4fvwXTU7  \nΗ συμμετοχή σας διασφαλίζεται ΜΟΝΟ με την προκαταβολή του ποσού των 50 € \nΕUROBANK IBAN: GR2202606400000820200214333 (Δικαιούχος: ΠΕΡΙΠΑΤΗΤΙΚΉ ΟΜΑΔΑ ΥΜΗΤΤΟΥ) \n⚠️Τυχόν τραπεζικά έξοδα\, βαρύνουν εξ’ ολοκλήρου τον συμμετέχοντα-καταθέτη. \nΑκυρώσεις 14 μέρες πριν την πεζοπορία (ημέρα Σάββατο) επιστρέφονται τα χρήματα\, διαφορετικά δεν επιστρέφεται τίποτα αν δεν καλυφθεί η θέση. \nΠληροφορίες\nemail: info@poymittou.gr\nστα γραφεία της ομάδας (Οδεμησίου 12- Καισαριανή)\,\nτηλ. 2107245353\, Τετάρτη\, ώρες 18.00-21.00\nΣπυριδούλα Παλαιοκώστα: 6944857273\nΓιώργος Παπαμήτσος: 6973026445
URL:https://poymittou.gr/event/%ce%bb%ce%bf%cf%85%cf%84%cf%81%ce%ac-%cf%83%ce%bc%ce%bf%ce%ba%cf%8c%ce%b2%ce%bf%cf%85-%ce%b1%ce%bd%ce%b1%cf%84%ce%bf%ce%bb%ce%b9%ce%ba%ce%ac-%ce%ac%ce%b3%cf%81%ce%b1%cf%86%ce%b1/
LOCATION:Λουτρά Σμοκόβου
CATEGORIES:Εκδηλώσεις ΠΟΥ
ATTACH;FMTTYPE=image/jpeg:https://poymittou.gr/wp-content/uploads/2025/07/2471_image_518350604_1312867004172306_8420827048966936672_n.jpg
END:VEVENT
BEGIN:VEVENT
DTSTART;TZID=Europe/Athens:20251019T090000
DTEND;TZID=Europe/Athens:20251019T150000
DTSTAMP:20260419T225504
CREATED:20250928T162748Z
LAST-MODIFIED:20251018T103453Z
UID:2526-1760864400-1760886000@poymittou.gr
SUMMARY:Πάρνηθα: Φαράγγι Χούνης - καταφύγιο Φλαμπούρι
DESCRIPTION:🌄✨Αφήστε πίσω τη φασαρία της πόλης! Σας προσκαλούμε σε μια πεζοπορία στον Εθνικό Δρυμό της Πάρνηθας\, μία από τις πιο κλασικές και εντυπωσιακές διαδρομές του βουνού.\n🥾 Διαδρομή που θα ακολουθήσουμε 🌲✨\nΞεκινάμε από το πάρκινγκ του Τελεφερίκ και αμέσως μπαίνουμε στη μαγευτική διαδρομή του Φαραγγιού της Χούνης. Θα ακολουθήσουμε το καλά σηματοδοτημένο μονοπάτι\, μέσα σε ένα τοπίο με πλούσια βλάστηση και εντυπωσιακούς βραχώδεις σχηματισμούς\, ανεβαίνοντας σταδιακά προς την καρδιά του βουνού.\nΟ προορισμός μας είναι το Καταφύγιο Φλαμπούρι (στα 1.158μ.)\, όπου θα κάνουμε την απαραίτητη στάση για να απολαύσουμε τη μοναδική θέα\, να ξεκουραστούμε και να γεμίσουμε ενέργεια.\nΗ επιστροφή μας θα είναι πιο ξεκούραστη και με θέα! Από το καταφύγιο θα κατευθυνθούμε προς το Mont Parnes και στη συνέχεια\, θα χρησιμοποιήσουμε το Τελεφερίκ για την κατάβαση\, κλείνοντας την εξόρμηση με μια πανοραμική θέα του λεκανοπεδίου της Αττικής. \nΒασικές Πληροφορίες\n📍Συνάντηση: Σημείο Συνάντησης & Ώρα: Πάρκινγκ Τελεφερίκ Πάρνηθας\, στις ⏰09:00 π.μ. (Ώρα έναρξης πεζοπορίας).   Ακριβές σημείο https://maps.app.goo.gl/2g7BM6wUp4iQEo7C9\n📍 Σημείο Συνάντησης (Car Pooling): Όσοι επιθυμούν να μοιραστούν αυτοκίνητα (και έξοδα μετακίνησης)\, μπορούν να συναντηθούν νωρίτερα στο Πάρκινγκ του Γηπέδου Κρητικόπουλου στην Καισαριανή στις 8:00 π.μ.    https://maps.app.goo.gl/2g7BM6wUp4iQEo7C9\n📍 Μήκος Διαδρομής: Περίπου 10 χλμ.\n⛰️ Υψομετρική ανάβαση / κατάβαση: 750μ / 180 μ\n⛰️Υψηλότερο σημείο: 1158μ\n⛰️ Χαμηλότερο σημείο: 492μ\n⏳Χρόνος: ~6 ώρες (πεζοπορία & στάσεις)\n⚡ Βαθμός Δυσκολίας: 2+/5 – Μέτριος+ (Λόγω της συνεχούς και μεγάλης υψομετρικής ανάβασης στη Χούνη. Απαιτεί καλή φυσική κατάσταση).\nΒαθμοί δυσκολίας : 1 Εύκολο – 2 Μέτριο – 3 Απαιτητικό – 4 Δύσκολο – 5 Τεχνικό\, Υψηλών Απαιτήσεων) \nΤι Πρέπει να Έχετε Μαζί σας \n\nΟρειβατικά Μποτάκια (απαραίτητα).🥾\nΝερό (Τουλάχιστον 1.5 – 2 λίτρα).🍶\nΣνακ (Ενεργειακές μπάρες\, ξηροί καρποί\, φρούτα).🍌\nΑδιάβροχο / Αντιανεμικό και φλις💦 💨🧥\nΚαπέλο και αντηλιακό.\nΜπατόν (προαιρετικά\, βοηθούν πολύ στην ανάβαση). 🦯\nΑτομικό Φαρμακείο⛑\nΧρήματα (για το καταφύγιο).\n\nΚόστος : 5€ για τα μη μέλη\, δωρεάν για τα ενεργά μέλη της ΠΟΥ ( έχουν πληρώσει την συνδρομή του 2025 )\n\n📩Για συμμετοχή  απαραίτητη η συμπλήρωση της φόρμας: https://forms.gle/sBu6AzaPsE8N7EtW6 \nΠληροφορίες στα γραφεία της ομάδας (Οδεμησίου 12- Καισαριανή)\, τηλ. 2107245353\, Τετάρτη\, ώρες 18.30-20.30 \nΕπικοινωνία για οποιαδήποτε πληροφορία: Μήνυμα μέσω inbox ή e- mail: info@poymittou.gr \nτηλ. για τεχνικές πληροφορίες διαδρομής: 6973026445 (Γιώργος Παπαμήτσος) \nΟ αρχηγός της εκδρομής έχει το δικαίωμα\, να τροποποιήσει ή να ματαιώσει ένα πρόγραμμα που είναι σε εξέλιξη ή πριν την έναρξη αυτού\, για λόγους ασφάλειας ή ανωτέρας βίας (φυσικές καταστροφές\, ακατάλληλες καιρικές συνθήκες\, κλπ) ή και να αποκλείσει συμμετέχοντα λόγω έλλειψης  ορειβατικού εξοπλισμού. Όποιος συμμετέχει\, γνωρίζει τις απαιτήσεις και την επικινδυνότητα της δραστηριότητας στην οποία συμμετέχει και αναλαμβάνει ατομικά την ευθύνη της συμμετοχής του στην δραστηριότητα\, όπως άλλωστε προβλέπεται από την διακήρυξη του Τυρόλου 8η Σεπτεμβρίου 2003 παράρτημα 1\, άρθρο 1 – Περί Ατομικής Ευθύνης\, αποδεχόμενος τους κινδύνους που ενέχει καθώς και την ευθύνη για την ασφάλειά του. Επίσης πρέπει να έχει άριστη σωματική & ψυχική υγεία και να ενημερώνει τον αρχηγό για τυχόν προβλήματα υγείας. \n\n\n * Όποιος/α επιθυμεί την εγγραφή ή την ανανέωση της συνδρομής στην ομάδα η προσέλευση  θα πρέπει να είναι μισή ώρα νωρίτερα στο σημείο συνάντησης \, ώστε να μην υπάρξει καθυστέρηση  *
URL:https://poymittou.gr/event/%cf%80%ce%ac%cf%81%ce%bd%ce%b7%ce%b8%ce%b1-%cf%86%ce%b1%cf%81%ce%ac%ce%b3%ce%b3%ce%b9-%cf%87%ce%bf%cf%8d%ce%bd%ce%b7%cf%82/
CATEGORIES:Εκδηλώσεις ΠΟΥ
ATTACH;FMTTYPE=image/png:https://poymittou.gr/wp-content/uploads/2025/09/Η-πεζοπορία-στην-Παρνηθα-ακυρώνεται-1.png
END:VEVENT
BEGIN:VEVENT
DTSTART;TZID=Europe/Athens:20251026T083000
DTEND;TZID=Europe/Athens:20251026T123000
DTSTAMP:20260419T225504
CREATED:20251019T163010Z
LAST-MODIFIED:20251019T163744Z
UID:2548-1761467400-1761481800@poymittou.gr
SUMMARY:Υμηττός: λόφος Κουταλά
DESCRIPTION:Πεζοπορία στον Υμηττό 🌄✨ \nΑυτή την Κυριακή 26/10/2025 πεζοπορούμε στα καταπράσινα μονοπάτια του Λόφου Κουταλά\, στον οποίο βρίσκεται και η Ιερά Μονή Αγίου Γεωργίου Κουταλά\, στους πρόποδες του Υμηττού\, κάτω από το Δρακόσπιτο και δίπλα από το Στρατόπεδο Σακέτα Βύρωνα\, μέσα σε ένα καταπράσινο περιβάλλον στα νότια όρια του αισθητικού δάσους Καισαριανής. \nΗ Μονή\, που μνημονεύεται ως Άγιος Γεώργιος Κουταλέας\, έλαβε το προσωνύμιο της\, από την γνωστή παλιά Αθηναϊκή οικογένεια των Κουταλάδων.\nΗ λαϊκή παράδοση – μυθολογία θέλει όμως την ευρύτερη περιοχή να σχετίζεται με έναν άθλο του Ηρακλή και συγκεκριμένα την εξολόθρευση του λιονταριού του Κιθαιρώνα. Ο Ηρακλής φέρεται να εναπόθεσε στους πρόποδες του Υμηττού το τεράστιο ρόπαλο από γερό ξύλο (την κούταλη) με το οποίο φόνευσε λιοντάρι και έκτοτε η περιοχή αποκαλείτε Κουταλάς. \n🥾 Στοιχεία διαδρομής 🌲✨ \n📍Συνάντηση: Πυροφυλάκιο Καισαριανής\, “Δημήτρης Καραμολέγκος” https://goo.gl/maps/5pwkZxkCMuDMMUXP6\n⏰Ώρα: 08:30 π.μ.\n⛰️ Απόσταση: περίπου 8 χλμ.\n⛰️Υψομετρική ανάβαση: +300 μ\n⏳Χρόνος: ~4 ώρες με στάσεις\n⚡Βαθμός δυσκολίας: 1 \nΒαθμοί δυσκολίας : 1 Εύκολο – 2 Μέτριο – 3 Απαιτητικό – 4 Δύσκολο – 5 Τεχνικό\, Υψηλών Απαιτήσεων) \n💚Φόρα τα πεζοπορικά παπούτσια σου\, πάρε καλή διάθεση και έλα να γνωρίσουμε μαζί τις κρυφές ομορφιές του Υμηττού! \n📩Συμμετοχή μέσω της ηλεκτρονικής φόρμας\nhttps://forms.gle/SLUTuwQu3g2JKVEs9 \nή\nστα γραφεία της ομάδας (Οδεμησίου 12- Καισαριανή)\,\nτηλ. 2107245353\,  Τετάρτη\, ώρες 18.30-20.30 \nΚόστος : 3€ για τα μη μέλη\, δωρεάν για τα ενεργά μέλη της ΠΟΥ ( έχουν πληρώσει την συνδρομή του 2025 )\n🛑 Υποχρεωτικά 🥾Μποτάκια Πεζοπορίας \nΕξοπλισμός πεζοπορίας: \n\nΝερό (1.5lt)🍶\nΜπατόν 🦯 ( προαιρετικά )\nΣνάκ (φρούτο\, μπάρα δημητριακών κ.α.)🍌\nΑτομικό Φαρμακείο⛑\nΑντιανεμικό💨🧥\nΑδιάβροχο 💦\n\nΕπικοινωνία για οποιαδήποτε πληροφορία: Μήνυμα μέσω inbox ή e- mail: info@poymittou.gr \nτηλ. για τεχνικές πληροφορίες διαδρομής: 6983506385 (Δημήτρης Μανιός) \nΟ αρχηγός της εκδρομής έχει το δικαίωμα\, να τροποποιήσει ή να ματαιώσει ένα πρόγραμμα που είναι σε εξέλιξη ή πριν την έναρξη αυτού\, για λόγους ασφάλειας ή ανωτέρας βίας (φυσικές καταστροφές\, ακατάλληλες καιρικές συνθήκες\, κλπ) ή και να αποκλείσει συμμετέχοντα λόγω έλλειψης\nορειβατικού εξοπλισμού. Όποιος συμμετέχει\, γνωρίζει τις απαιτήσεις και την επικινδυνότητα της δραστηριότητας στην οποία συμμετέχει και αναλαμβάνει ατομικά την ευθύνη της συμμετοχής του στην δραστηριότητα\, όπως άλλωστε προβλέπεται από την διακήρυξη του Τυρόλου 8η Σεπτεμβρίου 2003 παράρτημα 1\, άρθρο 1 – Περί Ατομικής Ευθύνης\, αποδεχόμενος τους κινδύνους που ενέχει καθώς και την ευθύνη για την ασφάλειά του. Επίσης πρέπει να έχει άριστη σωματική & ψυχική υγεία και να ενημερώνει τον αρχηγό για τυχόν προβλήματα υγείας. \n🐾Όποιος επιθυμεί να συνεισφέρει στη δράση για τη σίτιση των αδέσποτων ζώων που βρίσκονται στο βουνό\, μπορεί φέρνοντας τροφή ( κονσέρβα/ξηρά τροφή ) και να τη παραδώσει πριν την έναρξη της διαδρομής\,\nη οποία θα δοθεί σε άτομα που την έχουν αναλάβει.🐕🐈🐾\n* Όποιος/α επιθυμεί την εγγραφή ή την ανανέωση της συνδρομής στην ομάδα η προσέλευση θα πρέπει να είναι μισή ώρα νωρίτερα στο σημείο συνάντησης \, ώστε να μην υπάρξει καθυστέρηση
URL:https://poymittou.gr/event/%cf%85%ce%bc%ce%b7%cf%84%cf%84%cf%8c%cf%82-%ce%bb%cf%8c%cf%86%ce%bf%cf%82-%ce%ba%ce%bf%cf%85%cf%84%ce%b1%ce%bb%ce%ac/
LOCATION:Πυροφυλάκιο Καισαριανής\, XQ7R+W3 Zografou\, Ζωγράφου\, Athens\, Ελλάδα
CATEGORIES:Εκδηλώσεις ΠΟΥ
ATTACH;FMTTYPE=image/jpeg:https://poymittou.gr/wp-content/uploads/2025/10/2548_image_568343703_1398435192282153_8860389451129463941_n.jpg
END:VEVENT
END:VCALENDAR