BEGIN:VCALENDAR
VERSION:2.0
PRODID:-//Περιπατητική Ομάδα Υμηττού - ECPv6.15.20//NONSGML v1.0//EN
CALSCALE:GREGORIAN
METHOD:PUBLISH
X-ORIGINAL-URL:https://poymittou.gr
X-WR-CALDESC:Events for Περιπατητική Ομάδα Υμηττού
REFRESH-INTERVAL;VALUE=DURATION:PT1H
X-Robots-Tag:noindex
X-PUBLISHED-TTL:PT1H
BEGIN:VTIMEZONE
TZID:Europe/Athens
BEGIN:DAYLIGHT
TZOFFSETFROM:+0200
TZOFFSETTO:+0300
TZNAME:EEST
DTSTART:20240331T010000
END:DAYLIGHT
BEGIN:STANDARD
TZOFFSETFROM:+0300
TZOFFSETTO:+0200
TZNAME:EET
DTSTART:20241027T010000
END:STANDARD
BEGIN:DAYLIGHT
TZOFFSETFROM:+0200
TZOFFSETTO:+0300
TZNAME:EEST
DTSTART:20250330T010000
END:DAYLIGHT
BEGIN:STANDARD
TZOFFSETFROM:+0300
TZOFFSETTO:+0200
TZNAME:EET
DTSTART:20251026T010000
END:STANDARD
BEGIN:DAYLIGHT
TZOFFSETFROM:+0200
TZOFFSETTO:+0300
TZNAME:EEST
DTSTART:20260329T010000
END:DAYLIGHT
BEGIN:STANDARD
TZOFFSETFROM:+0300
TZOFFSETTO:+0200
TZNAME:EET
DTSTART:20261025T010000
END:STANDARD
END:VTIMEZONE
BEGIN:VEVENT
DTSTART;TZID=Europe/Athens:20250601T080000
DTEND;TZID=Europe/Athens:20250601T080000
DTSTAMP:20260420T120610
CREATED:20250528T151204Z
LAST-MODIFIED:20250528T151738Z
UID:2438-1748764800-1748764800@poymittou.gr
SUMMARY:Ερωτικός - Ιστορικός Υμηττός
DESCRIPTION:Αυτή την Κυριακή θα περπατήσουμε στα όμορφα και δροσερά μονοπάτια του Υμηττού\, θα ακολουθήσουμε μια κλασική διαδρομή για όλους\, όσους θέλουν να γνωρίσουν τα μυστικά του Υμηττού …\nΜε αφετηρία την Μονή Καισαριανής θα επισκεφτούμε το Κέντρο περιβαλλοντικής εκπαίδευσης\, το λόφο Ταξιαρχών\, την Εκκλησάκι της Ανάληψης\, την Καλοπούλα κα.\nΜε ωραία διάθεση και χαμόγελα ξεκινάμε να μάθουμε και να φωτίσουμε τις αθέατες όψεις του αγαπημένου μας βουνού. \nΣτοιχεία Διαδρομής:\nΑπόσταση: ~ 6\,5χλμ.\nΔιάρκεια: ~3 ώρες (με τις στάσεις).\nΥψομετρική: + 300μ.\nB. Δ. : 1/5 \nΒαθμοί δυσκολίας : 1 Εύκολο – 2 Μέτριο – 3 Απαιτητικό – 4 Δύσκολο – 5 Τεχνικό\, Υψηλών Απαιτήσεων) \nΣΗΜΕΙΟ ΣΥΝΑΝΤΗΣΗΣ :\nΜονή Καισαριανής https://maps.app.goo.gl/HU6bLH9GBxvWyqje6 \nΩΡΑ : 8.00 π.μ. \nΚόστος : 3€ για τα μη μέλη\, δωρεάν για τα ενεργά μέλη της ΠΟΥ ( έχουν πληρώσει την συνδρομή του 2025 )\n🛑 Υποχρεωτικά 🥾Μποτάκια Πεζοπορίας \nΕξοπλισμός πεζοπορίας: \n– Νερό (1.5lt)🍶\n– Μπατόν 🦯\n– Σνάκ (φρούτο\, μπάρα δημητριακών κ.α.)🍌\n– Ατομικό Φαρμακείο⛑\n– Αντιανεμικό💨🧥 \n-Αδιάβροχο 💦 \nΔηλώσεις μέσω της ηλεκτρονικής φόρμας\,\nhttps://forms.gle/bg7fo53ozL1JUWsJ7\nή\nστα γραφεία της ομάδας (Οδεμησίου 12- Καισαριανή)\,\nτηλ. 2107245353\, Τετάρτη\, ώρες 18.30-20.30 \nΟ αρχηγός της εκδρομής έχει το δικαίωμα\, να τροποποιήσει ή να ματαιώσει ένα πρόγραμμα που είναι σε εξέλιξη ή πριν την έναρξη αυτού\, για λόγους ασφάλειας ή ανωτέρας βίας (φυσικές καταστροφές\, ακατάλληλες καιρικές συνθήκες\, κλπ) ή και να αποκλείσει συμμετέχοντα λόγω έλλειψης\nορειβατικού εξοπλισμού. Όποιος συμμετέχει\, γνωρίζει τις απαιτήσεις και την επικινδυνότητα της δραστηριότητας στην οποία συμμετέχει και αναλαμβάνει ατομικά την ευθύνη της συμμετοχής του στην δραστηριότητα\, όπως άλλωστε προβλέπεται από την διακήρυξη του Τυρόλου 8η Σεπτεμβρίου 2003 παράρτημα 1\, άρθρο 1 – Περί Ατομικής Ευθύνης\, αποδεχόμενος τους κινδύνους που ενέχει καθώς και την ευθύνη για την ασφάλειά του. Επίσης πρέπει να έχει άριστη σωματική & ψυχική υγεία και να ενημερώνει τον αρχηγό για τυχόν προβλήματα υγείας. \nΕπικοινωνία για οποιαδήποτε πληροφορία: Μήνυμα μέσω inbox ή e- mail: info@poymittou.gr \nτηλ. για τεχνικές πληροφορίες διαδρομής: 6938283898 (Μάνος Κιτσέλης) \n🐾Όποιος επιθυμεί να συνεισφέρει στη δράση για τη σίτιση των αδέσποτων ζώων που βρίσκονται στο βουνό\, μπορεί φέρνοντας τροφή ( κονσέρβα/ξηρά τροφή ) και να τη παραδώσει πριν την έναρξη της διαδρομής\,\nη οποία θα δοθεί σε άτομα που την\nέχουν αναλάβει.🐕🐈🐾 \n*Όποιος/α επιθυμεί την εγγραφή ή την ανανέωση της συνδρομής στην ομάδα η προσέλευση θα πρέπει να είναι μισή ώρα νωρίτερα στο σημείο συνάντησης \, ώστε να μην υπάρξει καθυστέρηση*
URL:https://poymittou.gr/event/%ce%b5%cf%81%cf%89%cf%84%ce%b9%ce%ba%cf%8c%cf%82-%ce%b9%cf%83%cf%84%ce%bf%cf%81%ce%b9%ce%ba%cf%8c%cf%82-%cf%85%ce%bc%ce%b7%cf%84%cf%84%cf%8c%cf%82/
LOCATION:Μονής Καισαριανής\, Καισαριανή\, Ελλάδα
CATEGORIES:Εκδηλώσεις ΠΟΥ
ATTACH;FMTTYPE=image/jpeg:https://poymittou.gr/wp-content/uploads/2025/05/2438_image_501749311_1269015595224114_6383568856271561513_n.jpg
END:VEVENT
END:VCALENDAR