BEGIN:VCALENDAR
VERSION:2.0
PRODID:-//Περιπατητική Ομάδα Υμηττού - ECPv6.15.20//NONSGML v1.0//EN
CALSCALE:GREGORIAN
METHOD:PUBLISH
X-ORIGINAL-URL:https://poymittou.gr
X-WR-CALDESC:Events for Περιπατητική Ομάδα Υμηττού
REFRESH-INTERVAL;VALUE=DURATION:PT1H
X-Robots-Tag:noindex
X-PUBLISHED-TTL:PT1H
BEGIN:VTIMEZONE
TZID:Europe/Athens
BEGIN:DAYLIGHT
TZOFFSETFROM:+0200
TZOFFSETTO:+0300
TZNAME:EEST
DTSTART:20250330T010000
END:DAYLIGHT
BEGIN:STANDARD
TZOFFSETFROM:+0300
TZOFFSETTO:+0200
TZNAME:EET
DTSTART:20251026T010000
END:STANDARD
BEGIN:DAYLIGHT
TZOFFSETFROM:+0200
TZOFFSETTO:+0300
TZNAME:EEST
DTSTART:20260329T010000
END:DAYLIGHT
BEGIN:STANDARD
TZOFFSETFROM:+0300
TZOFFSETTO:+0200
TZNAME:EET
DTSTART:20261025T010000
END:STANDARD
BEGIN:DAYLIGHT
TZOFFSETFROM:+0200
TZOFFSETTO:+0300
TZNAME:EEST
DTSTART:20270328T010000
END:DAYLIGHT
BEGIN:STANDARD
TZOFFSETFROM:+0300
TZOFFSETTO:+0200
TZNAME:EET
DTSTART:20271031T010000
END:STANDARD
END:VTIMEZONE
BEGIN:VEVENT
DTSTART;TZID=Europe/Athens:20260301T084500
DTEND;TZID=Europe/Athens:20260301T084500
DTSTAMP:20260419T185340
CREATED:20260223T210225Z
LAST-MODIFIED:20260309T152753Z
UID:2680-1772354700-1772354700@poymittou.gr
SUMMARY:Ποικίλο όρος
DESCRIPTION:Η πεζοπορία τής Κυριακής 1 Μαρτίου\, θα μας οδηγήσει στο Ποικίλο Όρος\, ένα χαμηλό βουνό (446 μ)\, μεταξύ του Όρους Αιγάλεω και της Πάρνηθας.\nΗ διαδρομή θα είναι γύρω από το φαράγγι Ζαστάνη\, με εκπληκτική θέα του Θριάσιου πεδίου και του Σαρωνικού κόλπου.\nΘα δούμε από μακριά ιστορικής σημασίας κάστρα και τείχη\, θα επισκεφτούμε μια φρυκτωρία\, θα θαυμάσουμε σε ένα μικρό σπηλαίωμα την εντυπωσιακή Βραχοσκεπή της μαύρης Καρυάτιδας.\nΜια περιήγηση άγνωστη για τον περισσότερο κόσμο\, αλλά πανέμορφη.\nΛόγω του δύσκολου πεδίου της διαδρομής τα μποτάκια είναι απαραίτητα. \nΣτοιχεία Διαδρομής:\nΑπόσταση: ~11\,5 χλμ\nΥψομετρική διαφορά: +520μ\nΔιάρκεια: ~5 ώρες (με τις στάσεις)\nΒαθμός Δυσκολίας: 2\nΒαθμοί δυσκολίας : 1 Εύκολο – 2 Μέτριο – 3 Απαιτητικό – 4 Δύσκολο – 5 Τεχνικό\, υψηλών απαιτήσεων \nΣημείο\nΣυνάντησης\nhttps://maps.app.goo.gl/VjvyKQ43dJ2w8bAS7?g_st=av \nή aντιγραφή και επικόλληση στους χάρτες google\n2MX8+3PF Πετρούπολη \nΏρα : 08:45 \nΚόστος : δωρεάν \nΔηλώσεις συμμετοχής μέσω της ηλεκτρονικής φόρμας.\nhttps://forms.gle/JLDigXfn2odP6pmP8 \nΟ αρχηγός της εκδρομής έχει το δικαίωμα\, να τροποποιήσει ή να ματαιώσει ένα πρόγραμμα που είναι σε εξέλιξη ή πριν την έναρξη αυτού\, για λόγους ασφάλειας ή ανωτέρας βίας (φυσικές καταστροφές\, ακατάλληλες καιρικές συνθήκες\, κλπ) ή και να αποκλείσει συμμετέχοντα λόγω έλλειψης ορειβατικού εξοπλισμού. Όποιος συμμετέχει\, γνωρίζει τις απαιτήσεις και την επικινδυνότητα της δραστηριότητας στην οποία συμμετέχει και αναλαμβάνει ατομικά την ευθύνη της συμμετοχής του στην δραστηριότητα\, όπως άλλωστε προβλέπεται από την διακήρυξη του Τυρόλου 8η Σεπτεμβρίου 2003 παράρτημα 1\, άρθρο 1 – Περί Ατομικής Ευθύνης\, αποδεχόμενος τους κινδύνους που ενέχει καθώς και την ευθύνη για την ασφάλειά του. Επίσης πρέπει να έχει άριστη σωματική & ψυχική υγεία και να ενημερώνει τον αρχηγό για τυχόν προβλήματα υγείας. \nΕξοπλισμός πεζοπορίας:\n🛑 Υποχρεωτικά Μποτάκια Πεζοπορίας 🥾 \n\nΝερό (1lt)🍶\nΜπατόν 🦯\nΣνάκ (φρούτο\, μπάρα δημητριακών κ.α.)🍌\nΑτομικό Φαρμακείο⛑\nΑντιανεμικό💨🧥\nΑδιάβροχο 💦\n\nΕπικοινωνία για οποιαδήποτε πληροφορία:\nΜήνυμα μέσω inbox ή e- mail: info@poymittou.gr\nτηλ. για τεχνικές πληροφορίες διαδρομής: Δημήτρης Μανιός ( 6983506385 )
URL:https://poymittou.gr/event/%cf%80%ce%bf%ce%b9%ce%ba%ce%af%ce%bb%ce%bf-%cf%8c%cf%81%ce%bf%cf%82/
LOCATION:Οδεμησίου 12\, 16122 Kaisarianí\, Greece\, Οδεμησίου 12\, 16122 Kaisarianí\, Greece
CATEGORIES:Εκδηλώσεις ΠΟΥ
ATTACH;FMTTYPE=image/jpeg:https://poymittou.gr/wp-content/uploads/2026/02/2680_image_641333372_1509368951188776_2079362201913623544_n.jpg
END:VEVENT
BEGIN:VEVENT
DTSTART;TZID=Europe/Athens:20260308T090000
DTEND;TZID=Europe/Athens:20260308T133000
DTSTAMP:20260419T185340
CREATED:20260303T161710Z
LAST-MODIFIED:20260308T132854Z
UID:2686-1772960400-1772976600@poymittou.gr
SUMMARY:Το Μονοπάτι των Σπηλαίων: Νότιος Υμηττός
DESCRIPTION:Οι θέσεις έχουν εξαντληθεί!\nΗ πεζοπορία μας ξεκινά από το Κοιμητήριο της Βούλας (θέση Κρεμασμένος Λαγός). Μέσα σε μόλις 10 λεπτά\, συναντάμε το Μνημείο των Πεσόντων Πυροσβεστών\, που θυσιάστηκαν στο καθήκον κατά τη μεγάλη πυρκαγιά του Ιουλίου του 1999. Ακριβώς κάτω από τον δρόμο\, δεσπόζει το Βάραθρο της Συκιάς\, ένα παλαιό σπήλαιο με υποχωρημένη οροφή και βάθος περίπου 20 μέτρων. \nΣυνεχίζοντας για περίπου 1 χλμ.\, αφήνουμε την άσφαλτο και μπαίνουμε στον χωματόδρομο στα δεξιά μας\, ο οποίος οδηγεί στο εμβληματικό Σπήλαιο του Αρχέδημου (ή Σπήλαιο Νυμφολήπτου). Πρόκειται για έναν σπουδαίο αρχαιολογικό χώρο\, καθώς ο Θηραίος γλύπτης Αρχέδημος (5ος αι. π.Χ.) κόσμησε το εσωτερικό του\, μετατρέποντάς το στην αρχαιότητα σε ιερό των Νυμφών\, του Απόλλωνα και του Πάνα. \nΑφού περιηγηθούμε στον χώρο\, ακολουθούμε τον χωματόδρομο για ακόμα 2\,5 χλμ. μέχρι το Σπήλαιο του Σαλίγκαρου (γνωστό και ως Σπήλαιο Κακοβούλας)\, σε υψόμετρο 322 μέτρων. Εκεί\, όσοι διαθέτουν τον κατάλληλο εξοπλισμό (κράνος και φακό\, κάποια κράνη θα διαθέσει η ομάδα) μπορούν να εισέλθουν με προσοχή στο εσωτερικό του\, ενώ οι υπόλοιποι θα απολαύσουν ένα σύντομο διάλειμμα στον εξωτερικό χώρο. \nΗ επιστροφή στο σημείο εκκίνησης γίνεται μέσω χωματόδρομου και μονοπατιού\, ολοκληρώνοντας έτσι μια όμορφη κυκλική πορεία\, κυρίως. Παρά το γεγονός ότι η περιοχή έχει πληγεί από πυρκαγιές στο παρελθόν\, η φύση αναγεννάται και η διαδρομή προσφέρει καθηλωτική\, πανοραμική θέα προς τις νότιες ακτές της Αττικής\, τον Αργοσαρωνικό και τα Μεσόγεια. \nΣτατιστικά Διαδρομής \n\nΑπόσταση: 8\,5 χλμ.\nΥψομετρική Διαφορά:  +270 μ.\nΜέγιστο Υψόμετρο: 420 μ.\nΕλάχιστο Υψόμετρο: 229 μ.\nΤύπος Διαδρομής: Κυκλική\nΒαθμός Δυσκολίας: 1/5 (Εύκολη)\n\n🎒 Εξοπλισμός \n🛑 Υποχρεωτικά  \nΜποτάκια πεζοπορίας 🥾 \n✅ Προτείνεται να έχετε μαζί \n\nΡούχα κατάλληλα για το βουνό (layers)\nΑδιάβροχο / αντιανεμικό\nΝερό & σνακ 🍌\nΜπατόν πεζοπορίας 🦯\nΓκέτες\nΠροσωπικό φαρμακείο\nΦακό\nορειβατικό κράνος\n\n📍 Σημεία συνάντησης \nhttps://maps.app.goo.gl/EnuvdQ8qBpJWxWSJ6  \n\nή aντιγραφή και επικόλληση στους χάρτες google:  VQ3V+94 Βούλα \n\nΏρα : 09:00\n\nΚόστος : δωρεάν για μέλη \n➤  Δηλώσεις συμμετοχής μέσω της ηλεκτρονικής φόρμας \nhttps://forms.gle/YWhDFZRUXDXk9YCaA  \nΟ αρχηγός της εκδρομής έχει το δικαίωμα\, να τροποποιήσει ή να ματαιώσει ένα πρόγραμμα που είναι σε εξέλιξη ή πριν την έναρξη αυτού\, για λόγους ασφάλειας ή ανωτέρας βίας (φυσικές καταστροφές\, ακατάλληλες καιρικές συνθήκες\, κλπ) ή και να αποκλείσει συμμετέχοντα λόγω έλλειψης  ορειβατικού εξοπλισμού. Όποιος συμμετέχει\, γνωρίζει τις απαιτήσεις και την επικινδυνότητα της δραστηριότητας στην οποία συμμετέχει και αναλαμβάνει ατομικά την ευθύνη της συμμετοχής του στην δραστηριότητα\, όπως άλλωστε προβλέπεται από την διακήρυξη του Τυρόλου 8η Σεπτεμβρίου 2003 παράρτημα 1\, άρθρο 1 – Περί Ατομικής Ευθύνης\, αποδεχόμενος τους κινδύνους που ενέχει καθώς και την ευθύνη για την ασφάλειά του. Επίσης πρέπει να έχει άριστη σωματική & ψυχική υγεία και να ενημερώνει τον αρχηγό για τυχόν προβλήματα υγείας. \n\n📩 Επικοινωνία  \nΜήνυμα μέσω inbox ή e-mail: info@poymittou.gr \nτηλ.: 2107245353\,  Τετάρτη 18:00–20:00 \nτηλ για τεχνικές πληροφορίες 6973026445 (Γιώργος Παπαμήτσος )
URL:https://poymittou.gr/event/%cf%84%ce%bf-%ce%bc%ce%bf%ce%bd%ce%bf%cf%80%ce%ac%cf%84%ce%b9-%cf%84%cf%89%ce%bd-%cf%83%cf%80%ce%b7%ce%bb%ce%b1%ce%af%cf%89%ce%bd/
LOCATION:Οδεμησίου 12\, 161 22 Καισαριανή\, Ελλάδα
CATEGORIES:Εκδηλώσεις ΠΟΥ
ATTACH;FMTTYPE=image/jpeg:https://poymittou.gr/wp-content/uploads/2026/03/2686_image_645974784_1516678023791202_2577853699457966524_n.jpg
END:VEVENT
BEGIN:VEVENT
DTSTART;TZID=Europe/Athens:20260315T081500
DTEND;TZID=Europe/Athens:20260315T081500
DTSTAMP:20260419T185340
CREATED:20260310T154659Z
LAST-MODIFIED:20260310T155410Z
UID:2704-1773562500-1773562500@poymittou.gr
SUMMARY:Υμηττός: Καρέας - Μνημείο Μιχαηλίδη - Γιδοσπηλιά
DESCRIPTION:Η πεζοπορία της Κυριακής 15/3 θα μας πάει στον Κεντρικό Υμηττό\, μια περιοχή που έχει πληγεί τα τελευταία χρόνια από πολλές πυρκαγιές\, όμως σιγά σιγά αρχίζει πάλι να πρασινίζει.\nΤο μνημείο του Μιχαηλίδη θα είναι η πρώτη μας στάση\, κατόπιν συνεχίζοντας βόρεια θα περάσουμε από τα δύο βάραθρα του Πύργου (Το βάραθρο του Μεγάλου Πύργου είναι το βαθύτερο με 122 μέτρα).\nΣτην συνέχεια ακολουθώντας Δυτική πορεία θα κατηφορίσουμε στην περίφημη Γιδοσπηλιά\, το μονοπάτι μετά ακολουθεί νότια πορεία σε δύσκολο πεδίο\, θα περάσουμε από την θέση Τυριά και θα δούμε ένα άγνωστο Δρακόσπιτο στα λατομεία του Καρά\, πριν γυρίσουμε στην αφετηρία μάς.\nΌλη η διαδρομή έχει μοναδική θέα στο Λεκανοπέδιο της Αθήνας και τα γύρω βουνά\, τα αγριολούλουδα τα βότανα και οι σπάνιες ορχιδέες του Υμηττού θα μάς χαλαρώσουν.\nΕσείς πάρτε μαζί την καλή σάς διάθεση\, και εμείς θα φροντίσουμε για τα υπόλοιπα. \nΣτατιστικά Διαδρομής \n\nΑπόσταση: 9\,3 χλμ.\nΥψομετρική Διαφορά: +500 μ.\nΜέγιστο Υψόμετρο: 815 μ.\nΕλάχιστο Υψόμετρο: 355 μ.\nΤύπος Διαδρομής: Κυκλική\nΒαθμός Δυσκολίας: 2/5 (Μέτρια)\n\n🎒 Εξοπλισμός\n🛑 Υποχρεωτικά Μποτάκια πεζοπορίας 🥾 \n✅ Προτείνεται να έχετε μαζί \n\nΡούχα κατάλληλα για το βουνό (layers)\nΑδιάβροχο / αντιανεμικό\nΝερό & σνακ 🍌\nΜπατόν πεζοπορίας 🦯\nΓκέτες\nΠροσωπικό φαρμακείο\n\nΏρα : 08:15 \nΚόστος : δωρεάν για τα μέλη της ομάδας\,\n3€ για τα μη μέλη \n➤ Δηλώσεις συμμετοχής μέσω της ηλεκτρονικής φόρμας: https://forms.gle/sdH8GrDaEJmjisf28 \nΟ αρχηγός της εκδρομής έχει το δικαίωμα\, να τροποποιήσει ή να ματαιώσει ένα πρόγραμμα που είναι σε εξέλιξη ή πριν την έναρξη αυτού\, για λόγους ασφάλειας ή ανωτέρας βίας (φυσικές καταστροφές\, ακατάλληλες καιρικές συνθήκες\, κλπ) ή και να αποκλείσει συμμετέχοντα λόγω έλλειψης\nορειβατικού εξοπλισμού. Όποιος συμμετέχει\, γνωρίζει τις απαιτήσεις και την επικινδυνότητα της δραστηριότητας στην οποία συμμετέχει και αναλαμβάνει ατομικά την ευθύνη της συμμετοχής του στην δραστηριότητα\, όπως άλλωστε προβλέπεται από την διακήρυξη του Τυρόλου 8η Σεπτεμβρίου 2003 παράρτημα 1\, άρθρο 1 – Περί Ατομικής Ευθύνης\, αποδεχόμενος τους κινδύνους που ενέχει καθώς και την ευθύνη για την ασφάλειά του. Επίσης πρέπει να έχει άριστη σωματική & ψυχική υγεία και να ενημερώνει τον αρχηγό για τυχόν προβλήματα υγείας. \n📩 Επικοινωνία \nΜήνυμα μέσω inbox ή e-mail: info@poymittou.gr \nτηλ.: 2107245353\, Τετάρτη 18:00–20:00 \nτηλ για τεχνικές πληροφορίες 6983506385  (Δημήτρης Μανιός)
URL:https://poymittou.gr/event/%ce%ba%ce%b1%cf%81%ce%ad%ce%b1%cf%82-%ce%bc%ce%bd%ce%b7%ce%bc%ce%b5%ce%af%ce%bf-%ce%bc%ce%b9%cf%87%ce%b1%ce%b7%ce%bb%ce%af%ce%b4%ce%b7-%ce%b3%ce%b9%ce%b4%ce%bf%cf%83%cf%80%ce%b7%ce%bb%ce%b9%ce%ac/
LOCATION:Αγιός Ιωάννης\, Καρέας\, Athens\, 16233\, GR
CATEGORIES:Εκδηλώσεις ΠΟΥ
ATTACH;FMTTYPE=image/jpeg:https://poymittou.gr/wp-content/uploads/2026/03/2704_image_650820831_1522488439876827_2923541169515621931_n.jpg
END:VEVENT
END:VCALENDAR