BEGIN:VCALENDAR
VERSION:2.0
PRODID:-//Περιπατητική Ομάδα Υμηττού - ECPv6.15.20//NONSGML v1.0//EN
CALSCALE:GREGORIAN
METHOD:PUBLISH
X-ORIGINAL-URL:https://poymittou.gr
X-WR-CALDESC:Events for Περιπατητική Ομάδα Υμηττού
REFRESH-INTERVAL;VALUE=DURATION:PT1H
X-Robots-Tag:noindex
X-PUBLISHED-TTL:PT1H
BEGIN:VTIMEZONE
TZID:Europe/Athens
BEGIN:DAYLIGHT
TZOFFSETFROM:+0200
TZOFFSETTO:+0300
TZNAME:EEST
DTSTART:20240331T010000
END:DAYLIGHT
BEGIN:STANDARD
TZOFFSETFROM:+0300
TZOFFSETTO:+0200
TZNAME:EET
DTSTART:20241027T010000
END:STANDARD
BEGIN:DAYLIGHT
TZOFFSETFROM:+0200
TZOFFSETTO:+0300
TZNAME:EEST
DTSTART:20250330T010000
END:DAYLIGHT
BEGIN:STANDARD
TZOFFSETFROM:+0300
TZOFFSETTO:+0200
TZNAME:EET
DTSTART:20251026T010000
END:STANDARD
BEGIN:DAYLIGHT
TZOFFSETFROM:+0200
TZOFFSETTO:+0300
TZNAME:EEST
DTSTART:20260329T010000
END:DAYLIGHT
BEGIN:STANDARD
TZOFFSETFROM:+0300
TZOFFSETTO:+0200
TZNAME:EET
DTSTART:20261025T010000
END:STANDARD
END:VTIMEZONE
BEGIN:VEVENT
DTSTART;TZID=Europe/Athens:20250611T190000
DTEND;TZID=Europe/Athens:20250611T190000
DTSTAMP:20260420T145004
CREATED:20250607T075804Z
LAST-MODIFIED:20250607T080358Z
UID:2452-1749668400-1749668400@poymittou.gr
SUMMARY:Πανσέληνος της Φράουλας με ΠΟΥ
DESCRIPTION:Την Τετάρτη 11 Ιουνίου 2025\, η ομάδα μας με αφορμή την πανσέληνο του Ιουνίου (η ονομαζόμενη και Πανσέληνος της Φράουλας!) θα περπατήσει στο λόφο της Φασκομηλιάς ανάμεσα στην Βουλιαγμένη και τη Βάρκιζα. Ο λόφος έχει  αρκετές διαδρομές σε δασικό δρόμο και μονοπάτι μέσα σε χαμηλή βλάστηση και βέβαια καταπληκτική θέα προς τη θάλασσα. Θα κάνουμε μια ήπια πεζοπορία απολαμβάνοντας τα υπέροχα χρώματα της δύσης του Ηλίου (20:46)\, περιμένοντας την ανατολή της Σελήνης. (20:27). \nΣτοιχεία Διαδρομής: \nΑπόσταση: ~ 7χλμ.\nΔιάρκεια: ~ 3 ώρες\nΥψομετρική: +200μ.\nB. Δ. : 1/5 \nΒαθμοί δυσκολίας : 1 Εύκολο – 2 Μέτριο – 3 Απαιτητικό – 4 Δύσκολο – 5 Τεχνικό\, Υψηλών Απαιτήσεων) \nΣΗΜΕΙΟ ΣΥΝΑΝΤΗΣΗΣ :\nΘα μετακινηθούμε με τα δικά μας αυτοκίνητα στο τέρμα της οδού Αργοναυτών στη Βουλιαγμένη (πάνω από την λίμνη Βουλιαγμένης) \nPlus code: RQ5P+Q5P Βουλιαγμένη\n(καταχωρίστε το στο πλαίσιο αναζήτησης του χάρτη της Google) \nΣυντεταγμένες: 37.80951505641675\, 23.78544939745492 \nΩΡΑ : 19:00 π.μ. Τετάρτη 11/06/2025 \nΚόστος : 3€ για τα μη μέλη\, δωρεάν για τα ενεργά μέλη της ΠΟΥ ( έχουν πληρώσει την συνδρομή του 2025 )\n🛑 Υποχρεωτικά 🥾Μποτάκια Πεζοπορίας \nΕξοπλισμός πεζοπορίας: \n\nΝερό (1.5lt)🍶\nΜπατόν 🦯\nΚαπέλο\nΣνάκ (φρούτο\, μπάρα δημητριακών κ.α.)🍌\nΑτομικό Φαρμακείο⛑\nΑντιανεμικό💨🧥\nΦακό κεφαλής\n\nΔηλώσεις Συμμετοχής\nhttps://forms.gle/acXseYo79EK847Li9 \nΟ αρχηγός της εκδρομής έχει το δικαίωμα\, να τροποποιήσει ή να ματαιώσει ένα πρόγραμμα που είναι σε εξέλιξη ή πριν την έναρξη αυτού\, για λόγους ασφάλειας ή ανωτέρας βίας (φυσικές καταστροφές\, ακατάλληλες καιρικές συνθήκες\, κλπ) ή και να αποκλείσει συμμετέχοντα λόγω έλλειψης ορειβατικού εξοπλισμού. Όποιος συμμετέχει\, γνωρίζει τις απαιτήσεις και την επικινδυνότητα της δραστηριότητας στην οποία συμμετέχει και αναλαμβάνει ατομικά την ευθύνη της συμμετοχής του στην δραστηριότητα\, όπως άλλωστε προβλέπεται από την διακήρυξη του Τυρόλου 8η Σεπτεμβρίου 2003 παράρτημα 1\, άρθρο 1 – Περί Ατομικής Ευθύνης\, αποδεχόμενος τους κινδύνους που ενέχει καθώς και την ευθύνη για την ασφάλειά του. Επίσης πρέπει να έχει άριστη σωματική & ψυχική υγεία και να ενημερώνει τον αρχηγό για τυχόν προβλήματα υγείας. \nΕπικοινωνία για οποιαδήποτε πληροφορία: Μήνυμα μέσω inbox ή e- mail: info@poymittou.gr \nτηλ. για τεχνικές πληροφορίες διαδρομής: 6973026445 (Γιώργος Παπαμήτσος) \nή στα γραφεία της ομάδας (Οδεμησίου 12- Καισαριανή)\, τηλ. 2107245353\, Τετάρτη\, ώρες 18.30 – 20.30 \n🐾Όποιος επιθυμεί να συνεισφέρει στη δράση για τη σίτιση των αδέσποτων ζώων που βρίσκονται στο βουνό\, μπορεί φέρνοντας τροφή ( κονσέρβα/ξηρά τροφή ) και να τη παραδώσει πριν την έναρξη της διαδρομής\, η οποία θα δοθεί σε άτομα που την έχουν αναλάβει.🐕🐈🐾
URL:https://poymittou.gr/event/fullmoon-jun-2025/
CATEGORIES:Εκδηλώσεις ΠΟΥ
ATTACH;FMTTYPE=image/jpeg:https://poymittou.gr/wp-content/uploads/2025/06/2452_image_504433081_1277120071080333_4390554769380781490_n.jpg
END:VEVENT
END:VCALENDAR