BEGIN:VCALENDAR
VERSION:2.0
PRODID:-//Περιπατητική Ομάδα Υμηττού - ECPv6.15.20//NONSGML v1.0//EN
CALSCALE:GREGORIAN
METHOD:PUBLISH
X-ORIGINAL-URL:https://poymittou.gr
X-WR-CALDESC:Events for Περιπατητική Ομάδα Υμηττού
REFRESH-INTERVAL;VALUE=DURATION:PT1H
X-Robots-Tag:noindex
X-PUBLISHED-TTL:PT1H
BEGIN:VTIMEZONE
TZID:Europe/Athens
BEGIN:DAYLIGHT
TZOFFSETFROM:+0200
TZOFFSETTO:+0300
TZNAME:EEST
DTSTART:20250330T010000
END:DAYLIGHT
BEGIN:STANDARD
TZOFFSETFROM:+0300
TZOFFSETTO:+0200
TZNAME:EET
DTSTART:20251026T010000
END:STANDARD
BEGIN:DAYLIGHT
TZOFFSETFROM:+0200
TZOFFSETTO:+0300
TZNAME:EEST
DTSTART:20260329T010000
END:DAYLIGHT
BEGIN:STANDARD
TZOFFSETFROM:+0300
TZOFFSETTO:+0200
TZNAME:EET
DTSTART:20261025T010000
END:STANDARD
BEGIN:DAYLIGHT
TZOFFSETFROM:+0200
TZOFFSETTO:+0300
TZNAME:EEST
DTSTART:20270328T010000
END:DAYLIGHT
BEGIN:STANDARD
TZOFFSETFROM:+0300
TZOFFSETTO:+0200
TZNAME:EET
DTSTART:20271031T010000
END:STANDARD
END:VTIMEZONE
BEGIN:VEVENT
DTSTART;TZID=Europe/Athens:20260104T081500
DTEND;TZID=Europe/Athens:20260104T081500
DTSTAMP:20260420T020339
CREATED:20251229T163627Z
LAST-MODIFIED:20251229T164027Z
UID:2620-1767514500-1767514500@poymittou.gr
SUMMARY:Κορυφή Υμηττού – Ιερό Υμήττιου Διός
DESCRIPTION:Πεζοπορική ανάβαση στο ψηλότερο ιερό της Αττικής \nΜε τη νέα χρονιά ξεκινάμε δυναμικά\, κατακτώντας για ακόμη μία φορά την κορυφή του Υμηττού και επισκεπτόμενοι το ψηλότερο ιερό της Αττικής\, το Ιερό του Υμήττιου (ή Ομβρίου) Διός. \nΠρόκειται για τη μοναδική οργανωμένη πεζοπορική επίσκεψη σε αυτόν τον άγνωστο αλλά εξαιρετικά σημαντικό αρχαιολογικό χώρο\, η οποία καθιερώθηκε για πρώτη φορά το 2017 από την ομάδα μας. Στο ιερό που αναφέρει ο Παυσανίας\, οι αρχαίοι Αθηναίοι τελούσαν σπονδές και επικαλούνταν τη θεϊκή δύναμη για να ευλογηθεί η Αττική γη με βροχές. \nΤα πολυάριθμα αρχαιολογικά ευρήματα έχουν προσφέρει πολύτιμες πληροφορίες για την Αθήνα και την Αττική της μυκηναϊκής και γεωμετρικής περιόδου\, καθιστώντας τη διαδρομή μοναδική τόσο φυσιολατρικά όσο και ιστορικά. \n🥾 Περιγραφή Διαδρομής \nΗ πεζοπορία ξεκινά από το Πυροφυλάκιο Καισαριανής\, ακολουθώντας το μονοπάτι προς τη Μονή Αστερίου και στη συνέχεια το μονοπάτι 10 που οδηγεί στην κορυφή του Υμηττού\, όπου και ολοκληρώνεται η ανάβαση. \nΗ κατάβαση θα πραγματοποιηθεί από διαφορετική διαδρομή\, προς τον λόφο Ταξιαρχών και το εκκλησάκι της Ανάληψης\, προσφέροντας εναλλαγή τοπίου και εμπειρίας. \nΗ διαδρομή έχει αυξημένο βαθμό δυσκολίας και απαιτεί καλή φυσική κατάσταση καθώς και τον κατάλληλο βασικό εξοπλισμό. \nΌσοι δεν διαθέτουν τα προηγούμενα δεν θα ακολουθήσουν ολόκληρη τη διαδρομή\, αλλά θα πραγματοποιήσουν μια συντομότερη κυκλική πεζοπορία περίπου 5 χλμ. \n📊 Στοιχεία Διαδρομής \nΑπόσταση: 11\,5 χλμ.\nΔιάρκεια: ~ 5:30 ώρες (με στάσεις)\nΥψομετρική διαφορά: +700 μ.\nΒαθμός δυσκολίας: 2+ / 5 ( μέτριο προς απαιτητικό )\nΚλίμακα δυσκολίας: 1 Εύκολο – 2 Μέτριο – 3 Απαιτητικό – 4 Δύσκολο – 5 Τεχνικό / Υψηλών απαιτήσεων \n📍 Σημείο Συνάντησης: Πυροφυλάκιο Καισαριανής “Δημήτρης Καραμολέγκος”\n( https://maps.app.goo.gl/c353FJejcxUQxfyt9 ) \n🕗 Ώρα: 08:15 π.μ. \n💶 Κόστος συμμετοχής: 3€ για μη μέλη\, δωρεάν για τα ενεργά μέλη της ΠΟΥ (με εξοφλημένη συνδρομή 2025)\n🎒 Εξοπλισμός\n🛑 Υποχρεωτικά:\nΜποτάκια πεζοπορίας 🥾\n✅ Προτείνεται να έχετε μαζί σας:\nΡούχα κατάλληλα για το βουνό\nΑδιάβροχο / αντιανεμικό\nΝερό & σνακ 🍌\nΜπατόν πεζοπορίας 🦯\nΠροσωπικό φαρμακείο 🧴\n📢 Η δραστηριότητα απευθύνεται σε πεζοπόρους χωρίς προβλήματα υγείας. \n📝 Δηλώσεις Συμμετοχής\nΜέσω της ηλεκτρονικής φόρμας: https://forms.gle/XqS15fPCbPWRYyu17 \nΣτα γραφεία της ομάδας: Οδεμησίου 12\, Καισαριανή\, 210 7245353. κάθε Τετάρτη\, 18:00 – 21:00 \n⚠️ Σημαντικές Επισημάνσεις\nΟ αρχηγός της εκδρομής διατηρεί το δικαίωμα τροποποίησης ή ματαίωσης της δραστηριότητας πριν ή κατά τη διάρκειά της\, για λόγους ασφάλειας\, ανωτέρας βίας ή ακατάλληλων καιρικών συνθηκών\, καθώς και αποκλεισμού συμμετέχοντα λόγω έλλειψης κατάλληλου εξοπλισμού.\nΜε τη συμμετοχή του\, κάθε πεζοπόρος δηλώνει ότι γνωρίζει τις απαιτήσεις και τους κινδύνους της δραστηριότητας και αναλαμβάνει ατομικά την ευθύνη\, σύμφωνα με τη Διακήρυξη του Τυρόλου (2003). \n📞 Επικοινωνία\nΓια οποιαδήποτε πληροφορία:\n📩 Inbox ή e-mail: info@poymittou.gr \n📞 Τεχνικές πληροφορίες διαδρομής: Χριστίνα Αναγνωστοπούλου (6946500513) \n(Όσοι επιθυμούν εγγραφή ή ανανέωση συνδρομής\, παρακαλούνται να προσέλθουν 30’ νωρίτερα στο σημείο συνάντησης.)
URL:https://poymittou.gr/event/%ce%ba%ce%bf%cf%81%cf%85%cf%86%ce%ae-%cf%85%ce%bc%ce%b7%cf%84%cf%84%ce%bf%cf%8d-%ce%b9%ce%b5%cf%81%cf%8c-%cf%85%ce%bc%ce%ae%cf%84%cf%84%ce%b9%ce%bf%cf%85-%ce%b4%ce%b9%cf%8c%cf%82/
LOCATION:Πυροφυλάκιο Καισαριανής\, XQ7R+W3 Zografou\, Ζωγράφου\, Athens\, Ελλάδα
CATEGORIES:Εκδηλώσεις ΠΟΥ
ATTACH;FMTTYPE=image/jpeg:https://poymittou.gr/wp-content/uploads/2025/12/2620_image_606800323_1459465269512478_7765049803334380399_n.jpg
END:VEVENT
END:VCALENDAR