BEGIN:VCALENDAR
VERSION:2.0
PRODID:-//Περιπατητική Ομάδα Υμηττού - ECPv6.15.20//NONSGML v1.0//EN
CALSCALE:GREGORIAN
METHOD:PUBLISH
X-ORIGINAL-URL:https://poymittou.gr
X-WR-CALDESC:Events for Περιπατητική Ομάδα Υμηττού
REFRESH-INTERVAL;VALUE=DURATION:PT1H
X-Robots-Tag:noindex
X-PUBLISHED-TTL:PT1H
BEGIN:VTIMEZONE
TZID:Europe/Athens
BEGIN:DAYLIGHT
TZOFFSETFROM:+0200
TZOFFSETTO:+0300
TZNAME:EEST
DTSTART:20240331T010000
END:DAYLIGHT
BEGIN:STANDARD
TZOFFSETFROM:+0300
TZOFFSETTO:+0200
TZNAME:EET
DTSTART:20241027T010000
END:STANDARD
BEGIN:DAYLIGHT
TZOFFSETFROM:+0200
TZOFFSETTO:+0300
TZNAME:EEST
DTSTART:20250330T010000
END:DAYLIGHT
BEGIN:STANDARD
TZOFFSETFROM:+0300
TZOFFSETTO:+0200
TZNAME:EET
DTSTART:20251026T010000
END:STANDARD
BEGIN:DAYLIGHT
TZOFFSETFROM:+0200
TZOFFSETTO:+0300
TZNAME:EEST
DTSTART:20260329T010000
END:DAYLIGHT
BEGIN:STANDARD
TZOFFSETFROM:+0300
TZOFFSETTO:+0200
TZNAME:EET
DTSTART:20261025T010000
END:STANDARD
END:VTIMEZONE
BEGIN:VEVENT
DTSTART;TZID=Europe/Athens:20250223T083000
DTEND;TZID=Europe/Athens:20250223T130000
DTSTAMP:20260420T133346
CREATED:20250222T053432Z
LAST-MODIFIED:20250222T053854Z
UID:2305-1740299400-1740315600@poymittou.gr
SUMMARY:Αισθητικό Δάσος Υμηττού
DESCRIPTION:Ελάτε να πεζοπορήσετε αυτή την Κυριακή με την ομάδα της Π.Ο.Υ.\, να γνωρίσετε τον Υμηττό και την παρέα της ομάδας μας.\nΜια πεζοπορική διαδρομή για όλους\, που τα συνδυάζει όλα.\nΠερπατάμε στο Αισθητικό δάσος\, στα Βυζαντινά μοναστήρια του Υμηττού\, στη Μονή Καισαριανής\, στο Λόφο Ταξιαρχών\, στην τρύπια Εκκλησιά της Ανάληψης\, το βοτανικό μονοπάτι\, τον Πύργο Ανθούσης\, την Μονή Αστερίου και καταλήγουμε στο αναψυκτήριο της Καλοπούλας για να απολαύσουμε τον καφέ μας σε ένα μοναδικό περιβάλλον\, μετά από ένα υπέροχο και ιδιαίτερο περίπατο στη φύση\, προτού επιστρέψουμε στο πυροφυλάκιο.\nΗ ομορφιά της φύσης σε συνδυασμό με τη μοναδική παρέα της αγαπημένης ομάδας της Π.Ο.Υ. σας καλούν να πεζοπορήσετε στα ομορφότερα μονοπάτια του αγαπημένου μας βουνού. \nΣημείο συνάντησης και έναρξης της πεζοπορίας μας Πυροφυλάκιο Καισαριανής\, “Δημήτρης Καραμολέγκος” \nhttps://goo.gl/maps/5pwkZxkCMuDMMUXP6 \nΩΡΑ : 8.30 π.μ.⏰\nΣτοιχεία Διαδρομής:\nBαθμός Δυσκολίας :1/5\nΔιάρκεια: ~4 ώρες (με τις στάσεις).\nΑνάβαση: +400μ.\nΑπόσταση: περίπου ~ 9χλμ. \nΒαθμοί δυσκολίας : 1 Εύκολο – 2 Μέτριο – 3 Απαιτητικό – 4 Δύσκολο – 5 Τεχνικό\, Υψηλών Απαιτήσεων \nΚόστος Δράσης:\n• 3\,00€ για τα μη μέλη\n• Δωρεάν για τα ενεργά μέλη (έχουν πληρώσει τη συνδρομή του τρέχοντος έτους). \n📌Μήνες συνδρομών : Όποι@ επιθυμεί την εγγραφή ή την ανανέωση της συνδρομής στην ομάδα η προσέλευση θα πρέπει να είναι νωρίτερα στο σημείο συνάντησης \, ώστε να μην υπάρξει καθυστέρηση* \nΑπαραίτητα υποδήματα πεζοπορίας 🥾\nθα είναι ένα όμορφος περίπατος\, και για να τον απολαύσουμε θα πρέπει όλοι μας\, ΑΠΑΡΑΙΤΗΤΑ\, να είμαστε εφοδιασμένοι με τα παρακάτω:\n1. Μποτάκια πεζοπορίας 🥾\n2. Μπατόν🥢\n3. Σακίδιο πλάτης μέχρι 35 lt\n🎒(για τον Υμηττό)\, νερό🍶(1 ή 1.5 lt) και κάποιο σνακ 🍌(φρούτα/ ξηρούς καρπούς/μπάρα δημητριακών)\n4. Ατομικό φαρμακείο⛑\n5.Μπουφάν /αντιανεμικό 🧥\n6.Αδιάβροχο (πάντα μαζί μας για ενδεχόμενο βροχής).☔️\n7.γάντια/σκούφο 🧤 \n* Για καθαρά λόγους ασφαλείας δική σας αλλά και της ομάδας\, θα πρέπει να φοράτε τα κατάλληλα υποδήματα – Μποτάκια πεζοπορικά. \n* Η συμμετοχή σας γίνεται με δική σας ευθύνη\, εφόσον έχετε ενημερωθεί για την διαδικασία από την ομάδα μας πριν την έναρξη της πεζοπορίας\, και η ομάδα δεν αναλαμβάνει καμία ευθύνη για οποιοδήποτε ατυχές περιστατικό! \n* Υπάρχει πάντα επικοινωνία με την Εθελοντικές ομάδες του Υμηττού και τον ΣΠΑΥ με τη χρήση ασυρμάτων. \n* Σε κάθε πεζοπορία η ομάδα έχει πλήρη φαρμακείο και νοσηλευτή\, που συνοδεύει την ομάδα. Επίσης αρκετά μέλη της ομάδας είναι πιστοποιημένα από τον ΕΕΣ για τις πρώτες βοήθειες. \n🐾Όποιος επιθυμεί να συνεισφέρει στη δράση για τη σίτιση των αδέσποτων ζώων της περιοχής\, μπορεί φέρνοντας τροφή ( κονσέρβα/ξηρά τροφή ) και να τη παραδώσει πριν την έναρξη της διαδρομής\, η οποία θα δοθεί σε άτομα που την\nέχουν αναλάβει.🐕🐈🐾 \nΠληροφορίες:\ne mail : info@poymittou.gr ή στο messenger της ομάδας.
URL:https://poymittou.gr/event/%ce%b1%ce%b9%cf%83%ce%b8%ce%b7%cf%84%ce%b9%ce%ba%cf%8c-%ce%b4%ce%ac%cf%83%ce%bf%cf%82-%cf%85%ce%bc%ce%b7%cf%84%cf%84%ce%bf%cf%8d-2/
LOCATION:Υμηττός Αττικής\, Υμηττός Αττικής
CATEGORIES:Εκδηλώσεις ΠΟΥ
ATTACH;FMTTYPE=image/jpeg:https://poymittou.gr/wp-content/uploads/2025/02/aisthitiko-dasos-kaisarianis.jpg
ORGANIZER;CN="%CE%A0%CE%B5%CF%81%CE%B9%CF%80%CE%B1%CF%84%CE%B7%CF%84%CE%B9%CE%BA%CE%AE %CE%9F%CE%BC%CE%AC%CE%B4%CE%B1 %CE%A5%CE%BC%CE%B7%CF%84%CF%84%CE%BF%CF%8D %CE%A0 %CE%9F %CE%A5 - %CE%A3%CE%B5%CE%BB%CE%AF%CE%B4%CE%B1":MAILTO:noreply@facebookmail_com
END:VEVENT
END:VCALENDAR