BEGIN:VCALENDAR
VERSION:2.0
PRODID:-//Περιπατητική Ομάδα Υμηττού - ECPv6.15.20//NONSGML v1.0//EN
CALSCALE:GREGORIAN
METHOD:PUBLISH
X-WR-CALNAME:Περιπατητική Ομάδα Υμηττού
X-ORIGINAL-URL:https://poymittou.gr
X-WR-CALDESC:Events for Περιπατητική Ομάδα Υμηττού
REFRESH-INTERVAL;VALUE=DURATION:PT1H
X-Robots-Tag:noindex
X-PUBLISHED-TTL:PT1H
BEGIN:VTIMEZONE
TZID:Europe/Athens
BEGIN:DAYLIGHT
TZOFFSETFROM:+0200
TZOFFSETTO:+0300
TZNAME:EEST
DTSTART:20240331T010000
END:DAYLIGHT
BEGIN:STANDARD
TZOFFSETFROM:+0300
TZOFFSETTO:+0200
TZNAME:EET
DTSTART:20241027T010000
END:STANDARD
BEGIN:DAYLIGHT
TZOFFSETFROM:+0200
TZOFFSETTO:+0300
TZNAME:EEST
DTSTART:20250330T010000
END:DAYLIGHT
BEGIN:STANDARD
TZOFFSETFROM:+0300
TZOFFSETTO:+0200
TZNAME:EET
DTSTART:20251026T010000
END:STANDARD
BEGIN:DAYLIGHT
TZOFFSETFROM:+0200
TZOFFSETTO:+0300
TZNAME:EEST
DTSTART:20260329T010000
END:DAYLIGHT
BEGIN:STANDARD
TZOFFSETFROM:+0300
TZOFFSETTO:+0200
TZNAME:EET
DTSTART:20261025T010000
END:STANDARD
END:VTIMEZONE
BEGIN:VEVENT
DTSTART;TZID=Europe/Athens:20251102T070000
DTEND;TZID=Europe/Athens:20251102T210000
DTSTAMP:20260420T030344
CREATED:20251019T203523Z
LAST-MODIFIED:20251028T202827Z
UID:2553-1762066800-1762117200@poymittou.gr
SUMMARY:Αισθητικό δάσος Στενής Ευβοίας\, Δίρφυς
DESCRIPTION:🎒 Πεζοπορία στο Αισθητικό Δάσος Στενής Ευβοίας με την Περιπατητική Ομάδα Υμηττού \n📍 Στενή Ευβοίας – Καταφύγιο Δίρφυος (Μιχάλης Νικολάου) (Κυκλική διαδρομή\, μονοπάτια Σ1 & Σ2) \n🗓 Κυριακή 2 Νοεμβρίου 2025 \n🌲 Περιγραφή Διαδρομής \nΣας προσκαλούμε σε μια υπέροχη κυκλική πεζοπορία στις πλαγιές της Δίρφυς\, μέσα σε ένα μαγευτικό φυσικό τοπίο!\nΤο Αισθητικό Δάσος Στενής απλώνεται στις νότιες πλαγιές του όρους Δίρφυς και αποτελεί προστατευόμενη περιοχή του δικτύου Natura 2000\, γεμάτη με πλούσια βλάστηση και μοναδική ομορφιά. \nΑνάβαση (Στενή – Καταφύγιο):\nΘα ακολουθήσουμε το μονοπάτι Σ1\, την πιο σύντομη διαδρομή προς το καταφύγιο. Το Σ1 έχει κάποια πιο απαιτητικά σημεία\, οπότε θα προσαρμόσουμε τη διαδρομή για να αποφύγουμε τα δύσκολα τμήματα.\nΗ ανάβαση περνά μέσα από πυκνό δάσος με πλατάνια\, καστανιές\, βελανιδιές και έλατα\, προσφέροντας μαγευτικές εικόνες σε κάθε βήμα! 🌿 \nΣτάση / Ξεκούραση:\nΘα φτάσουμε στο Καταφύγιο «Μιχάλης Νικολάου» του ΕΟΣ Χαλκίδας (υψόμετρο ~1.120 μ.) για ξεκούραση\, ανεφοδιασμό και φυσικά… απόλαυση της θέας προς τη Δίρφυ και το Ξηροβούνι! \nΚατάβαση (Καταφύγιο – Στενή):\nΗ επιστροφή θα γίνει από το μονοπάτι Σ2\, που είναι πιο βατό και καλά σηματοδοτημένο. Μια πανέμορφη διαδρομή μέσα από ελατοδάση\, καστανιές και πλατάνια\, που θα μας οδηγήσει πίσω στη Στενή. 🌳 \n📌 Πληροφορίες Διαδρομής \nΣυνολική διάρκεια: ~5 ώρες (με στάσεις)\nΥψομετρική διαφορά: 650 μ.\nΣυνολικό μήκος: ~10 χλμ (κυκλική)\nΜέγιστο υψόμετρο: 1.125 μ.\nΕλάχιστο υψόμετρο: 470 μ.\nΒαθμός δυσκολίας: 2/5 (Μέτρια) 👉 Απαιτείται καλή φυσική κατάσταση \n📍 Σημεία συνάντησης \n1️⃣ Μετρό FIX – 🕖 07:00 π.μ.\n2️⃣ Καισαριανή – Πάρκινγκ γηπέδου Κρητικόπουλου – 🕖 07:15 π.μ. \n🎒 Εξοπλισμός \n🛑 Υποχρεωτικά: Μποτάκια πεζοπορίας 🥾 \n✅ Προτείνεται να έχετε μαζί σας: \n\nΡούχα κατάλληλα για το βουνό (layers)\nΑδιάβροχο / αντιανεμικό μπουφάν\nΝερό & σνακ 🍌\nΜπατόν πεζοπορίας 🦯\nΠροσωπικό φαρμακείο 🧴\n\nΚόστος : 22\,00€ (για τα ενεργά μέλη της ΠΟΥ) \, 25\,00€ για τα μη μέλη \nΠεριλαμβάνονται η μεταφορά με πούλμαν (Φ.Π.Α.\, διόδια)\, έξοδα οδηγού. \nΟι διαθέσιμες θέσεις για την πεζοπορία έχουν συμπληρωθεί. Συμπληρώστε την φόρμα αν επιθυμείτε να μπείτε στην λίστα αναμονής! \nhttps://forms.gle/r59HqDHr1FNtmUmp7 \nή στα γραφεία της ομάδας (Οδεμησίου 12- Καισαριανή)\,\nτηλ. 2107245353\, Τετάρτη\, ώρες 18.30-20.30 ή στις δράση της ομάδας που προηγείται στον Υμηττό.
URL:https://poymittou.gr/event/%ce%b1%ce%b9%cf%83%ce%b8%ce%b7%cf%84%ce%b9%ce%ba%cf%8c-%ce%b4%ce%ac%cf%83%ce%bf%cf%82-%cf%83%cf%84%ce%b5%ce%bd%ce%ae%cf%82-%ce%b5%cf%85%ce%b2%ce%bf%ce%af%ce%b1%cf%82/
LOCATION:Στενή Ευβοίας\, Athens\, GR
CATEGORIES:Εκδηλώσεις ΠΟΥ
ATTACH;FMTTYPE=image/jpeg:https://poymittou.gr/wp-content/uploads/2025/10/2553_image_568179665_1398598355599170_1569311407152327992_n.jpg
END:VEVENT
BEGIN:VEVENT
DTSTART;TZID=Europe/Athens:20251109T083000
DTEND;TZID=Europe/Athens:20251109T083000
DTSTAMP:20260420T030344
CREATED:20251104T210927Z
LAST-MODIFIED:20251106T141445Z
UID:2562-1762677000-1762677000@poymittou.gr
SUMMARY:Υμηττός: "Αισθητικό δάσος Καισαριανής"
DESCRIPTION:Πεζοπορία στον Υμηττό – Κυριακή 09 Νοεμβρίου 2025 \nΑυτή την Κυριακή\, 09/11/2025\, αφήνουμε πίσω την πόλη και ανεβαίνουμε στον αγαπημένο μας Υμηττό!\nΞεκινώντας από την Μονή Καισαριανής\, θα ακολουθήσουμε δροσερά μονοπάτια που οδηγούν στο Αισθητικό Δάσος Υμηττού. Εκεί θα γνωρίσουμε την ιστορία του\, θα μάθουμε σε ποιους οφείλουμε αυτή την καταπράσινη όαση και θα γνωρίσουμε από κοντά τη χαλέπιο και την τραχεία πεύκη\, καθώς και τα αρωματικά φυτά και βότανα της περιοχής. \nΗ διαδρομή μας περνά από τον Λόφο των Ταξιαρχών\, το Μονοπάτι της Σιωπής\, τη Μονή Καισαριανής\, την Ανάληψη και τις πηγές του Ιλισσού ποταμού. \nΤο μεγαλύτερο μέρος της διαδρομής είναι σκιασμένο\, μέσα σε ένα πανέμορφο πευκοδάσος.\nΦέρτε μαζί σας την καλή διάθεση και το χαμόγελό σας – τα υπόλοιπα τα αναλαμβάνουμε εμείς! \nΗ πεζοπορία της Κυριακής είναι ιδανική για νέους πεζοπόρους και όσους θέλουν να γνωρίσουν το αισθητικό δάσος και να απολαύσουν τη φύση χωρίς ιδιαίτερες απαιτήσεις. \nΣτοιχεία Διαδρομής \n\nΑπόσταση: ~5\,5 χλμ\nΔιάρκεια: ~3 ώρες (μαζί με τις στάσεις)\nΥψομετρική διαφορά: +220 μ.\nΒαθμός δυσκολίας: 1/5 — Κατάλληλη για όλους\nΚλίμακα δυσκολίας:\n1️⃣ Εύκολο\n2️⃣ Μέτριο\n3️⃣ Απαιτητικό\n4️⃣ Δύσκολο\n5️⃣ Τεχνικό – Υψηλών απαιτήσεων\n\nΣΗΜΕΙΟ ΣΥΝΑΝΤΗΣΗΣ :\nΜονή Καισαριανής  ( https://maps.app.goo.gl/CbAoDoHgahbhPokk6 ) \n💚Φόρα τα πεζοπορικά παπούτσια σου\, πάρε καλή διάθεση και έλα να γνωρίσουμε μαζί τις κρυφές ομορφιές του Υμηττού! \n📩Για συμμετοχή & πληροφορίες μέσω της ηλεκτρονικής φόρμας\nhttps://forms.gle/oZc4E6maN8vdoenV6\nή\nστα γραφεία της ομάδας (Οδεμησίου 12- Καισαριανή)\,\nτηλ. 2107245353\,\nΤετάρτη\, ώρες 18.30-20.30 \nΚόστος : 3€ για τα μη μέλη\, δωρεάν για τα ενεργά μέλη της ΠΟΥ ( έχουν πληρώσει την συνδρομή του 2025 ) \n🛑 Υποχρεωτικά 🥾Μποτάκια Πεζοπορίας\nΕξοπλισμός πεζοπορίας: \nΝερό (1.5lt)🍶\nΜπατόν 🦯 ( προαιρετικά )\nΣνάκ (φρούτο\, μπάρα δημητριακών κ.α.)🍌\nΑτομικό Φαρμακείο⛑\nΑντιανεμικό💨🧥\nΑδιάβροχο 💦 \nΟ αρχηγός της εκδρομής έχει το δικαίωμα\, να τροποποιήσει ή να ματαιώσει ένα πρόγραμμα που είναι σε εξέλιξη ή πριν την έναρξη αυτού\, για λόγους ασφάλειας ή ανωτέρας βίας (φυσικές καταστροφές\, ακατάλληλες καιρικές συνθήκες\, κλπ) ή και να αποκλείσει συμμετέχοντα λόγω έλλειψης\nορειβατικού εξοπλισμού. Όποιος συμμετέχει\, γνωρίζει τις απαιτήσεις και την επικινδυνότητα της δραστηριότητας στην οποία συμμετέχει και αναλαμβάνει ατομικά την ευθύνη της συμμετοχής του στην δραστηριότητα\, όπως άλλωστε προβλέπεται από την διακήρυξη του Τυρόλου 8η Σεπτεμβρίου 2003 παράρτημα 1\, άρθρο 1 – Περί Ατομικής Ευθύνης\, αποδεχόμενος τους κινδύνους που ενέχει καθώς και την ευθύνη για την ασφάλειά του. Επίσης πρέπει να έχει άριστη σωματική & ψυχική υγεία και να ενημερώνει τον αρχηγό για τυχόν προβλήματα υγείας. \nΕπικοινωνία για οποιαδήποτε πληροφορία: Μήνυμα μέσω inbox ή e- mail: info@poymittou.gr \nτηλ. για τεχνικές πληροφορίες διαδρομής: 6938283898 (Μάνος Κιτσέλης) \n🐾Όποιος επιθυμεί να συνεισφέρει στη δράση για τη σίτιση των αδέσποτων ζώων που βρίσκονται στο βουνό\, μπορεί φέρνοντας τροφή ( κονσέρβα/ξηρά τροφή ) και να τη παραδώσει πριν την έναρξη της διαδρομής\,\nη οποία θα δοθεί σε άτομα που την\nέχουν αναλάβει.🐕🐈🐾\n* Όποιος/α επιθυμεί την εγγραφή ή την ανανέωση της συνδρομής στην ομάδα η προσέλευση θα πρέπει να είναι μισή ώρα νωρίτερα στο σημείο συνάντησης \, ώστε να μην υπάρξει καθυστέρηση*
URL:https://poymittou.gr/event/%ce%b1%ce%b9%cf%83%ce%b8%ce%b7%cf%84%ce%b9%ce%ba%cf%8c-%ce%b4%ce%ac%cf%83%ce%bf%cf%82-%ce%ba%ce%b1%ce%b9%cf%83%ce%b1%cf%81%ce%b9%ce%b1%ce%bd%ce%ae%cf%82/
CATEGORIES:Εκδηλώσεις ΠΟΥ
ATTACH;FMTTYPE=image/jpeg:https://poymittou.gr/wp-content/uploads/2025/11/2562_image_577347849_1413353114123694_7474443789747070018_n.jpg
END:VEVENT
BEGIN:VEVENT
DTSTART;TZID=Europe/Athens:20251116T080000
DTEND;TZID=Europe/Athens:20251116T080000
DTSTAMP:20260420T030344
CREATED:20251110T194721Z
LAST-MODIFIED:20251110T195555Z
UID:2577-1763280000-1763280000@poymittou.gr
SUMMARY:🏔️ Κούμαρα trail 🍓
DESCRIPTION:🌳 Κυριακάτικη εξόρμηση στον Υμηττό! 🌳 \nΑυτή την Κυριακή ανηφορίζουμε στο αγαπημένο μας βουνό για να περπατήσουμε στο μαγευτικό Κούμαρα Trail!\nΘα περιηγηθούμε μέσα στο δασωμένο κομμάτι του κεντρικού Υμηττού και θα φτάσουμε ως το Κορακοβούνι\, όπου θα κάνουμε μια στάση για τις απαραίτητες φωτογραφίες και θα απολαύσουμε την πανοραμική θέα προς όλο το λεκανοπέδιο αλλά και την κορυφή του Υμηττού\, τον Εύζωνα. \nΣτη συνέχεια θα κατηφορίσουμε προς τη χώρα των κούμαρων 🍓. Αν είμαστε τυχεροί και η φθινοπωρινή βροχούλα έφτασε για να γεμίσουν και να ωριμάσουν οι καρποί τους\, τότε θα απολαύσουμε τα φρούτα αυτού του υπέροχου θάμνου! Τα κούμαρα\, με το σκούρο κόκκινο χρώμα τους\, είναι γεμάτα γεύση και θρεπτικά συστατικά — βιταμίνη C\, βήτα-καροτένιο\, βιταμίνη Β3(νιασίνη) και τοκοφερόλες. Φυσικά\, τα απολαμβάνουμε πάντα με μέτρο και… κατευθείαν από το δέντρο! 😉 \n📍 Σημείο συνάντησης: Πυροφυλάκιο Καισαριανής\, “Δημήτρης Καραμολέγκος” ( https://maps.app.goo.gl/c353FJejcxUQxfyt9 ) \n🕗 Ώρα: 8:00 π.μ. \n🚶‍♀️ Διαδρομή: \nΑπόσταση: ~11 χλμ\nΔιάρκεια: ~6 ώρες (με στάσεις)\nΥψομετρική: +534 μ.\nΔυσκολία: 1+/5 \nΦορέστε το χαμόγελό σας\, πάρτε την καλή σας διάθεση και ελάτε να απολαύσουμε μια υπέροχη πεζοπορική Κυριακή στον Υμηττό! 🌿✨ \n🎒 Εξοπλισμός \n🛑 Υποχρεωτικά: Μποτάκια πεζοπορίας 🥾 \n✅ Προτείνεται να έχετε μαζί σας: \n\nΡούχα κατάλληλα για το βουνό (layers)\nΑδιάβροχο / αντιανεμικό μπουφάν\nΝερό & σνακ 🍌\nΜπατόν πεζοπορίας 🦯\nΠροσωπικό φαρμακείο 🧴\n\nΚόστος : 3€ για τα μη μέλη\, δωρεάν για τα ενεργά μέλη της ΠΟΥ \nΔηλώσεις μέσω της ηλεκτρονικής φόρμας\,\nhttps://forms.gle/mCBHhdqB2rXvbTr26 \nή στα γραφεία της ομάδας (Οδεμησίου 12- Καισαριανή)\, τηλ. 2107245353\,\nΤετάρτη\, ώρες 18.30-20.30 ή στις δράση της ομάδας που προηγείται στον Υμηττό. \nΟ αρχηγός της εκδρομής έχει το δικαίωμα\, να τροποποιήσει ή να ματαιώσει ένα πρόγραμμα που είναι σε εξέλιξη ή πριν την έναρξη αυτού\, για λόγους ασφάλειας ή ανωτέρας βίας (φυσικές καταστροφές\, ακατάλληλες καιρικές συνθήκες\, κλπ) ή και να αποκλείσει συμμετέχοντα λόγω έλλειψης ορειβατικού εξοπλισμού. Όποιος συμμετέχει\, γνωρίζει τις απαιτήσεις και την επικινδυνότητα της δραστηριότητας στην οποία συμμετέχει και αναλαμβάνει ατομικά την ευθύνη της συμμετοχής του στην δραστηριότητα\, όπως άλλωστε προβλέπεται από την διακήρυξη του Τυρόλου 8η Σεπτεμβρίου 2003 παράρτημα 1\, άρθρο 1 – Περί Ατομικής Ευθύνης\, αποδεχόμενος τους κινδύνους που ενέχει καθώς και την ευθύνη για την ασφάλειά του. Επίσης πρέπει να έχει άριστη σωματική & ψυχική υγεία και να ενημερώνει τον αρχηγό για τυχόν προβλήματα υγείας. \nΕπικοινωνία για οποιαδήποτε πληροφορία: Μήνυμα μέσω inbox ή e- mail: info@poymittou.gr \nτηλ. για τεχνικές πληροφορίες διαδρομής: Χριστίνα Αναγνωστοπούλου (6946500513) \n🐾Όποιος επιθυμεί να συνεισφέρει στη δράση για τη σίτιση των αδέσποτων ζώων που βρίσκονται στο βουνό\, μπορεί φέρνοντας τροφή ( κονσέρβα/ξηρά τροφή ) και να τη παραδώσει πριν την έναρξη της διαδρομής\,\nη οποία θα δοθεί σε άτομα που την έχουν αναλάβει.🐕🐈🐾\n* Όποιος/α επιθυμεί την εγγραφή ή την ανανέωση της συνδρομής στην ομάδα η προσέλευση θα πρέπει να είναι μισή ώρα νωρίτερα στο σημείο συνάντησης\, ώστε να μην υπάρξει καθυστέρηση*
URL:https://poymittou.gr/event/%ce%ba%ce%bf%cf%8d%ce%bc%ce%b1%cf%81%ce%b1-trail%f0%9f%8d%93/
LOCATION:Κορακοβούνι Υμηττού\, Κορακοβούνι Υμηττού
CATEGORIES:Εκδηλώσεις ΠΟΥ
ATTACH;FMTTYPE=image/jpeg:https://poymittou.gr/wp-content/uploads/2025/11/2577_image_581163599_1418966393562366_7384790647990086029_n.jpg
END:VEVENT
BEGIN:VEVENT
DTSTART;TZID=Europe/Athens:20251123T073000
DTEND;TZID=Europe/Athens:20251123T073000
DTSTAMP:20260420T030344
CREATED:20251109T183200Z
LAST-MODIFIED:20251109T204234Z
UID:2570-1763883000-1763883000@poymittou.gr
SUMMARY:Διάσχιση Υμηττού
DESCRIPTION:Διάσχιση Υμηττού — Κυριακή 23/11/2025\nΑπό Αγία Παρασκευή έως Άνω Γλυφάδα \nΉρθε η στιγμή να δοκιμάσουμε τα όριά μας στο αγαπημένο μας βουνό! 💪\nΗ ομάδα ετοιμάζεται για μια απαιτητική αλλά συναρπαστική διάσχιση στον Μέγα Υμηττό\, όπως τον αποκαλούσαν οι αρχαίοι Αθηναίοι. Μια διαδρομή-πρόκληση με αρκετά χιλιόμετρα\, με εναλλαγές υψομέτρου και συνεχή πορεία στην κορυφογραμμή του Βόρειου Υμηττού\, εκεί όπου χτυπά η “καρδιά” του βουνού. \nΟ Υμηττός είναι δεμένος με την ιστορία της αρχαίας Αθήνας· στα χώματά του υπήρχαν ιερά αφιερωμένα στους θεούς και στις νύμφες\, ενώ στη δυτική πλευρά λειτουργούσαν λατομεία που παρείχαν μάρμαρο για σπουδαία μνημεία των ελληνιστικών και ρωμαϊκών χρόνων.\nΣήμερα\, προσφέρει σε κάθε πεζοπόρο μαγευτική θέα: την Αθήνα και την “κοιλάδα του Πνεύματος” από τη μία\, και τα Μεσόγεια —την “κοιλάδα του οινοπνεύματος”— από την άλλη! 🍷 \n🥾 Η Διαδρομή \nΗ πορεία ξεκινά από το Μοναστήρι του Αγίου Ιωάννη του Κυνηγού στον Σταυρό Αγίας Παρασκευής.\nΑκολουθώντας το μονοπάτι 11\, περνάμε από τα Ορυχεία Φυρέ και τα παλιά εγκαταλελειμμένα κτίριά τους.\nΈπειτα\, μέσω του μονοπατιού 10\, θα κινηθούμε πάνω στη βόρεια κορυφογραμμή\, συναντώντας το Σπήλαιο της Νυχτερίδας και τις δίδυμες κορυφές του Κορακοβουνίου (728 μ.). \nΣτη συνέχεια\, ανηφορίζουμε προς το “πάρκο των κεραιών” και περνάμε κάτω από τον Εύζωνα (1026 μ.)\, την ψηλότερη κορυφή του Υμηττού. Η διαδρομή είναι βραχώδης και εντυπωσιακή\, με απεριόριστη θέα προς τον Νότιο (Ελάττονα ή Άνυδρο) Υμηττό — κορυφές όπως το Μαυροβούνι και η Κόντρα — και φυσικά προς τα παράλια της Αθήνας και τον Αργοσαρωνικό. 🌊 \nΑπό εκεί\, κατευθυνόμαστε προς τον Πύργο\, όπου θα συναντήσουμε τα δυο του βάραθρα και ερείπια οχύρωσης αρχαίου στρατοπέδου — ένα μοναδικό σημείο με αύρα ιστορίας. Θα επισκεφτούμε και το σημείο όπου έχει στηθεί μνημείο για τον μεγάλο Έλληνα ορειβάτη και αναρριχητή Γιώργο Μιχαηλίδη.\nΈπειτα\, ακολουθεί κατάβαση προς το οροπέδιο Σέσι\, μια σχεδόν επίπεδη καλλιεργήσιμη περιοχή σε υψόμετρο 550 μ.\, γνωστή για το πανάρχαιο πηγάδι της. \nΗ διαδρομή συνεχίζει μέσα από χωματόδρομο και μονοπάτι ως το διάσελο του Σταυρού\, που ενώνει τον Προφήτη Ηλία με το Μαυροβούνι και τον λόφο του Νταβέλη. Από εκεί θα πάρουμε το μονοπάτι προς την Τρύπια Σπηλιά — ένα εντυπωσιακό φυσικό μνημείο\, με είσοδο που έχει μετατραπεί σε πέτρινη γέφυρα πλάτους 6–10 μ. και ύψους περίπου 15 μ.\nΠριν καταπέσει ο θόλος\, το σπήλαιο είχε διαστάσεις 42 × 20 μ. και ύψος περίπου 30 μ. — μια εικόνα που δύσκολα φαντάζεται κανείς σήμερα! \nΗ κατάληξη της διαδρομής γίνεται στην Τερψιθέα — Άνω Γλυφάδα\, με την Αθήνα να απλώνεται μπροστά μας.\nΣτην συνέχεια θα επιβιβαστούμε στο λεωφορείο που θα μας επιστρέψει στην αφετηρία μας. \nℹ️ Πληροφορίες \nΕπίπεδο δυσκολίας: 3/5 \nΑπόσταση: 20 km \nΔιάρκεια: ~7 ώρες \nΑνάβαση: 940 m \nΚατάβαση: 1.030 m \nΝερό: δεν υπάρχει στη διαδρομή — φροντίζουμε να έχουμε επάρκεια 💧 \n🕢 Ραντεβού ( Θα μετακινηθούμε με λεωφορείο) \nΏρα συνάντησης: 7:30 π.μ. \nΣημείο εκκίνησης: Πάρκινγκ Δημοτικού Σταδίου Καισαριανής\n👉 Χάρτης : https://maps.app.goo.gl/Nz7kkoZRLk8QnG716 \nΕναλλακτική στάση: Μετρό Κατεχάκη (Κατεχάκη & Μεσογείων )\n👉 Χάρτης: https://maps.app.goo.gl/DB5XvSr6yXYhe2gT9 \nΜια διαδρομή για όσους αγαπούν τις προκλήσεις\, τη φύση και την ιστορία του Υμηττού.\nΠροετοιμάσου για μια μέρα γεμάτη θέα\, ενέργεια και ανακαλύψεις! 🌿 \n🎒 Εξοπλισμός \n🛑 Υποχρεωτικά: Μποτάκια πεζοπορίας 🥾 \n✅ Προτείνεται να έχετε μαζί σας: \n\nΡούχα κατάλληλα για το βουνό (layers)\nΑδιάβροχο / αντιανεμικό μπουφάν\nΝερό & σνακ 🍌\nΜπατόν πεζοπορίας 🦯\nΠροσωπικό φαρμακείο 🧴\n\nΚόστος : 13\,00€ (για τα ενεργά μέλη της ΠΟΥ) \, 15\,00€ για τα μη μέλη. \nΔηλώσεις μέσω της ηλεκτρονικής φόρμας\, \nhttps://forms.gle/4XtsTgp9ou3oRrsf7  \nή στα γραφεία της ομάδας (Οδεμησίου 12- Καισαριανή)\, τηλ. 2107245353\, Τετάρτη\, ώρες 18.30-20.30 ή στις δράση της ομάδας που προηγείται στον Υμηττό. \nΗ συμμετοχή σας διασφαλίζεται ΜΟΝΟ με την καταβολή του ποσού \nΕUROBANK IBAN: GR2202606400000820200214333 (Δικαιούχος: ΠΕΡΙΠΑΤΗΤΙΚΉ ΟΜΑΔΑ ΥΜΗΤΤΟΥ) \n⚠️Τυχόν τραπεζικά έξοδα\, βαρύνουν εξ’ ολοκλήρου τον συμμετέχοντα-καταθέτη. \nΑκυρώσεις 3 μέρες πριν την πεζοπορία (Ημέρα Πέμπτη) δεν επιστρέφονται τα χρήματα\, αν δεν καλυφθεί η θέση. \nΟ αρχηγός της εκδρομής έχει το δικαίωμα\, να τροποποιήσει ή να ματαιώσει ένα πρόγραμμα που είναι σε εξέλιξη ή πριν την έναρξη αυτού\, για λόγους ασφάλειας ή ανωτέρας βίας (φυσικές καταστροφές\, ακατάλληλες καιρικές συνθήκες\, κλπ) ή και να αποκλείσει συμμετέχοντα λόγω έλλειψης\nορειβατικού εξοπλισμού. Όποιος συμμετέχει\, γνωρίζει τις απαιτήσεις και την επικινδυνότητα της δραστηριότητας στην οποία συμμετέχει και αναλαμβάνει ατομικά την ευθύνη της συμμετοχής του στην δραστηριότητα\, όπως άλλωστε προβλέπεται από την διακήρυξη του Τυρόλου 8η Σεπτεμβρίου 2003 παράρτημα 1\, άρθρο 1 – Περί Ατομικής Ευθύνης\, αποδεχόμενος τους κινδύνους που ενέχει καθώς και την ευθύνη για την ασφάλειά του. Επίσης πρέπει να έχει άριστη σωματική & ψυχική υγεία και να ενημερώνει τον αρχηγό για τυχόν προβλήματα υγείας. \nΕπικοινωνία για οποιαδήποτε πληροφορία: Μήνυμα μέσω inbox ή e- mail: info@poymittou.gr \nτηλ. για τεχνικές πληροφορίες διαδρομής:\nΧριστίνα Αναγνωστοπούλου (6946500513)\, Γιώργος Παπαμήτσος (6973026445 )
URL:https://poymittou.gr/event/%ce%b4%ce%b9%ce%ac%cf%83%cf%87%ce%b9%cf%83%ce%b7-%cf%85%ce%bc%ce%b7%cf%84%cf%84%ce%bf%cf%8d-23-11-2025/
LOCATION:Οδεμησίου 12\, 16122 Kaisarianí\, Greece\, Οδεμησίου 12\, 16122 Kaisarianí\, Greece
CATEGORIES:Εκδηλώσεις ΠΟΥ
ATTACH;FMTTYPE=image/jpeg:https://poymittou.gr/wp-content/uploads/2025/11/2570_image_581236356_1417953890330283_144775893065000966_n.jpg
END:VEVENT
BEGIN:VEVENT
DTSTART;TZID=Europe/Athens:20251126T173000
DTEND;TZID=Europe/Athens:20251126T173000
DTSTAMP:20260420T030344
CREATED:20251123T190604Z
LAST-MODIFIED:20251123T191007Z
UID:2591-1764178200-1764178200@poymittou.gr
SUMMARY:Σεμινάριο στις Βασικές Αρχές των Πρώτων Βοηθειών
DESCRIPTION:Η Περιπατητική Ομάδα Υμηττού\, αναγνωρίζοντας την αξία της γνώσης των  πρώτων βοηθειών\, ειδικά κατά τη διάρκεια των δραστηριοτήτων μας στη φύση\, διοργανώνει ενημερωτικό σεμινάριο για τα μέλη και τους φίλους της. \nΣκοπός του σεμιναρίου είναι η εξοικείωση των συμμετεχόντων με τις βασικές αρχές παροχής πρώτων βοηθειών. \nΠληροφορίες Σεμιναρίου:\nΔιοργάνωση: Περιπατητική Ομάδα Υμηττού\nΗμερομηνία: Τετάρτη\, 26 Νοεμβρίου 2025\nΏρα: 17:30 (Διάρκεια 2 ώρες)\nΤόπος Διεξαγωγής: Γραφεία Περιπατητικής Ομάδας Υμηττού\nΔιεύθυνση: Οδεμησίου 12\, Καισαριανή\,16121\nΣυμμετοχή: Δωρεάν \nΤο σεμινάριο απευθύνεται σε όλα τα μέλη της ομάδας μας\, καθώς και σε οποιονδήποτε ενδιαφερόμενο θέλει να αποκτήσει αυτές τις σημαντικές γνώσεις. \nΓια την καλύτερη διοργάνωση\, παρακαλούμε δηλώστε συμμετοχή\nhttps://forms.gle/VQHtc1qH8ckMsQLQ7\nΣας περιμένουμε!
URL:https://poymittou.gr/event/%cf%83%ce%b5%ce%bc%ce%b9%ce%bd%ce%ac%cf%81%ce%b9%ce%bf-%cf%80%cf%81%cf%8e%cf%84%cf%89%ce%bd-%ce%b2%ce%bf%ce%b7%ce%b8%ce%b5%ce%b9%cf%8e%ce%bd/
LOCATION:Οδεμησίου 12\, 16122 Kaisarianí\, Greece\, Οδεμησίου 12\, 16122 Kaisarianí\, Greece
CATEGORIES:Εκδηλώσεις ΠΟΥ
ATTACH;FMTTYPE=image/jpeg:https://poymittou.gr/wp-content/uploads/2025/11/2591_image_589362327_1430324259093246_3272339377912557806_n.jpg
END:VEVENT
BEGIN:VEVENT
DTSTART;TZID=Europe/Athens:20251130T080000
DTEND;TZID=Europe/Athens:20251130T123000
DTSTAMP:20260420T030344
CREATED:20251127T203905Z
LAST-MODIFIED:20251127T205205Z
UID:2599-1764489600-1764505800@poymittou.gr
SUMMARY:Πεζοπορία στο Αστέρι του Υμηττού
DESCRIPTION:Ελάτε να πεζοπορήσετε αυτή την Κυριακή με την ομάδα της Π.Ο.Υ.\, να γνωρίσετε τον Υμηττό και την παρέα της ομάδας μας.\nΜια πεζοπορική διαδρομή για όλους\, που τα συνδυάζει όλα.\nΠερπατάμε στο Αισθητικό δάσος\, στα Βυζαντινά μοναστήρια του Υμηττού\, στη Μονή Καισαριανής\, στο Λόφο Ταξιαρχών\, στην τρύπια Εκκλησιά της Ανάληψης\, το βοτανικό μονοπάτι\, τον Πύργο Ανθούσης και την Μονή Αστερίου. Όλη η διαδρομή είναι μέσα σε ένα πανέμορφο δάσος από πεύκα\, κυπαρίσσια και δεκάδες άλλα δέντρα και θάμνους\, το αναψυκτήριο της Καλοπούλας θα μας ξεκουράσει προτού επιστρέψουμε στην αφετηρία μας. μετά από ένα υπέροχο και ιδιαίτερο περίπατο στη φύση. \nΣτοιχεία Διαδρομής:\nΑπόσταση: ~ 9 χλμ.\nΔιάρκεια: ~ 4 ώρες (με τις στάσεις).\nΥψομετρική: + 400μ.\nBαθμός Δυσκολίας : 1/5\n– Κατάλληλη για όλους \nΒαθμοί δυσκολίας : 1 Εύκολο – 2 Μέτριο – 3 Απαιτητικό – 4 Δύσκολο – 5 Τεχνικό\, Υψηλών Απαιτήσεων) \nΣΗΜΕΙΟ ΣΥΝΑΝΤΗΣΗΣ :\nΠυροφυλάκιο Καισαριανής\, “Δημήτρης Καραμολέγκος” ( https://maps.app.goo.gl/c353FJejcxUQxfyt9 ) \nΩΡΑ : 8.00 π.μ. \nΚόστος : 3€ για τα μη μέλη\, δωρεάν για τα ενεργά μέλη της ΠΟΥ ( έχουν πληρώσει την συνδρομή του 2025) \n🎒 Εξοπλισμός \n🛑 Υποχρεωτικά: Μποτάκια πεζοπορίας 🥾 \n✅ Προτείνεται να έχετε μαζί σας: \n\nΡούχα κατάλληλα για το βουνό\nΑδιάβροχο / αντιανεμικό μπουφάν\nΝερό & σνακ 🍌\nΜπατόν πεζοπορίας 🦯\nΠροσωπικό φαρμακείο 🧴\n\nΔηλώσεις μέσω αυτής της ηλεκτρονικής φόρμας\, \nhttps://forms.gle/jupt2z2qhosRZzX87 \nή στα γραφεία της ομάδας (Οδεμησίου 12- Καισαριανή)\,\nτηλ. 2107245353\,\nΤετάρτη\, ώρες 18.00-21.00 \nΟ αρχηγός της εκδρομής έχει το δικαίωμα\, να τροποποιήσει ή να ματαιώσει ένα πρόγραμμα που είναι σε εξέλιξη ή πριν την έναρξη αυτού\, για λόγους ασφάλειας ή ανωτέρας βίας (φυσικές καταστροφές\, ακατάλληλες καιρικές συνθήκες\, κλπ) ή και να αποκλείσει συμμετέχοντα λόγω έλλειψης\nορειβατικού εξοπλισμού. Όποιος συμμετέχει\, γνωρίζει τις απαιτήσεις και την επικινδυνότητα της δραστηριότητας στην οποία συμμετέχει και αναλαμβάνει ατομικά την ευθύνη της συμμετοχής του στην δραστηριότητα\, όπως άλλωστε προβλέπεται από την διακήρυξη του Τυρόλου 8η Σεπτεμβρίου 2003 παράρτημα 1\, άρθρο 1 – Περί Ατομικής Ευθύνης\, αποδεχόμενος τους κινδύνους που ενέχει καθώς και την ευθύνη για την ασφάλειά του. Επίσης πρέπει να έχει άριστη σωματική & ψυχική υγεία και να ενημερώνει τον αρχηγό για τυχόν προβλήματα υγείας. \nΕπικοινωνία για οποιαδήποτε πληροφορία: Μήνυμα μέσω inbox ή e- mail: info@poymittou.gr \nτηλ. για τεχνικές πληροφορίες διαδρομής: 6983506385 (Δημήτρης Μανιός) \n🐾Όποιος επιθυμεί να συνεισφέρει στη δράση για τη σίτιση των αδέσποτων ζώων που βρίσκονται στο βουνό\, μπορεί φέρνοντας τροφή ( κονσέρβα/ξηρά τροφή ) και να τη παραδώσει πριν την έναρξη της διαδρομής\,\nη οποία θα δοθεί σε άτομα που την\nέχουν αναλάβει.🐕🐈🐾 \n*Όποιος/α επιθυμεί την εγγραφή ή την ανανέωση της συνδρομής στην ομάδα η προσέλευση θα πρέπει να είναι μισή ώρα νωρίτερα στο σημείο συνάντησης \, ώστε να μην υπάρξει καθυστέρηση*
URL:https://poymittou.gr/event/%cf%80%ce%b5%ce%b6%ce%bf%cf%80%ce%bf%cf%81%ce%af%ce%b1-%cf%83%cf%84%ce%bf-%ce%b1%cf%83%cf%84%ce%ad%cf%81%ce%b9-%cf%84%ce%bf%cf%85-%cf%85%ce%bc%ce%b7%cf%84%cf%84%ce%bf%cf%8d/
LOCATION:Πυροφυλάκιο Καισαριανής\, “Δημήτρης Καραμολέγκος”
CATEGORIES:Εκδηλώσεις ΠΟΥ
ATTACH;FMTTYPE=image/jpeg:https://poymittou.gr/wp-content/uploads/2025/11/2599_image_589615746_1433757082083297_8906253897148223887_n.jpg
END:VEVENT
END:VCALENDAR