BEGIN:VCALENDAR
VERSION:2.0
PRODID:-//Περιπατητική Ομάδα Υμηττού - ECPv6.15.20//NONSGML v1.0//EN
CALSCALE:GREGORIAN
METHOD:PUBLISH
X-WR-CALNAME:Περιπατητική Ομάδα Υμηττού
X-ORIGINAL-URL:https://poymittou.gr
X-WR-CALDESC:Events for Περιπατητική Ομάδα Υμηττού
REFRESH-INTERVAL;VALUE=DURATION:PT1H
X-Robots-Tag:noindex
X-PUBLISHED-TTL:PT1H
BEGIN:VTIMEZONE
TZID:Europe/Athens
BEGIN:DAYLIGHT
TZOFFSETFROM:+0200
TZOFFSETTO:+0300
TZNAME:EEST
DTSTART:20250330T010000
END:DAYLIGHT
BEGIN:STANDARD
TZOFFSETFROM:+0300
TZOFFSETTO:+0200
TZNAME:EET
DTSTART:20251026T010000
END:STANDARD
BEGIN:DAYLIGHT
TZOFFSETFROM:+0200
TZOFFSETTO:+0300
TZNAME:EEST
DTSTART:20260329T010000
END:DAYLIGHT
BEGIN:STANDARD
TZOFFSETFROM:+0300
TZOFFSETTO:+0200
TZNAME:EET
DTSTART:20261025T010000
END:STANDARD
BEGIN:DAYLIGHT
TZOFFSETFROM:+0200
TZOFFSETTO:+0300
TZNAME:EEST
DTSTART:20270328T010000
END:DAYLIGHT
BEGIN:STANDARD
TZOFFSETFROM:+0300
TZOFFSETTO:+0200
TZNAME:EET
DTSTART:20271031T010000
END:STANDARD
END:VTIMEZONE
BEGIN:VEVENT
DTSTART;TZID=Europe/Athens:20260128T173000
DTEND;TZID=Europe/Athens:20260128T173000
DTSTAMP:20260419T212644
CREATED:20260117T170932Z
LAST-MODIFIED:20260129T102654Z
UID:2645-1769621400-1769621400@poymittou.gr
SUMMARY:Σεμινάριο στις Βασικές Αρχές των Πρώτων Βοηθειών
DESCRIPTION:Περιπατητική Ομάδα Υμηττού\, αναγνωρίζοντας την αξία της γνώσης των Α’ βοηθειών\, ειδικά κατά τη διάρκεια των δραστηριοτήτων μας στη φύση\, διοργανώνει ενημερωτικό σεμινάριο για τα μέλη και τους φίλους της. \nΣκοπός του σεμιναρίου είναι η εξοικείωση των συμμετεχόντων με τις βασικές αρχές παροχής πρώτων βοηθειών. Η παρουσίαση θα καλύπτει τα θέματα: Αντιμετώπιση αιμορραγίας\, διαχείριση αεραγωγού\, ΚΑΡΠΑ\, θέση ανάνηψης\, πνιγμονή\, έγκαυμα\, σπασμούς\, αλλεργίες κ.α. Το πλήθος των θεμάτων που θα καλυφθούν εξαρτιόνται από το διαθέσιμο χρόνο που θα έχουμε ανάλογα με το πλήθος των αποριών που θα τεθούν. \nΠληροφορίες Σεμιναρίου:\nΔιοργάνωση: Περιπατητική Ομάδα Υμηττού\nΗμερομηνία: Τετάρτη\, 28 Ιανουαρίου 2026\nΏρα: 17:30 (Διάρκεια 2 ώρες)\nΤόπος Διεξαγωγής: Γραφεία Περιπατητικής Ομάδας Υμηττού\nΔιεύθυνση: Οδεμησίου 12\, Καισαριανή\,16121\nΕισηγητής: Θεόδωρος Καζαντζής\nΣυμμετοχή: Δωρεάν \nΤο σεμινάριο απευθύνεται σε όλα τα μέλη της ομάδας μας\, καθώς και σε οποιονδήποτε ενδιαφερόμενο θέλει να αποκτήσει αυτές τις σημαντικές γνώσεις. \nΓια την καλύτερη διοργάνωση\, παρακαλούμε δηλώστε συμμετοχή\nhttps://forms.gle/k4QjUDXJhciq6nAV6\nΣας περιμένουμε!
URL:https://poymittou.gr/event/%cf%83%ce%b5%ce%bc%ce%b9%ce%bd%ce%ac%cf%81%ce%b9%ce%bf-%cf%80%cf%81%cf%8e%cf%84%cf%89%ce%bd-%ce%b2%ce%bf%ce%b7%ce%b8%ce%b5%ce%b9%cf%8e%ce%bd-2/
LOCATION:Οδεμησίου 12\, 161 22 Καισαριανή\, Ελλάδα
CATEGORIES:Εκδηλώσεις ΠΟΥ
ATTACH;FMTTYPE=image/jpeg:https://poymittou.gr/wp-content/uploads/2026/01/2645_image_617587005_1474839827975022_3329590664281472570_n.jpg
END:VEVENT
END:VCALENDAR