BEGIN:VCALENDAR
VERSION:2.0
PRODID:-//Περιπατητική Ομάδα Υμηττού - ECPv6.15.20//NONSGML v1.0//EN
CALSCALE:GREGORIAN
METHOD:PUBLISH
X-WR-CALNAME:Περιπατητική Ομάδα Υμηττού
X-ORIGINAL-URL:https://poymittou.gr
X-WR-CALDESC:Events for Περιπατητική Ομάδα Υμηττού
REFRESH-INTERVAL;VALUE=DURATION:PT1H
X-Robots-Tag:noindex
X-PUBLISHED-TTL:PT1H
BEGIN:VTIMEZONE
TZID:Europe/Athens
BEGIN:DAYLIGHT
TZOFFSETFROM:+0200
TZOFFSETTO:+0300
TZNAME:EEST
DTSTART:20250330T010000
END:DAYLIGHT
BEGIN:STANDARD
TZOFFSETFROM:+0300
TZOFFSETTO:+0200
TZNAME:EET
DTSTART:20251026T010000
END:STANDARD
BEGIN:DAYLIGHT
TZOFFSETFROM:+0200
TZOFFSETTO:+0300
TZNAME:EEST
DTSTART:20260329T010000
END:DAYLIGHT
BEGIN:STANDARD
TZOFFSETFROM:+0300
TZOFFSETTO:+0200
TZNAME:EET
DTSTART:20261025T010000
END:STANDARD
BEGIN:DAYLIGHT
TZOFFSETFROM:+0200
TZOFFSETTO:+0300
TZNAME:EEST
DTSTART:20270328T010000
END:DAYLIGHT
BEGIN:STANDARD
TZOFFSETFROM:+0300
TZOFFSETTO:+0200
TZNAME:EET
DTSTART:20271031T010000
END:STANDARD
END:VTIMEZONE
BEGIN:VEVENT
DTSTART;TZID=Europe/Athens:20260206T210000
DTEND;TZID=Europe/Athens:20260206T210000
DTSTAMP:20260419T212642
CREATED:20260108T172155Z
LAST-MODIFIED:20260108T172507Z
UID:2637-1770411600-1770411600@poymittou.gr
SUMMARY:Κοπή Πρωτοχρονιάτικης Πίτας
DESCRIPTION:Η Π.Ο.Υ. σας προσκαλεί σε μια βραδιά που υπόσχεται κέφι\, μουσική και ξεφάντωμα!\nΤην Παρασκευή 06 Φεβρουαρίου 2026 κόβουμε την πρωτοχρονιάτικη πίτα μας και δίνουμε ραντεβού για ένα γλέντι όπως μας αξίζει. \n📍 Στο κέντρο: Καπα.μι.\n📌 Διεύθυνση: Χαμοστέρνας 12 & Κειριαδών 160\, Αθήνα \nΣτο πρόγραμμα:\n🎶 Ζωντανή μουσική\n🍽 Πλούσιο μενού\n🍷 Άφθονο κρασί\n🎁 Δώρα\n💃🕺 και φυσικά… χορός μέχρι τελικής πτώσης! \nΞεκινάμε χαλαρά με φαγητό και ποτό και\, όσο η μουσική ανεβάζει ρυθμούς\, αφήνουμε τα πόδια να μας οδηγήσουν στην κορύφωση του γλεντιού. \nΒ.Δ. (Βαθμός Δυσκολίας): 3+\n(Απαιτητική βραδιά – μόνο για όσους είναι έτοιμοι να το ζήσουν!) \n⏰ Ώρα προσέλευσης: 21:00\n💶 Τιμή: 25€ (περιλαμβάνει άφθονο φαγητό & απεριόριστο κρασί – εξαιρούνται αναψυκτικά & μπύρα)\n🎒 Απαραίτητος εξοπλισμός: χαμόγελο και διάθεση για τραγούδι & χορό \n👉 Δηλώστε συμμετοχή συμπληρώνοντας τη φόρμα\nhttps://forms.gle/C62jAVMXdkeeeNPo6\nκαι προμηθευτείτε την πρόσκλησή σας σε κάποια από τις επόμενες δράσεις μας ή από τα μέλη του ΔΣ: \nΓιώργος Παπαμήτσος – 6973026445\nΣπυριδούλα Παλαιοκώστα – 6944857273\nΧριστίνα Αναγνωστοπούλου – 6946500513\nΜάριος Λυκίσσας – 6946503080\nΔημήτρης Μανιός – 6983506385\nΒασίλης Κατακουζηνός – 6984232200\nΜάνος Κιτσέλλης – 6938283898 \n📍 Επίσης\, από το γραφείο της ομάδας (Οδεμησίου 12\, Καισαριανή)\, κάθε Τετάρτη 18:30–20:30 | ☎️ 210 7245353 \nℹ️ Πληροφορίες: info@poymittou.gr ή στο messenger της ομάδας.
URL:https://poymittou.gr/event/%ce%ba%ce%bf%cf%80%ce%ae-%cf%80%cf%81%cf%89%cf%84%ce%bf%cf%87%cf%81%ce%bf%ce%bd%ce%b9%ce%ac%cf%84%ce%b9%ce%ba%ce%b7%cf%82-%cf%80%ce%af%cf%84%ce%b1%cf%82-2026/
LOCATION:Καπα.μι.\, Χαμοστέρνας 12 & Κειριαδών 160\, Athens\, 11853\, GR
CATEGORIES:Εκδηλώσεις ΠΟΥ
ATTACH;FMTTYPE=image/jpeg:https://poymittou.gr/wp-content/uploads/2026/01/2637_image_613680695_1467554008703604_3068919149361501167_n.jpg
END:VEVENT
END:VCALENDAR