BEGIN:VCALENDAR
VERSION:2.0
PRODID:-//Περιπατητική Ομάδα Υμηττού - ECPv6.15.20//NONSGML v1.0//EN
CALSCALE:GREGORIAN
METHOD:PUBLISH
X-WR-CALNAME:Περιπατητική Ομάδα Υμηττού
X-ORIGINAL-URL:https://poymittou.gr
X-WR-CALDESC:Events for Περιπατητική Ομάδα Υμηττού
REFRESH-INTERVAL;VALUE=DURATION:PT1H
X-Robots-Tag:noindex
X-PUBLISHED-TTL:PT1H
BEGIN:VTIMEZONE
TZID:Europe/Athens
BEGIN:DAYLIGHT
TZOFFSETFROM:+0200
TZOFFSETTO:+0300
TZNAME:EEST
DTSTART:20250330T010000
END:DAYLIGHT
BEGIN:STANDARD
TZOFFSETFROM:+0300
TZOFFSETTO:+0200
TZNAME:EET
DTSTART:20251026T010000
END:STANDARD
BEGIN:DAYLIGHT
TZOFFSETFROM:+0200
TZOFFSETTO:+0300
TZNAME:EEST
DTSTART:20260329T010000
END:DAYLIGHT
BEGIN:STANDARD
TZOFFSETFROM:+0300
TZOFFSETTO:+0200
TZNAME:EET
DTSTART:20261025T010000
END:STANDARD
BEGIN:DAYLIGHT
TZOFFSETFROM:+0200
TZOFFSETTO:+0300
TZNAME:EEST
DTSTART:20270328T010000
END:DAYLIGHT
BEGIN:STANDARD
TZOFFSETFROM:+0300
TZOFFSETTO:+0200
TZNAME:EET
DTSTART:20271031T010000
END:STANDARD
END:VTIMEZONE
BEGIN:VEVENT
DTSTART;TZID=Europe/Athens:20260322T070000
DTEND;TZID=Europe/Athens:20260322T070000
DTSTAMP:20260419T200318
CREATED:20260309T152653Z
LAST-MODIFIED:20260310T113820Z
UID:2694-1774162800-1774162800@poymittou.gr
SUMMARY:🏔️ Χελμός: Σόλος - Καστράκι - Βρύση Γκόλφως
DESCRIPTION:Η διαδρομή της Κυριακής 22/3/2026 είναι μία από τις πιο όμορφες και ιστορικές πεζοπορίες στον Χελμό. \nΗ διαδρομή ξεκινά από το ιστορικό χωριό Σόλο. Το πρώτο κομμάτι ανηφορίζει ομαλά μέσα σε δάσος από μαυρόπευκα και έλατα. Φτάνοντας στο Καστράκι\, με το μνημείο της ομώνυμης μάχης\, θα ξεκουραστούμε στον χώρο αναψυχής με παγκάκια και τραπέζια. Από ‘κει ξεκινάει και η διαδρομή για Ύδατα Στυγός.\nΗ θέα από εδώ προς την κοιλάδα του Κράθι ποταμού είναι εξαιρετική. \nΣυνεχίζοντας από μονοπάτι\, το τοπίο γίνεται πιο σκιερό. Μετά από περίπου μία ώρα πορείας\, θα φτάσουμε στη Βρύση της Γκόλφως. Το όνομα προέρχεται από το γνωστό βουκολικό δράμα\, καθώς εδώ γυρίστηκαν σκηνές της παλιάς ταινίας. Το νερό είναι κρύο και πόσιμο\, ό\,τι πρέπει για να γεμίσετε τα παγούρια σας. \nΕπιστροφή προς το χωριό Σόλος από δασικό δρόμο και προσέγγιση του ποταμού Κράθι και τον καταρράκτη του Μεσορουγίου (προαιρετικά) εφόσον οι συνθήκες το επιτρέπουν. Όσοι το επιχειρήσουν θα πρέπει να έχουν μαζί τους παπούτσια ποταμοδιάσχισης ή παλιά αθλητικά παπούτσια για να αλλάξουν. \nΣτοιχεία διαδρομής: \n\nΑπόσταση: περίπου 10 χλμ\nΔιάρκεια: ~4\,5 ώρες με τις στάσεις\nΥψομετρική διαφορά: +215 μ.\nΜέγ. υψόμετρο: 1.212 μ.\nΕλάχ. υψόμετρο: 1.032 μ.\nΒαθμός δυσκολίας: 1/5\n\nΤον Μάρτιο οι συνθήκες στο βουνό μπορούν να μεταβληθούν σημαντικά. Ο καιρός\, το υψόμετρο και η φυσική μας κατάσταση απαιτούν σωστή προετοιμασία. \nΘα ακολουθήσει φαγητό σε ταβέρνα της περιοχής (προαιρετικά). \n🎒 Εξοπλισμός \n🛑 Υποχρεωτικά Μποτάκια πεζοπορίας 🥾 \n✅ Προτείνεται να έχετε μαζί \n\nΡούχα κατάλληλα για το βουνό (layers)\nΑδιάβροχο / αντιανεμικό\nΝερό & σνακ 🍌\nΜπατόν πεζοπορίας 🦯\nΓκέτες\nΠροσωπικό φαρμακείο\nΧειμερινό μπουφάν\n\n📍 Σημεία συνάντησης\n1️⃣ Μετρό FIX – 07:00 π.μ.\n2️⃣ Καισαριανή – Πάρκινγκ γηπέδου Κρητικόπουλου – 07:15 π.μ.\nΠαρακαλούμε για συνέπεια ώστε να ξεκινήσουμε εγκαίρως ⏰ \n💶 Κόστος\n30€ για ενεργά μέλη ΠΟΥ\n35€ για μη μέλη\nΠεριλαμβάνονται: μεταφορά με πούλμαν\, ΦΠΑ\, διόδια\, έξοδα οδηγού. \n➤ Συμπληρώστε την φόρμα αν επιθυμείτε να μπείτε στην Λίστα αναμονής:\nhttps://forms.gle/tSQ6xvk563czSs648 \nή στα γραφεία της ομάδας: Οδεμησίου 12\, Καισαριανή – Τετάρτη 18:30–20:30\nΤηλ.: 210 7245353 \nΗ συμμετοχή κατοχυρώνεται μόνο με την καταβολή του ποσού. \nEUROBANK IBAN:  GR2202606400000820200214333\nΔικαιούχος: Περιπατητική Ομάδα Υμηττού\n⚠️ Τυχόν τραπεζικά έξοδα επιβαρύνουν τον καταθέτη. \n❗ Πολιτική ακυρώσεων & όροι συμμετοχής\nΑκυρώσεις έως 3 μέρες πριν (Τετάρτη βράδυ) δεν επιστρέφονται εφόσον δεν καλυφθεί η θέση.\nΟ αρχηγός της εκδρομής μπορεί να τροποποιήσει ή να ματαιώσει το πρόγραμμα πριν ή κατά τη διάρκεια για λόγους ασφάλειας ή ανωτέρας βίας.\nΜπορεί επίσης να αποκλείσει συμμετέχοντα λόγω ανεπαρκούς εξοπλισμού.\nΜε τη συμμετοχή σας αποδέχεστε τους κινδύνους της δραστηριότητας\, σύμφωνα με τη διακήρυξη του Τυρόλου (8/9/2003).\nΑπαιτείται άριστη σωματική & ψυχική υγεία και ενημέρωση του αρχηγού για τυχόν προβλήματα υγείας. \n📩 Επικοινωνία\nΜήνυμα μέσω inbox ή e-mail: info@poymittou.gr\nτηλ για τεχνικές πληροφορίες 6973026445 (Γιώργος Παπαμήτσος )\nτηλ. για κρατήσεις θέσεων 6944857273 (Σπυριδούλα Παλαιοκώστα)
URL:https://poymittou.gr/event/%cf%83%cf%8c%ce%bb%ce%bf%cf%82-%ce%ba%ce%b1%cf%83%cf%84%cf%81%ce%ac%ce%ba%ce%b9-%ce%b2%cf%81%cf%8d%cf%83%ce%b7-%ce%b3%ce%ba%cf%8c%ce%bb%cf%86%cf%89%cf%82/
LOCATION:Σόλος Αχαΐας
CATEGORIES:Εκδηλώσεις ΠΟΥ
ATTACH;FMTTYPE=image/png:https://poymittou.gr/wp-content/uploads/2026/03/Αντίγραφο-του-Χελμός.png
END:VEVENT
END:VCALENDAR